{"text_format":"1","workbook":"xlsx","n_sheets":7,"sheets":["Instructions","ADM","Allow SF","Current Capacity","Projected Capacity","Current ADM","Historical ADM by Area"],"not_rendered":{"charts":0,"images":2,"macros":1,"external_links":2,"defined_names":194,"comments":4,"pivot_tables":0},"unopened":[],"bounds":{"document_bytes":16777216,"sheet_cells":100000,"rows_first":2000,"rows_last":500,"rows_between":2000,"halvings":0,"cell_chars":16384,"cell_head_chars":4096},"cells_cut":0,"cells_raw":0,"read":"whole","date_system":"1900"}

{"sheet":"Instructions","index":0,"n_rows":23,"n_cols":2,"rows_kept":23,"cut":false,"hidden":false,"merged":[]}
["Instructions for DEED Allowable Space Calculation Workbook"]
["This workbook uses macros, for full functionality ensure that macros are enabled."]
["TAB: ADM"]
[0,"The \"ADM\" tab is used to select the school name and school type for a proposed project that is adding or replacing space in a district attendance area.  Once the school is selected, the historical average daily membership (ADM) of the school's associated attendance area is displayed and an average annual ADM change is calculated. This percent change is used to forecast the school ADM to a date \"five-years post-occupancy\" of a proposed project. The projected ADM enrollment is the basis of the eligible/allowable gross square footage (GSF). \n\nAlternative ADM projection methods besides this straight-line method are available, and may be preferable in cases of small enrollment numbers.\n"]
[1,"Select the desired School name from the pull down menu in cell C7;"]
[2,"Select the School Type from the pull down menu in cell C9 \nDefinitions: \n\"Elementary\" schools with a combination of grades K through 6\n\"Secondary\" schools with a combination of grades 7 through 12\n\"Secondary+6\" schools with grades 6 through 8 or higher \n\"Mixed Grade\" schools with combination of elementary and secondary (typically K-8)\n\"K-12\" schools with all grades K through 12"]
[3,"If desired, enter the district’s student population projections in cells C13 to J13 (elementary K-6) and/or C14 to J14 (secondary 7-12)."]
[4,"For districts with more than one High School in an attendance area, the number of students in cells C13 and C14 must be entered manually from Columns C (K-6) and D (7-12) in the “Current ADM” worksheet, and the existing square footage entered on the “Allow SF” worksheet in cell B9 must include all square footage for the appropriate School Type in the attendance area.  \nFor additional information contact DEED staff."]
["TAB: Allow SF"]
[0,"The \"Allow SF\" tab is used to document the existing gross square footage (GSF) associated with the school or the school type in an attendance area as denoted in the DEED School Facility Database: https://education.alaska.gov/facilities/SchoolFacilityReport/SearchforSchoolFac.cfm \nIf the district believes there to be an error in the data, please contact Facilities staff. \n\nThe tab compares the eligible GSF, based upon projected ADM, to the existing GSF, and calculates whether additional GSF is allowable.  Available allowances for water treatment/storage and exterior covered spaces are aso provided.\n"]
[1,"Enter the appropriate existing square footage into cell B9 on sheet “Allow SF”.  Square footage will be for the entire attendance area in the School Type identified in cell B5, including support facilities."]
[2,"Enter additional GSF data based on the proposed project: what existing GSF will remain; how much GSF is proposed to be added."]
["TAB: Current Capacity"]
[0,"The \"Current Capacity\" tab compares the existing DEED-designated GSF from \"Allow SF\" tab to the current ADM. "]
[1,"Run the macro \"Module2.ELEM\", or press the \"Calculate Capacity\" button, to see capacity and percentages.  If any numbers change in the \"ADM\" or \"Allow SF\" tabs, this macro must be re-run."]
["TAB: Projected Capacity"]
[0,"The \"Projected Capacity\" tab compares the existing DEED-designated GSF from \"Allow SF\" tab to the projected ADM. "]
[1,"Run the macro \"Module2.ELEM\", or press the \"Calculate Capacity\" button, to see capacity and percentages.  If any numbers change in the \"ADM\" or \"Allow SF\" tabs, this macro must be re-run."]
["TAB: Current ADM"]
[0,"The \"Current ADM\" tab provides ADM data by school, and lists each school's attendance area.  This information may be used for manually updating the \"ADM\" cells B13 and/or B14 for attendance areas with more than one school in a school type."]
["TAB: Historical ADM by Area"]
[0,"The \"Historical ADM by Area\" provides data used to calculate the average annual ADM change of an attendance area in the \"ADM\" tab. "]
["end of instructions"]

{"sheet":"ADM","index":1,"n_rows":481,"n_cols":18,"rows_kept":481,"cut":false,"hidden":false,"merged":[[6,1,6,9],[1,1,1,9],[2,1,2,9],[3,1,3,9],[4,1,4,9],[5,1,5,9]]}
["ADM Projection Comparison\nTo start: select School in cell B4, then select School Enrollment Type in B6 \nDistrict can provide alternative ADM projections in B13 to J14"]
["ADM Year:",2025]
["School District:",{"$f":"VLOOKUP(NAME,'Current ADM'!$B$3:$L$574,11,FALSE)","v":{"$error":"#N/A"}}]
["School Name:"]
["Project Number:","27-xxx"]
["School Type:","K-12"]
["Attendance Area:",{"$f":"VLOOKUP(NAME,'Current ADM'!$B$3:$F$574,5,FALSE)","v":{"$error":"#N/A"}}]
["Historical Attendance Area ADM by Fiscal Year"]
["Fiscal Year",{"$f":"B2-8","v":2017},{"$f":"B9+1","v":2018},{"$f":"C9+1","v":2019},2020,2021,2022,2023,2024,{"$f":"I9+1","v":2025},"Average \nAnnual ADM \nChange","Overall \nADM \nGrowth"]
["Attendance Area Total ADM",{"$f":"IF($B$7=\"community\",\" \",VLOOKUP($B$7,'Historical ADM by Area'!$C$3:$AS$366,28,FALSE))","v":{"$error":"#N/A"}},{"$f":"IF($B$7=\"community\",\" \",VLOOKUP($B$7,'Historical ADM by Area'!$C$3:$AS$366,29,FALSE))","v":{"$error":"#N/A"}},{"$f":"IF($B$7=\"community\",\" \",VLOOKUP($B$7,'Historical ADM by Area'!$C$3:$AS$366,30,FALSE))","v":{"$error":"#N/A"}},{"$f":"IF($B$7=\"community\",\" \",VLOOKUP($B$7,'Historical ADM by Area'!$C$3:$AS$366,31,FALSE))","v":{"$error":"#N/A"}},{"$f":"IF($B$7=\"community\",\" \",VLOOKUP($B$7,'Historical ADM by Area'!$C$3:$AS$366,32,FALSE))","v":{"$error":"#N/A"}},{"$f":"IF($B$7=\"community\",\" \",VLOOKUP($B$7,'Historical ADM by Area'!$C$3:$AS$366,33,FALSE))","v":{"$error":"#N/A"}},{"$f":"IF($B$7=\"community\",\" \",VLOOKUP($B$7,'Historical ADM by Area'!$C$3:$AS$366,34,FALSE))","v":{"$error":"#N/A"}},{"$f":"IF($B$7=\"community\",\" \",VLOOKUP($B$7,'Historical ADM by Area'!$C$3:$AS$366,35,FALSE))","v":{"$error":"#N/A"}},{"$f":"IF($B$7=\"community\",\" \",VLOOKUP($B$7,'Historical ADM by Area'!$C$3:$AS$366,36,FALSE))","v":{"$error":"#N/A"}},{"$f":"IF(B7=\"community\",\" \",(((C10-B10)/B10+(D10-C10)/C10+(E10-D10)/D10+(F10-E10)/E10+(G10-F10)/F10+(H10-G10)/G10+(I10-H10)/H10+(J10-I10)/I10))/8)","v":{"$error":"#N/A"}},{"$f":"IF(B7=\"community\",\" \",(J10-B10)/B10)","v":{"$error":"#N/A"}}]
["Future School ADM Projections by School Year"]
["Projection Type","Current School Year ADM",{"$f":"VLOOKUP(J9,$O$23:$P$116,2)","v":"2025-2026"},{"$f":"VLOOKUP(J9+1,$O$23:$P$116,2)","v":"2026-2027"},{"$f":"VLOOKUP(J9+2,$O$23:$P$116,2)","v":"2027-2028"},{"$f":"VLOOKUP(J9+3,$O$23:$P$116,2)","v":"2028-2029"},{"$f":"VLOOKUP(J9+4,$O$23:$P$116,2)","v":"2029-2030"},{"$f":"VLOOKUP(J9+5,$O$23:$P$116,2)","v":"2030-2031"},{"$f":"VLOOKUP(J9+6,$O$23:$P$116,2)","v":"2031-2032"},{"$f":"VLOOKUP(J9+7,$O$23:$P$116,2)","v":"2032-2033"},"Average \nAnnual ADM \nChange","Overall \nADM \nGrowth"]
["District's K-6 Projection",{"$f":"ELEM","v":{"$error":"#N/A"}},{"$f":"IF(FCrate>0,ELEM+(ELEM*FCrate),ELEM)","v":{"$error":"#N/A"}},{"$f":"IF(FCrate>0,C13+C13*FCrate,C13)","v":{"$error":"#N/A"}},{"$f":"IF(FCrate>0,D13+D13*FCrate,D13)","v":{"$error":"#N/A"}},{"$error":"#N/A"},{"$f":"IF(FCrate>0,F13+F13*FCrate,F13)","v":{"$error":"#N/A"}},{"$error":"#N/A"},{"$error":"#N/A"},{"$f":"IF(FCrate>0,I13+I13*FCrate,I13)","v":{"$error":"#N/A"}},{"$f":"IF(ELEM=0, \" \",(((C13-ELEM)/ELEM+(D13-C13)/C13+(E13-D13)/D13+(F13-E13)/E13+(G13-F13)/F13+(H13-G13)/G13+(I13-H13)/H13+(J13-I13)/I13))/8)","v":{"$error":"#N/A"}},{"$f":"IF(ELEM=0, \" \", (J13-ELEM)/ELEM)","v":{"$error":"#N/A"}}]
["District's 7-12 Projection",{"$f":"SEC","v":{"$error":"#N/A"}},{"$f":"IF(FCrate>0,SEC+(SEC*FCrate),SEC)","v":{"$error":"#N/A"}},{"$error":"#N/A"},{"$error":"#N/A"},{"$error":"#N/A"},{"$error":"#N/A"},{"$error":"#N/A"},{"$error":"#N/A"},{"$error":"#N/A"},{"$f":"IF(SEC=0, \" \",(((C14-SEC)/SEC+(D14-C14)/C14+(E14-D14)/D14+(F14-E14)/E14+(G14-F14)/F14+(H14-G14)/G14+(I14-H14)/H14+(J14-I14)/I14))/8)","v":{"$error":"#N/A"}},{"$f":"IF(SEC=0, \" \",(J14-SEC)/SEC)","v":{"$error":"#N/A"}}]
["DEED's K-6 Projection",{"$f":"VLOOKUP(NAME,'Current ADM'!$B$3:$F$574,2,FALSE)","v":{"$error":"#N/A"}},{"$f":"IF(ELEM=0, \" \", ELEM*(1+doek6))","v":{"$error":"#N/A"}},{"$f":"IF(ELEM=0, \" \", C15*(1+doek6))","v":{"$error":"#N/A"}},{"$error":"#N/A"},{"$f":"IF(ELEM=0, \" \", E15*(1+doek6))","v":{"$error":"#N/A"}},{"$error":"#N/A"},{"$error":"#N/A"},{"$error":"#N/A"},{"$error":"#N/A"},{"$f":"IF(ELEM=0, \" \", IF(_sdk6>=FCrate, IF(AVERAGE(_sdk6,FCrate)<0,0,AVERAGE(_sdk6,FCrate)), IF(FCrate<0, 0, _sdk6)))","v":{"$error":"#N/A"}},{"$f":"IF(ELEM=0, \" \", (J15-ELEM)/ELEM)","v":{"$error":"#N/A"}}]
["DEED's 7-12 Projection ",{"$f":"VLOOKUP(NAME,'Current ADM'!$B$3:$F$574,3,FALSE)","v":{"$error":"#N/A"}},{"$f":"IF(SEC=0,\" \", SEC*(1+_doe712))","v":{"$error":"#N/A"}},{"$f":"IF(SEC=0,\" \", C16*(1+_doe712))","v":{"$error":"#N/A"}},{"$error":"#N/A"},{"$error":"#N/A"},{"$error":"#N/A"},{"$error":"#N/A"},{"$error":"#N/A"},{"$error":"#N/A"},{"$f":"IF(SEC=0, \" \",IF(_sd712>=FCrate, IF(AVERAGE(_sd712,FCrate)<0,0,AVERAGE(_sd712,FCrate)), IF(FCrate<0, 0, _sd712)))","v":{"$error":"#N/A"}},{"$f":"IF(SEC=0, \" \", (J16-SEC)/SEC)","v":{"$error":"#N/A"}}]
["Note:  If District projection numbers match DEED projection, numbers were not provided by the school district.",null,null,null,null,null,null,null,null,null,null,"end of sheet"]
[]
[]
[]
[]
[]
[null,null,null,null,null,null,null,null,null,null,null,null,null,"Academy Charter School",2006,"2006-2007",null,"Elementary"]
[null,null,null,null,null,null,null,null,null,null,null,null,null,"Adak School",2007,"2007-2008",null,"Secondary"]
[null,null,null,null,null,null,null,null,null,null,null,null,null,"Akhiok School",2008,"2008-2009",null,"Secondary+6"]
[null,null,null,null,null,null,null,null,null,null,null,null,null,"Akiachak School",2009,"2009-2010",null,"Mixed Grade"]
[null,null,null,null,null,null,null,null,null,null,null,null,null,"Akiak School",2010,"2010-2011",null,"K-12"]
[null,null,null,null,null,null,null,null,null,null,null,null,null,"Akiuk Memorial School (Kasigluk)",2011,"2011-2012"]
[null,null,null,null,null,null,null,null,null,null,null,null,null,"Akula Elitnauvik School (Kasigluk)",2012,"2012-2013"]
[null,null,null,null,null,null,null,null,null,null,null,null,null,"Akutan School",2013,"2013-2014"]
[null,null,null,null,null,null,null,null,null,null,null,null,null,"Alak School",2014,"2014-2015"]
[null,null,null,null,null,null,null,null,null,null,null,null,null,"Alakanuk School",2015,"2015-2016"]
[null,null,null,null,null,null,null,null,null,null,null,null,null,"Alaska Native Cultural Charter School"]
[null,null,null,null,null,null,null,null,null,null,null,null,null,"Aleknagik North School",2016,"2016-2017"]
[null,null,null,null,null,null,null,null,null,null,null,null,null,"Allakaket School",2017,"2017-2018"]
[null,null,null,null,null,null,null,null,null,null,null,null,null,"Ambler School",2018,"2018-2019"]
[null,null,null,null,null,null,null,null,null,null,null,null,null,"Anderson Crawford Elementary School",2019,"2019-2020"]
[null,null,null,null,null,null,null,null,null,null,null,null,null,"Andrew K. Demoski School (Nulato)",2020,"2020-2021"]
[null,null,null,null,null,null,null,null,null,null,null,null,null,"Angoon School",2021,"2021-2022"]
[null,null,null,null,null,null,null,null,null,null,null,null,null,"Aniak Jr/Sr High School",2022,"2022-2023"]
[null,null,null,null,null,null,null,null,null,null,null,null,null,"Aniguiin School (Elim)",2023,"2023-2024"]
[null,null,null,null,null,null,null,null,null,null,null,null,null,"Anna Tobeluk Memorial School (Nunapitchuk)",2024,"2024-2025"]
[null,null,null,null,null,null,null,null,null,null,null,null,null,"Anne Wien Elementary School",2025,"2025-2026"]
[null,null,null,null,null,null,null,null,null,null,null,null,null,"Anthony A. Andrews School (St. Michael)",2026,"2026-2027"]
[null,null,null,null,null,null,null,null,null,null,null,null,null,"Anvil City Science Academy",2027,"2027-2028"]
[null,null,null,null,null,null,null,null,null,null,null,null,null,"Aqqaluk School",2028,"2028-2029"]
[null,null,null,null,null,null,null,null,null,null,null,null,null,"Aquarian Charter (K-6)",2029,"2029-2030"]
[null,null,null,null,null,null,null,null,null,null,null,null,null,"Arctic Light Elementary School",2030,"2030-2031"]
[null,null,null,null,null,null,null,null,null,null,null,null,null,"Arctic Village School",2031,"2031-2032"]
[null,null,null,null,null,null,null,null,null,null,null,null,null,"Auke Bay Elementary School",2032,"2032-2033"]
[null,null,null,null,null,null,null,null,null,null,null,null,null,"Auntie Mary Nicoli Elementary (Aniak)",2033,"2033-2034"]
[null,null,null,null,null,null,null,null,null,null,null,null,null,"Aurora Borealis Charter (Soldotna)",2034,"2034-2035"]
[null,null,null,null,null,null,null,null,null,null,null,null,null,"Ayagina'ar Elitnaurvik School (Kongiganak)",2035,"2035-2036"]
[null,null,null,null,null,null,null,null,null,null,null,null,null,null,2036,"2036-2037"]
[null,null,null,null,null,null,null,null,null,null,null,null,null,null,2037,"2037-2038"]
[null,null,null,null,null,null,null,null,null,null,null,null,null,"Barnette Elementary School",2038,"2038-2039"]
[null,null,null,null,null,null,null,null,null,null,null,null,null,"Barrow High School (Barrow)",2039,"2039-2040"]
[null,null,null,null,null,null,null,null,null,null,null,null,null,"Barry Craig Stewart Kasaan School",2040,"2040-2041"]
[null,null,null,null,null,null,null,null,null,null,null,null,null,"Beaver \"Cruikshank\" School",2041,"2041-2042"]
[null,null,null,null,null,null,null,null,null,null,null,null,null,"Benny Benson Alternative High School (7-12)",2042,"2042-2043"]
[null,null,null,null,null,null,null,null,null,null,null,null,null,"Beryozova School",2043,"2043-2044"]
[null,null,null,null,null,null,null,null,null,null,null,null,null,"Bethel Regional High School",2044,"2044-2045"]
[null,null,null,null,null,null,null,null,null,null,null,null,null,"Big Lake Elementary",2045,"2045-2046"]
[null,null,null,null,null,null,null,null,null,null,null,null,null,"Blackwell School (Anvik)",2046,"2046-2047"]
[null,null,null,null,null,null,null,null,null,null,null,null,null,"Blatchely Middle School",2047,"2047-2048"]
[null,null,null,null,null,null,null,null,null,null,null,null,null,"Brevig Mission School",2048,"2048-2049"]
[null,null,null,null,null,null,null,null,null,null,null,null,null,"Bristol Bay School",2049,"2049-2050"]
[null,null,null,null,null,null,null,null,null,null,null,null,null,"Buckland School",2050,"2050-2051"]
[null,null,null,null,null,null,null,null,null,null,null,null,null,"Burchell Alternative High School",2051,"2051-2052"]
[null,null,null,null,null,null,null,null,null,null,null,null,null,"Butte School",2052,"2052-2053"]
[null,null,null,null,null,null,null,null,null,null,null,null,null,null,2053,"2053-2054"]
[null,null,null,null,null,null,null,null,null,null,null,null,null,"Cantwell School",2054,"2054-2055"]
[null,null,null,null,null,null,null,null,null,null,null,null,null,"Chapman School (Anchor Point)",2055,"2055-2056"]
[null,null,null,null,null,null,null,null,null,null,null,null,null,"Chaputnguak School (Chefornak)",2056,"2056-2057"]
[null,null,null,null,null,null,null,null,null,null,null,null,null,"Chenega Bay School",2057,"2057-2058"]
[null,null,null,null,null,null,null,null,null,null,null,null,null,"Chevak School",2058,"2058-2059"]
[null,null,null,null,null,null,null,null,null,null,null,null,null,"Chief Ivan Blunka (New Stuyahok)",2059,"2059-2060"]
[null,null,null,null,null,null,null,null,null,null,null,null,null,"Chief Paul Memorial  (Kipnuk)",2060,"2060-2061"]
[null,null,null,null,null,null,null,null,null,null,null,null,null,"Chignik Lagoon School",2061,"2061-2062"]
[null,null,null,null,null,null,null,null,null,null,null,null,null,"Chignik Lake School",2062,"2062-2063"]
[null,null,null,null,null,null,null,null,null,null,null,null,null,"Chiniak School",2063,"2063-2064"]
[null,null,null,null,null,null,null,null,null,null,null,null,null,"C Alaska Native Charter School (PK-8)",2065,"2065-2066"]
[null,null,null,null,null,null,null,null,null,null,null,null,null,"Clarks Point School",2066,"2066-2067"]
[null,null,null,null,null,null,null,null,null,null,null,null,null,"Colony High School",2067,"2067-2068"]
[null,null,null,null,null,null,null,null,null,null,null,null,null,"Colony Middle School",2068,"2068-2069"]
[null,null,null,null,null,null,null,null,null,null,null,null,null,"Cooper Landing School (K-12)",2069,"2069-2070"]
[null,null,null,null,null,null,null,null,null,null,null,null,null,"Cordova High School [Jr/Sr HS]",2070,"2070-2071"]
[null,null,null,null,null,null,null,null,null,null,null,null,null,"Cottonwood Creek",2071,"2071-2072"]
[null,null,null,null,null,null,null,null,null,null,null,null,null,"Craig Elementary",2072,"2072-2073"]
[null,null,null,null,null,null,null,null,null,null,null,null,null,"Craig High School",2073,"2073-2074"]
[null,null,null,null,null,null,null,null,null,null,null,null,null,"Craig Middle School",2074,"2074-2075"]
[null,null,null,null,null,null,null,null,null,null,null,null,null,"Crow Village Sam School (Chuathbaluk)",2075,"2075-2076"]
[null,null,null,null,null,null,null,null,null,null,null,null,null,null,2076,"2076-2077"]
[null,null,null,null,null,null,null,null,null,null,null,null,null,"David-Louis Memorial School (Grayling)",2077,"2077-2078"]
[null,null,null,null,null,null,null,null,null,null,null,null,null,"Davis-Ramoth Memorial (Selawik)",2078,"2078-2079"]
[null,null,null,null,null,null,null,null,null,null,null,null,null,"Deering School",2079,"2079-2080"]
[null,null,null,null,null,null,null,null,null,null,null,null,null,"Delta Junction Elementary School (K-5)",2080,"2080-2081"]
[null,null,null,null,null,null,null,null,null,null,null,null,null,"Delta Junction Jr High School (6-8)",2081,"2081-2082"]
[null,null,null,null,null,null,null,null,null,null,null,null,null,"Delta Junction Sr High School (9-12)",2082,"2082-2083"]
[null,null,null,null,null,null,null,null,null,null,null,null,null,"Dena'ina Elementary ",2083,"2083-2084"]
[null,null,null,null,null,null,null,null,null,null,null,null,null,"Denali Elementary School",2084,"2084-2085"]
[null,null,null,null,null,null,null,null,null,null,null,null,null,"Dillingham Elementary",2085,"2085-2086"]
[null,null,null,null,null,null,null,null,null,null,null,null,null,"Dillingham Middle & High School",2086,"2086-2087"]
[null,null,null,null,null,null,null,null,null,null,null,null,null,"Diomede School",2087,"2087-2088"]
[null,null,null,null,null,null,null,null,null,null,null,null,null,"Dot Lake School",2088,"2088-2089"]
[null,null,null,null,null,null,null,null,null,null,null,null,null,null,2089,"2089-2090"]
[null,null,null,null,null,null,null,null,null,null,null,null,null,"Eagle Community School",2090,"2090-2091"]
[null,null,null,null,null,null,null,null,null,null,null,null,null,"East Elementary School (Kodiak)",2091,"2091-2092"]
[null,null,null,null,null,null,null,null,null,null,null,null,null,"Eben Hopson Middle (Barrow)",2092,"2092-2093"]
[null,null,null,null,null,null,null,null,null,null,null,null,null,"Eek School",2093,"2093-2094"]
[null,null,null,null,null,null,null,null,null,null,null,null,null,"Effie Kokrine Charter School",2094,"2094-2095"]
[null,null,null,null,null,null,null,null,null,null,null,null,null,"Ella B. Vernetti (Koyukuk)",2095,"2095-2096"]
[null,null,null,null,null,null,null,null,null,null,null,null,null,"Emmonak School",2096,"2096-2097"]
[null,null,null,null,null,null,null,null,null,null,null,null,null,"Earla Hutchison School",2097,"2097-2098"]
[null,null,null,null,null,null,null,null,null,null,null,null,null,null,2098,"2098-2099"]
[null,null,null,null,null,null,null,null,null,null,null,null,null,"False Pass School",2099,"2099-2100"]
[null,null,null,null,null,null,null,null,null,null,null,null,null,"Fawn Mountain Elementary"]
[null,null,null,null,null,null,null,null,null,null,null,null,null,"Finger Lake School"]
[null,null,null,null,null,null,null,null,null,null,null,null,null,"Fireweed Academy Charter (Homer)",2068,"2068-2069"]
[null,null,null,null,null,null,null,null,null,null,null,null,null,"Fort Yukon School"]
[null,null,null,null,null,null,null,null,null,null,null,null,null,"Fred & Sara Machetanz Elementary [K-5]"]
[null,null,null,null,null,null,null,null,null,null,null,null,null,"Fred Ipalook (Barrow)"]
[]
[null,null,null,null,null,null,null,null,null,null,null,null,null,"Galena Interior Learning Academy"]
[null,null,null,null,null,null,null,null,null,null,null,null,null,"Gambell School"]
[null,null,null,null,null,null,null,null,null,null,null,null,null,"George H. Gilson Jr. High"]
[null,null,null,null,null,null,null,null,null,null,null,null,null,"George Morgan Jr/Sr. High School (Kalskag)"]
[null,null,null,null,null,null,null,null,null,null,null,null,null,"Gerstle River School"]
[null,null,null,null,null,null,null,null,null,null,null,null,null,"Glacier View School"]
[null,null,null,null,null,null,null,null,null,null,null,null,null,"Gladys Dart School (Manley Hot Springs)"]
[null,null,null,null,null,null,null,null,null,null,null,null,null,"Gladys Jung Elementary (Bethel)"]
[null,null,null,null,null,null,null,null,null,null,null,null,null,"Glennallen School [Jr/Sr HS]"]
[null,null,null,null,null,null,null,null,null,null,null,null,null,"Glennallen School K-6"]
[null,null,null,null,null,null,null,null,null,null,null,null,null,"Golovin School (Martin L. Olson)"]
[null,null,null,null,null,null,null,null,null,null,null,null,null,"Goose Bay K-2"]
[null,null,null,null,null,null,null,null,null,null,null,null,null,"Gustavus School"]
[null,null,null,null,null,null,null,null,null,null,null,null,null,"Gusty Michael School (Stony River)"]
[]
[null,null,null,null,null,null,null,null,null,null,null,null,null,"Haines Elementary School K-8"]
[null,null,null,null,null,null,null,null,null,null,null,null,null,"Haines High School"]
[null,null,null,null,null,null,null,null,null,null,null,null,null,"Harborview Elementary School"]
[null,null,null,null,null,null,null,null,null,null,null,null,null,"Harold Kaveolook School (Kaktovik)"]
[null,null,null,null,null,null,null,null,null,null,null,null,null,"Hermon Hutchens Elementary"]
[null,null,null,null,null,null,null,null,null,null,null,null,null,"Hollis School"]
[null,null,null,null,null,null,null,null,null,null,null,null,null,"Homer Flex"]
[null,null,null,null,null,null,null,null,null,null,null,null,null,"Homer High School"]
[null,null,null,null,null,null,null,null,null,null,null,null,null,"Homer Middle School"]
[null,null,null,null,null,null,null,null,null,null,null,null,null,"Hoonah City School"]
[null,null,null,null,null,null,null,null,null,null,null,null,null,"Hooper Bay School"]
[null,null,null,null,null,null,null,null,null,null,null,null,null,"Hooper Bay Charter School"]
[null,null,null,null,null,null,null,null,null,null,null,null,null,"Hope School"]
[null,null,null,null,null,null,null,null,null,null,null,null,null,"Houghtaling Elementary School"]
[null,null,null,null,null,null,null,null,null,null,null,null,null,"Houston High School"]
[null,null,null,null,null,null,null,null,null,null,null,null,null,"Houston Middle School"]
[null,null,null,null,null,null,null,null,null,null,null,null,null,"Howard Valentine Coffman Cove School"]
[null,null,null,null,null,null,null,null,null,null,null,null,null,"Hunter Elementary School"]
[null,null,null,null,null,null,null,null,null,null,null,null,null,"Hutchison High School"]
[null,null,null,null,null,null,null,null,null,null,null,null,null,"Hydaburg School"]
[]
[null,null,null,null,null,null,null,null,null,null,null,null,null,"Iditarod School"]
[null,null,null,null,null,null,null,null,null,null,null,null,null,"Igugig School"]
[null,null,null,null,null,null,null,null,null,null,null,null,null,"Innoko River School (Shageluk)"]
[]
[null,null,null,null,null,null,null,null,null,null,null,null,null,"Jack Egnaty Sr. School  (Sleetmute)"]
[null,null,null,null,null,null,null,null,null,null,null,null,null,"James C. Isabell School (Teller)"]
[null,null,null,null,null,null,null,null,null,null,null,null,null,"Jeffery A. Bader Memorial School (Holy Cross)"]
[null,null,null,null,null,null,null,null,null,null,null,null,null,"Jimmy Huntington School (Huslia)"]
[null,null,null,null,null,null,null,null,null,null,null,null,null,"Joann A. Alexie Memorial School (Atmautlak)"]
[null,null,null,null,null,null,null,null,null,null,null,null,null,"Joe Redington Senior Jr/Sr High School "]
[null,null,null,null,null,null,null,null,null,null,null,null,null,"John Shaw Elementary"]
[null,null,null,null,null,null,null,null,null,null,null,null,null,"Johnnie John Sr School (Crooked Creek)"]
[null,null,null,null,null,null,null,null,null,null,null,null,null,"Johnny Oldman School (Hughes)"]
[null,null,null,null,null,null,null,null,null,null,null,null,null,"Joseph & Olinga Gregory School (Kalskag)"]
[null,null,null,null,null,null,null,null,null,null,null,null,null,"June Nelson Elementary School (Kotzebue) "]
[null,null,null,null,null,null,null,null,null,null,null,null,null,"Juneau Community Charter School"]
[null,null,null,null,null,null,null,null,null,null,null,null,null,"Juneau Douglas High School"]
[]
[null,null,null,null,null,null,null,null,null,null,null,null,null,"K-6 Airport Heights Elementary"]
[null,null,null,null,null,null,null,null,null,null,null,null,null,"K-6 Alpenglow Elementary"]
[null,null,null,null,null,null,null,null,null,null,null,null,null,"K-6 Aurora Elementary"]
[null,null,null,null,null,null,null,null,null,null,null,null,null,"K-6 Baxter Elementary"]
[null,null,null,null,null,null,null,null,null,null,null,null,null,"K-6 Bayshore Elementary"]
[null,null,null,null,null,null,null,null,null,null,null,null,null,"K-6 Bear Valley Elementary"]
[null,null,null,null,null,null,null,null,null,null,null,null,null,"K-6 Birchwood ABC "]
[null,null,null,null,null,null,null,null,null,null,null,null,null,"K-6 Bowman Elementary"]
[null,null,null,null,null,null,null,null,null,null,null,null,null,"K-6 Campbell Elementary"]
[null,null,null,null,null,null,null,null,null,null,null,null,null,"K-6 Chester Valley Elementary (K-5)"]
[null,null,null,null,null,null,null,null,null,null,null,null,null,"K-6 Chinook Elementary"]
[null,null,null,null,null,null,null,null,null,null,null,null,null,"K-6 Chugach Optional Elementary"]
[null,null,null,null,null,null,null,null,null,null,null,null,null,"K-6 Chugiak Elementary (K-5)"]
[null,null,null,null,null,null,null,null,null,null,null,null,null,"K-6 College Gate Elementary"]
[null,null,null,null,null,null,null,null,null,null,null,null,null,"K-6 Creekside Park (K-5)"]
[null,null,null,null,null,null,null,null,null,null,null,null,null,"K-6 Denali Elementary"]
[null,null,null,null,null,null,null,null,null,null,null,null,null,"K-6 Dr. Etheldra Davis - Fairview Elementary"]
[null,null,null,null,null,null,null,null,null,null,null,null,null,"K-6 Eagle River Elementary"]
[null,null,null,null,null,null,null,null,null,null,null,null,null,"K-6 Fire Lake Elementary (K-5)"]
[null,null,null,null,null,null,null,null,null,null,null,null,null,"K-6 Girdwood School (K-8)"]
[null,null,null,null,null,null,null,null,null,null,null,null,null,"K-6 Gladys Wood Elementary"]
[null,null,null,null,null,null,null,null,null,null,null,null,null,"K-6 Government Hill Elementary"]
[null,null,null,null,null,null,null,null,null,null,null,null,null,"K-6 Homestead Elementary"]
[null,null,null,null,null,null,null,null,null,null,null,null,null,"K-6 Huffman Elementary"]
[null,null,null,null,null,null,null,null,null,null,null,null,null,"K-6 Inlet View Elementary"]
[null,null,null,null,null,null,null,null,null,null,null,null,null,"K-6 Kasuun Elementary"]
[null,null,null,null,null,null,null,null,null,null,null,null,null,"K-6 Kincaid Elementary"]
[null,null,null,null,null,null,null,null,null,null,null,null,null,"K-6 Klatt  Elementary"]
[null,null,null,null,null,null,null,null,null,null,null,null,null,"K-6 Lake Hood Elementary"]
[null,null,null,null,null,null,null,null,null,null,null,null,null,"K-6 Lake Otis Elementary"]
[null,null,null,null,null,null,null,null,null,null,null,null,null,"K-6 Mountain View Elementary"]
[null,null,null,null,null,null,null,null,null,null,null,null,null,"K-6 Muldoon Elementary (K-5)"]
[null,null,null,null,null,null,null,null,null,null,null,null,null,"K-6 North Star Elementary"]
[null,null,null,null,null,null,null,null,null,null,null,null,null,"K-6 Northwood Elementary"]
[null,null,null,null,null,null,null,null,null,null,null,null,null,"K-6 Nunaka Valley Elementary"]
[null,null,null,null,null,null,null,null,null,null,null,null,null,"K-6 Ocean View Elementary"]
[null,null,null,null,null,null,null,null,null,null,null,null,null,"K-6 O'Malley Elementary"]
[null,null,null,null,null,null,null,null,null,null,null,null,null,"K-6 Orion Elementary"]
[null,null,null,null,null,null,null,null,null,null,null,null,null,"K-6 Ptarmigan Elementary"]
[null,null,null,null,null,null,null,null,null,null,null,null,null,"K-6 Rabbit Creek Elementary"]
[null,null,null,null,null,null,null,null,null,null,null,null,null,"K-6 Ravenwood Elementary"]
[null,null,null,null,null,null,null,null,null,null,null,null,null,"K-6 Rogers Park Elementary"]
[null,null,null,null,null,null,null,null,null,null,null,null,null,"K-6 Russian Jack Elementary"]
[null,null,null,null,null,null,null,null,null,null,null,null,null,"K-6 Sand Lake Elementary"]
[null,null,null,null,null,null,null,null,null,null,null,null,null,"K-6 Scenic Park Elementary (K-5)"]
[null,null,null,null,null,null,null,null,null,null,null,null,null,"K-6 Spring Hill Elementary"]
[null,null,null,null,null,null,null,null,null,null,null,null,null,"K-6 Susitna Elementary "]
[null,null,null,null,null,null,null,null,null,null,null,null,null,"K-6 Taku Elementary"]
[null,null,null,null,null,null,null,null,null,null,null,null,null,"K-6 Trailside Elementary "]
[null,null,null,null,null,null,null,null,null,null,null,null,null,"K-6 Tudor Elementary"]
[null,null,null,null,null,null,null,null,null,null,null,null,null,"K-6 Turnagain Elementary"]
[null,null,null,null,null,null,null,null,null,null,null,null,null,"K-6 Ursa Major Elementary"]
[null,null,null,null,null,null,null,null,null,null,null,null,null,"K-6 Ursa Minor Elementary"]
[null,null,null,null,null,null,null,null,null,null,null,null,null,"K-6 William Tyson Elementary"]
[null,null,null,null,null,null,null,null,null,null,null,null,null,"K-6 Williwaw Elementary"]
[null,null,null,null,null,null,null,null,null,null,null,null,null,"K-6 Willow Crest Elementary"]
[null,null,null,null,null,null,null,null,null,null,null,null,null,"K-6 Wonder Park Elementary"]
[null,null,null,null,null,null,null,null,null,null,null,null,null,"K-8 Northern Lights ABC Elementary"]
[null,null,null,null,null,null,null,null,null,null,null,null,null,"Kachemak Selo School (Kachemak)"]
[null,null,null,null,null,null,null,null,null,null,null,null,null,"Kake Elementary & High School"]
[null,null,null,null,null,null,null,null,null,null,null,null,null,"Kaleidoscope Charter School"]
[null,null,null,null,null,null,null,null,null,null,null,null,null,"Kali School (Point Lay)"]
[null,null,null,null,null,null,null,null,null,null,null,null,null,"Kalifornsky Beach Elementary (Soldotna)"]
[null,null,null,null,null,null,null,null,null,null,null,null,null,"Kaltag School"]
[null,null,null,null,null,null,null,null,null,null,null,null,null,"Kax̱digoowu Héen Elementary School"]
[null,null,null,null,null,null,null,null,null,null,null,null,null,"Keet Gooshi Heen Elementary School"]
[null,null,null,null,null,null,null,null,null,null,null,null,null,"Kenai Alternative School"]
[null,null,null,null,null,null,null,null,null,null,null,null,null,"Kenai Central High School"]
[null,null,null,null,null,null,null,null,null,null,null,null,null,"Kenai Middle School"]
[null,null,null,null,null,null,null,null,null,null,null,null,null,"Kenny Lake School"]
[null,null,null,null,null,null,null,null,null,null,null,null,null,"Ket'acik/Aapalluk Memorial School (Kwethluk)"]
[null,null,null,null,null,null,null,null,null,null,null,null,null,"Ketchikan Charter School"]
[null,null,null,null,null,null,null,null,null,null,null,null,null,"Ketchikan High School"]
[null,null,null,null,null,null,null,null,null,null,null,null,null,"Kiana School"]
[null,null,null,null,null,null,null,null,null,null,null,null,null,"Kiita Learning Community"]
[null,null,null,null,null,null,null,null,null,null,null,null,null,"King Cove School"]
[null,null,null,null,null,null,null,null,null,null,null,null,null,"Kisimġiugtuq School (Kivalina)"]
[null,null,null,null,null,null,null,null,null,null,null,null,null,"Klawock School"]
[null,null,null,null,null,null,null,null,null,null,null,null,null,"Klukwan School"]
[null,null,null,null,null,null,null,null,null,null,null,null,null,"Knik Elementary"]
[null,null,null,null,null,null,null,null,null,null,null,null,null,"Kobuk School K-12 "]
[null,null,null,null,null,null,null,null,null,null,null,null,null,"Kodiak High School"]
[null,null,null,null,null,null,null,null,null,null,null,null,null,"Kodiak Middle School"]
[null,null,null,null,null,null,null,null,null,null,null,null,null,"Kokhanok School"]
[null,null,null,null,null,null,null,null,null,null,null,null,null,"Koliganek School"]
[null,null,null,null,null,null,null,null,null,null,null,null,null,"Kotlik School"]
[null,null,null,null,null,null,null,null,null,null,null,null,null,"Kotzebue Middle/High School"]
[null,null,null,null,null,null,null,null,null,null,null,null,null,"Koyuk Malimiut School"]
[null,null,null,null,null,null,null,null,null,null,null,null,null,"Kuinerrarmiut Elitnaurviat School (Quinhagak)"]
[null,null,null,null,null,null,null,null,null,null,null,null,null,"Kwigillingok School"]
[]
[null,null,null,null,null,null,null,null,null,null,null,null,null,"Ladd Elementary School"]
[null,null,null,null,null,null,null,null,null,null,null,null,null,"Larson Elementary School"]
[null,null,null,null,null,null,null,null,null,null,null,null,null,"Lathrop High School"]
[null,null,null,null,null,null,null,null,null,null,null,null,null,"Leask Middle School"]
[null,null,null,null,null,null,null,null,null,null,null,null,null,"Levelock School"]
[null,null,null,null,null,null,null,null,null,null,null,null,null,"Lewis Angapak Memorial School (Tuntutuliak)"]
[]
[null,null,null,null,null,null,null,null,null,null,null,null,null,"Main Elementary School (Kodiak)"]
[null,null,null,null,null,null,null,null,null,null,null,null,null,"Manokotak School"]
[null,null,null,null,null,null,null,null,null,null,null,null,null,"Marshall School"]
[null,null,null,null,null,null,null,null,null,null,null,null,null,"Martin Luther King Jr. Tech High School"]
[null,null,null,null,null,null,null,null,null,null,null,null,null,"Mat-Su Career & Tech Ed High School"]
[null,null,null,null,null,null,null,null,null,null,null,null,null,"Mat-Su Day School"]
[null,null,null,null,null,null,null,null,null,null,null,null,null,"Maudrey J. Sommer School (Tanana)"]
[null,null,null,null,null,null,null,null,null,null,null,null,null,"McGrath School"]
[null,null,null,null,null,null,null,null,null,null,null,null,null,"McNeil Canyon Elementary (Homer)"]
[null,null,null,null,null,null,null,null,null,null,null,null,null,"Meade River School (Atqasuk)"]
[null,null,null,null,null,null,null,null,null,null,null,null,null,"Meadow Lakes Elementary"]
[null,null,null,null,null,null,null,null,null,null,null,null,null,"Mendenhall River Elementary School"]
[null,null,null,null,null,null,null,null,null,null,null,null,null,"Mentasta Lake School"]
[null,null,null,null,null,null,null,null,null,null,null,null,null,"Merreline A. Kangas School (Ruby)"]
[null,null,null,null,null,null,null,null,null,null,null,null,null,"Mertarvik School"]
[null,null,null,null,null,null,null,null,null,null,null,null,null,"Metlakatla High School"]
[null,null,null,null,null,null,null,null,null,null,null,null,null,"Midnight Sun Elementary School"]
[null,null,null,null,null,null,null,null,null,null,null,null,null,"Mikelnguut Elitnaurviat (Bethel)"]
[null,null,null,null,null,null,null,null,null,null,null,null,null,"Minto School"]
[null,null,null,null,null,null,null,null,null,null,null,null,null,"Montessori Borealis Alt School"]
[null,null,null,null,null,null,null,null,null,null,null,null,null,"Moose Pass School"]
[null,null,null,null,null,null,null,null,null,null,null,null,null,"Mountain View Elementary (Kenai)"]
[null,null,null,null,null,null,null,null,null,null,null,null,null,"Mountain Village School (Ignatius Beans)"]
[null,null,null,null,null,null,null,null,null,null,null,null,null,"MS  Central Middle"]
[null,null,null,null,null,null,null,null,null,null,null,null,null,"MS  Clark Middle "]
[null,null,null,null,null,null,null,null,null,null,null,null,null,"MS  Golden View Middle"]
[null,null,null,null,null,null,null,null,null,null,null,null,null,"MS  Gruening Middle School"]
[null,null,null,null,null,null,null,null,null,null,null,null,null,"MS  Hanshew Middle"]
[null,null,null,null,null,null,null,null,null,null,null,null,null,"MS  Mears Middle School"]
[null,null,null,null,null,null,null,null,null,null,null,null,null,"MS  Mirror Lake Middle School"]
[null,null,null,null,null,null,null,null,null,null,null,null,null,"MS  Nicholas J. Begich Middle School"]
[null,null,null,null,null,null,null,null,null,null,null,null,null,"MS  Romig Middle"]
[null,null,null,null,null,null,null,null,null,null,null,null,null,"MS  Wendler Middle"]
[null,null,null,null,null,null,null,null,null,null,null,null,null,"Mt. Eccles Elementary"]
[null,null,null,null,null,null,null,null,null,null,null,null,null,"Mt. Edgecumbe School"]
[]
[null,null,null,null,null,null,null,null,null,null,null,null,null,"Naknek Elementary"]
[null,null,null,null,null,null,null,null,null,null,null,null,null,"Nanwalek School"]
[null,null,null,null,null,null,null,null,null,null,null,null,null,"Napaaqtugmiut School (Noatak)"]
[null,null,null,null,null,null,null,null,null,null,null,null,null,"Naukati School"]
[null,null,null,null,null,null,null,null,null,null,null,null,null,"Negtemiut Elitnaurviat (Nightmute)"]
[null,null,null,null,null,null,null,null,null,null,null,null,null,"Nelson Island School (Toksook Bay)"]
[null,null,null,null,null,null,null,null,null,null,null,null,null,"Nenana K-12 School"]
[null,null,null,null,null,null,null,null,null,null,null,null,null,"Newhalen School"]
[null,null,null,null,null,null,null,null,null,null,null,null,null,"Nikiski Middle/High School (5-12)"]
[null,null,null,null,null,null,null,null,null,null,null,null,null,"Nikiski North Star Elementary School (K-5)"]
[null,null,null,null,null,null,null,null,null,null,null,null,null,"Nikolaevsk School (Nikolaevsk)"]
[null,null,null,null,null,null,null,null,null,null,null,null,null,"Nikolski School"]
[null,null,null,null,null,null,null,null,null,null,null,null,null,"Ninilchik School"]
[null,null,null,null,null,null,null,null,null,null,null,null,null,"Nome Elementary School"]
[null,null,null,null,null,null,null,null,null,null,null,null,null,"Nome-Beltz Jr/Sr High"]
[null,null,null,null,null,null,null,null,null,null,null,null,null,"Nondalton School"]
[null,null,null,null,null,null,null,null,null,null,null,null,null,"North Pole Elementary School"]
[null,null,null,null,null,null,null,null,null,null,null,null,null,"North Pole High School"]
[null,null,null,null,null,null,null,null,null,null,null,null,null,"North Pole Middle School"]
[null,null,null,null,null,null,null,null,null,null,null,null,null,"Northwood Elementary"]
[null,null,null,null,null,null,null,null,null,null,null,null,null,"North Star Elementary School (Kodiak)"]
[null,null,null,null,null,null,null,null,null,null,null,null,null,"Nuiqsut Trapper School"]
[null,null,null,null,null,null,null,null,null,null,null,null,null,"Nunamiut School (Anaktuvuk Pass)"]
[null,null,null,null,null,null,null,null,null,null,null,null,null,"Nuniwarmiut School (Meyoryuk)"]
[]
[null,null,null,null,null,null,null,null,null,null,null,null,null,"Old Harbor School"]
[null,null,null,null,null,null,null,null,null,null,null,null,null,"Ouzinkie School"]
[]
[null,null,null,null,null,null,null,null,null,null,null,null,null,"Pacific High School (Alternative)"]
[null,null,null,null,null,null,null,null,null,null,null,null,null,"Palmer High School "]
[null,null,null,null,null,null,null,null,null,null,null,null,null,"Palmer Middle School"]
[null,null,null,null,null,null,null,null,null,null,null,null,null,"Paul Banks Elementary School (Homer)"]
[null,null,null,null,null,null,null,null,null,null,null,null,null,"Paul T. Albert Memorial School (Tununak)"]
[null,null,null,null,null,null,null,null,null,null,null,null,null,"Pearl Creek Elementary School"]
[null,null,null,null,null,null,null,null,null,null,null,null,null,"Pelican School"]
[null,null,null,null,null,null,null,null,null,null,null,null,null,"Perryville School"]
[null,null,null,null,null,null,null,null,null,null,null,null,null,"Petersburg Elementary (Rae C. Stedman)"]
[null,null,null,null,null,null,null,null,null,null,null,null,null,"Petersburg High School "]
[null,null,null,null,null,null,null,null,null,null,null,null,null,"Petersburg Middle School (Mitkof)"]
[null,null,null,null,null,null,null,null,null,null,null,null,null,"Peterson Elementary School (Kodiak)"]
[null,null,null,null,null,null,null,null,null,null,null,null,null,"Pilot Station School"]
[null,null,null,null,null,null,null,null,null,null,null,null,null,"Pioneer Peak"]
[null,null,null,null,null,null,null,null,null,null,null,null,null,"Point Higgins Elementary School"]
[null,null,null,null,null,null,null,null,null,null,null,null,null,"Polaris (K-12)"]
[null,null,null,null,null,null,null,null,null,null,null,null,null,"Port Alexander School"]
[null,null,null,null,null,null,null,null,null,null,null,null,null,"Port Alsworth School (Tanalian)"]
[null,null,null,null,null,null,null,null,null,null,null,null,null,"Port Graham School"]
[null,null,null,null,null,null,null,null,null,null,null,null,null,"Port Heiden School (Meshik)"]
[null,null,null,null,null,null,null,null,null,null,null,null,null,"Port Lions School"]
[]
[null,null,null,null,null,null,null,null,null,null,null,null,null,"Qugcuun Memorial School (Oscarville)"]
[]
[null,null,null,null,null,null,null,null,null,null,null,null,null,"R. J. Elementary"]
[null,null,null,null,null,null,null,null,null,null,null,null,null,"Rampart School"]
[null,null,null,null,null,null,null,null,null,null,null,null,null,"Randy Smith Middle School"]
[null,null,null,null,null,null,null,null,null,null,null,null,null,"Razdolna School  (Homer)"]
[null,null,null,null,null,null,null,null,null,null,null,null,null,"Redoubt Elementary School (Soldotna)"]
[null,null,null,null,null,null,null,null,null,null,null,null,null,"Revilla High School (Alt.)"]
[null,null,null,null,null,null,null,null,null,null,null,null,null,"River City Academy "]
[null,null,null,null,null,null,null,null,null,null,null,null,null,"Riverbend Elementary School"]
[null,null,null,null,null,null,null,null,null,null,null,null,null,"Rocky Mountain School (Good News Bay)"]
[null,null,null,null,null,null,null,null,null,null,null,null,null,"Russian Mission"]
[null,null,null,null,null,null,null,null,null,null,null,null,null,"Ryan Middle School"]
[]
[null,null,null,null,null,null,null,null,null,null,null,null,null,"S.A.V.E. High School"]
[null,null,null,null,null,null,null,null,null,null,null,null,null,"Salcha Elementary School"]
[null,null,null,null,null,null,null,null,null,null,null,null,null,"Sand Point School"]
[null,null,null,null,null,null,null,null,null,null,null,null,null,"Savoonga School (Hogarth Kingeekuk SR.)"]
[null,null,null,null,null,null,null,null,null,null,null,null,null,"Sayeik: Gastineau Community School"]
[null,null,null,null,null,null,null,null,null,null,null,null,null,"Scammon Bay School"]
[null,null,null,null,null,null,null,null,null,null,null,null,null,"Schoenbar Middle School"]
[null,null,null,null,null,null,null,null,null,null,null,null,null,"Seward Elementary School"]
[null,null,null,null,null,null,null,null,null,null,null,null,null,"Seward High School"]
[null,null,null,null,null,null,null,null,null,null,null,null,null,"Seward Middle School"]
[null,null,null,null,null,null,null,null,null,null,null,null,null,"SH  Bartlett High"]
[null,null,null,null,null,null,null,null,null,null,null,null,null,"SH Bettye Davis East Anchorage High"]
[null,null,null,null,null,null,null,null,null,null,null,null,null,"SH  Chugiak High"]
[null,null,null,null,null,null,null,null,null,null,null,null,null,"SH  Dimond High"]
[null,null,null,null,null,null,null,null,null,null,null,null,null,"SH  Service High"]
[null,null,null,null,null,null,null,null,null,null,null,null,null,"SH  West High"]
[null,null,null,null,null,null,null,null,null,null,null,null,null,"SH Eagle River High "]
[null,null,null,null,null,null,null,null,null,null,null,null,null,"SH South Anchorage High"]
[null,null,null,null,null,null,null,null,null,null,null,null,null,"Shaktoolik School"]
[null,null,null,null,null,null,null,null,null,null,null,null,null,"Sheldon Point School (Nunam Iqua)"]
[null,null,null,null,null,null,null,null,null,null,null,null,null,"Sherrod Elementary"]
[null,null,null,null,null,null,null,null,null,null,null,null,null,"Shishmaref School"]
[null,null,null,null,null,null,null,null,null,null,null,null,null,"Shungnak School"]
[null,null,null,null,null,null,null,null,null,null,null,null,null,"Sidney C. Huntington Elementary"]
[null,null,null,null,null,null,null,null,null,null,null,null,null,"Sidney C. Huntington Jr/Sr HS"]
[null,null,null,null,null,null,null,null,null,null,null,null,null,"Sit' Eeti Shaanax! - Glacier Valley Elementary School"]
[null,null,null,null,null,null,null,null,null,null,null,null,null,"Sitka High School"]
[null,null,null,null,null,null,null,null,null,null,null,null,null,"Skagway School"]
[null,null,null,null,null,null,null,null,null,null,null,null,null,"Skyview Middle School (Soldotna)"]
[null,null,null,null,null,null,null,null,null,null,null,null,null,"Slana School"]
[null,null,null,null,null,null,null,null,null,null,null,null,null,"Snowshoe Elementary"]
[null,null,null,null,null,null,null,null,null,null,null,null,null,"Soldotna Elementary School"]
[null,null,null,null,null,null,null,null,null,null,null,null,null,"Soldotna High School"]
[null,null,null,null,null,null,null,null,null,null,null,null,null,"Soldotna Montessori Charter "]
[null,null,null,null,null,null,null,null,null,null,null,null,null,"St. Mary's School"]
[null,null,null,null,null,null,null,null,null,null,null,null,null,"St. Paul Island School"]
[null,null,null,null,null,null,null,null,null,null,null,null,null,"Stebbins School (Tukurngailnguq)"]
[null,null,null,null,null,null,null,null,null,null,null,null,null,"Steller Secondary (7-12)"]
[null,null,null,null,null,null,null,null,null,null,null,null,null,"Sterling Elementary School (Sterling)"]
[null,null,null,null,null,null,null,null,null,null,null,null,null,"Stikine Middle School"]
[null,null,null,null,null,null,null,null,null,null,null,null,null,"Susan B. English School (Seldovia)"]
[null,null,null,null,null,null,null,null,null,null,null,null,null,"Susitna Valley High School (6-12)"]
[null,null,null,null,null,null,null,null,null,null,null,null,null,"Sutton Elementary"]
[null,null,null,null,null,null,null,null,null,null,null,null,null,"Swanson Elementary"]
[]
[null,null,null,null,null,null,null,null,null,null,null,null,null,"Takotna Community School "]
[null,null,null,null,null,null,null,null,null,null,null,null,null,"Talkeetna Elementary"]
[null,null,null,null,null,null,null,null,null,null,null,null,null,"Tanacross School"]
[null,null,null,null,null,null,null,null,null,null,null,null,null,"Tanaina Elementary"]
[null,null,null,null,null,null,null,null,null,null,null,null,null,"Tanana Middle School"]
[null,null,null,null,null,null,null,null,null,null,null,null,null,"Tatitlek Community School"]
[null,null,null,null,null,null,null,null,null,null,null,null,null,"Tebughna School (Tyonek)"]
[null,null,null,null,null,null,null,null,null,null,null,null,null,"Teeland Middle School"]
[null,null,null,null,null,null,null,null,null,null,null,null,null,"Tetlin School"]
[null,null,null,null,null,null,null,null,null,null,null,null,null,"Thorne Bay School"]
[null,null,null,null,null,null,null,null,null,null,null,null,null,"Thunder Mountain High School"]
[null,null,null,null,null,null,null,null,null,null,null,null,null,"Ticasuk Brown Elementary School"]
[null,null,null,null,null,null,null,null,null,null,null,null,null,"Tikigaq School (Point Hope)"]
[null,null,null,null,null,null,null,null,null,null,null,null,null,"Togiak School"]
[null,null,null,null,null,null,null,null,null,null,null,null,null,"Tok School"]
[null,null,null,null,null,null,null,null,null,null,null,null,null,"Tongass School of Arts & Sciences Charter"]
[null,null,null,null,null,null,null,null,null,null,null,null,null,"Top of the Kuskokwim School (Nikolai)"]
[null,null,null,null,null,null,null,null,null,null,null,null,null,"Trapper Creek"]
[null,null,null,null,null,null,null,null,null,null,null,null,null,"Tri-Valley School"]
[null,null,null,null,null,null,null,null,null,null,null,null,null,"Tsuk Taih School (Chalkyitsik)"]
[null,null,null,null,null,null,null,null,null,null,null,null,null,"Tuluksak School"]
[null,null,null,null,null,null,null,null,null,null,null,null,null,"Tustumena Elementary School (Kasilof)"]
[null,null,null,null,null,null,null,null,null,null,null,null,null,"Twin Hills School"]
[null,null,null,null,null,null,null,null,null,null,null,null,null,"Two Rivers Elementary School"]
[]
[null,null,null,null,null,null,null,null,null,null,null,null,null,"Unalakleet School"]
[null,null,null,null,null,null,null,null,null,null,null,null,null,"Unalaska Elementary (K-4)"]
[null,null,null,null,null,null,null,null,null,null,null,null,null,"Unalaska Jr/Sr High School"]
[null,null,null,null,null,null,null,null,null,null,null,null,null,"University Park Elementary School"]
[]
[null,null,null,null,null,null,null,null,null,null,null,null,null,"Valdez High School"]
[null,null,null,null,null,null,null,null,null,null,null,null,null,"Valley Pathways Alternative School"]
[null,null,null,null,null,null,null,null,null,null,null,null,null,"Venetie School (John Fredson)"]
[null,null,null,null,null,null,null,null,null,null,null,null,null,"Voznesenka School (Fritz Creek)"]
[]
[null,null,null,null,null,null,null,null,null,null,null,null,null,"Wales School (Kingikmiut)"]
[null,null,null,null,null,null,null,null,null,null,null,null,null,"Walter Northway School"]
[null,null,null,null,null,null,null,null,null,null,null,null,null,"Wasilla High School"]
[null,null,null,null,null,null,null,null,null,null,null,null,null,"Wasilla Middle School"]
[null,null,null,null,null,null,null,null,null,null,null,null,null,"Weller Elementary School"]
[null,null,null,null,null,null,null,null,null,null,null,null,null,"West Homer Elementary (Homer Intermd.)"]
[null,null,null,null,null,null,null,null,null,null,null,null,null,"West Valley High School"]
[null,null,null,null,null,null,null,null,null,null,null,null,null,"Whale Pass School"]
[null,null,null,null,null,null,null,null,null,null,null,null,null,"Whaley Center"]
[null,null,null,null,null,null,null,null,null,null,null,null,null,"White Mountain School"]
[null,null,null,null,null,null,null,null,null,null,null,null,null,"Whittier Community School"]
[null,null,null,null,null,null,null,null,null,null,null,null,null,"William \"Sonny\" Nelson School (Ekwok)"]
[null,null,null,null,null,null,null,null,null,null,null,null,null,"William N Miller Memorial (Napakiak)"]
[null,null,null,null,null,null,null,null,null,null,null,null,null,"Willow Elementary School"]
[null,null,null,null,null,null,null,null,null,null,null,null,null,"Woodriver Elementary School"]
[null,null,null,null,null,null,null,null,null,null,null,null,null,"Wrangell Elementary School (Evergreen)"]
[null,null,null,null,null,null,null,null,null,null,null,null,null,"Wrangell High School"]
[]
[null,null,null,null,null,null,null,null,null,null,null,null,null,"Xóots Elementary School"]
[]
[null,null,null,null,null,null,null,null,null,null,null,null,null,"Yaakoozge Daahakidi Alt High School"]
[null,null,null,null,null,null,null,null,null,null,null,null,null,"Yakov E. Netsvetov School"]
[null,null,null,null,null,null,null,null,null,null,null,null,null,"Yakutat School K-12"]
[]
[null,null,null,null,null,null,null,null,null,null,null,null,null,"Z. John Williams Memorial School (Napaskiak)"]
[null,null,null,null,null,null,null,null,null,null,null,null,null,"Zackar Levi Elementary School (Lower Kalskag)"]

{"sheet":"Allow SF","index":2,"n_rows":20,"n_cols":2,"rows_kept":20,"cut":false,"hidden":false,"merged":[[0,0,0,1]]}
["Allowable Gross Square Footage"]
["District:",{"$f":"SD","v":{"$error":"#N/A"}}]
["School:",{"$f":"NAME","v":0}]
["Project Number:",{"$f":"PROJNO","v":"27-xxx"}]
["School Type:",{"$f":"ADM!B6","v":"K-12"}]
["Eligible Gross Square Footage (GSF) Data Type","GSF Values"]
["Projected ADM (K-6):",{"$f":"IF(ABS(_sdk6-FCrate)>0.005,k6ADM,ADM!J13)","v":{"$error":"#N/A"}}]
["Projected ADM (7-12):",{"$f":"IF(ABS(_sd712-FCrate)>0.005,_ADM712,ADM!J14)","v":{"$error":"#N/A"}}]
["Existing DEED designated GSF",0]
["Existing GSF To Remain:",0]
["Additional GSF Requested: ",0]
["Total GSF Proposed:",{"$f":"B10+B11","v":0}]
["Eligible Base GSF:",{"$f":"IF(ADM!$B$6=\"Elementary\",114*B7,IF(ADM!$B$6=\"Secondary\",B8*165,IF(ADM!$B$6=\"K-12\",B7*114+B8*165,IF(ADM!$B$6=\"Mixed Grade\",B7*114+B8*165,IF(ADM!$B$6=\"Secondary+6\",(B7+B8)*165,\" \")))))","v":{"$error":"#N/A"}}]
["Eligible Supplemental GSF:",{"$f":"IF(ADM!$B$6=\"Elementary\",B7*130*10^(-B7/250),IF(ADM!$B$6=\"Secondary\",B8*300*10^(-B8/300),IF(ADM!$B$6=\"K-12\",(B7+B8)*213*10^(-(B7+B8)/483),IF(ADM!$B$6=\"Mixed Grade\",(B7+B8)*250*10^(-(B7+B8)/250),IF(ADM!$B$6=\"Secondary+6\",(B7+B8)*250*10^(-(B7+B8)/250),\" \")))))","v":{"$error":"#N/A"}}]
["Total GSF Eligible:",{"$f":"IF(B13=\" \",0,B13+B14)","v":{"$error":"#N/A"}}]
["Additional GSF Allowable:",{"$f":"IF((B15-B10)<0,0,(B15-B10))","v":{"$error":"#N/A"}}]
["Additional GSF Reduction:",{"$f":"IF(B16=0,\"Not Eligible for Space\",IF(B16>B11,\"No Reduction\",B16-B11))","v":{"$error":"#N/A"}}]
["4 AAC 31.020(e)(2) Additional GSF Allowances"]
["Allowance for Covered Exterior Areas:",{"$f":"IF(OR(B15<B12,B12=0),(IF((B15*0.15)<3000,3000,(IF((B15*0.15)>9000,9000,B15*0.15)))),(IF((B12*0.15)<3000,3000,(IF((B12*0.15)>9000,9000,B12*0.15)))))","v":{"$error":"#N/A"}}]
["Allowance for Water/Sewer Storage & Treatment: ",{"$f":"IF(B12=0,B15*0.05,IF(B15<B12,B15*0.05,B12*0.05))","v":{"$error":"#N/A"}}]

{"sheet":"Current Capacity","index":3,"n_rows":16,"n_cols":2,"rows_kept":16,"cut":false,"hidden":false,"merged":[[0,0,0,1]]}
["Current Capacity and Unhoused \nRun Macro Capacity_Calc (shortcut CTRL+e) to calculate current school capacity"]
["District:",{"$f":"'Allow SF'!B2","v":{"$error":"#N/A"}}]
["School:",{"$f":"'Allow SF'!B3","v":0}]
["Project Number:",{"$f":"'Allow SF'!B4","v":"27-xxx"}]
["School Type:",{"$f":"ADM!B6","v":"K-12"}]
["Capacity Data Type","Capacity Values"]
["Current ADM (K-6):",{"$f":"ELEM","v":{"$error":"#N/A"}}]
["Current ADM (7-12):",{"$f":"SEC","v":{"$error":"#N/A"}}]
["Existing GSF:",{"$f":"'Allow SF'!B9","v":0}]
["Existing GSF Elementary Capacity:"]
["Existing GSF Secondary Capacity:",{"$f":"IF(EXSF=0,\" \",IF(TYPE=\"Elementary\",0,IF(TYPE=\"Secondary\",O19,EADM*csadm/ceadm)))","v":" "}]
["Existing Base GSF:",{"$f":"IF($B$5=\"Elementary\",114*B10,IF($B$5=\"Secondary\",B11*165,IF($B$5=\"K-12\",B10*114+B11*165,IF($B$5=\"Mixed Grade\",B10*114+B11*165,IF($B$5=\"Secondary+6\",(B10+B11)*165,\" \")))))","v":{"$error":"#VALUE!"}}]
["Existing Supplemental GSF:",{"$f":"IF($B$5=\"Elementary\",B10*130*10^(-B10/250),IF($B$5=\"Secondary\",B11*300*10^(-B11/300),IF($B$5=\"K-12\",(B10+B11)*213*10^(-(B10+B11)/483),IF($B$5=\"Mixed Grade\",(B10+B11)*250*10^(-(B10+B11)/250),IF($B$5=\"Secondary+6\",(B10+B11)*250*10^(-(B10+B11)/250),\" \")))))","v":{"$error":"#VALUE!"}}]
["Existing GSF Serving Total ADM:",{"$f":"IF(EXSF=0,\" \",B12+B13)","v":" "}]
["Unhoused Students:",{"$f":"IF(EXSF=0,\" \",IF(B5=\"Elementary\",B7-B10,IF(B5=\"Secondary\",B8-B11,(B7+B8)-(B10+B11))))","v":" "}]
["Current Percent Capacity:",{"$f":"IF(EXSF=0,\" \",IF(TYPE=\"Elementary\",ceadm/EADM,IF(TYPE=\"Secondary\",csadm/SADM,(B7+B8)/(EADM+SADM))))","v":" "}]

{"sheet":"Projected Capacity","index":4,"n_rows":16,"n_cols":2,"rows_kept":16,"cut":false,"hidden":false,"merged":[[0,0,0,1]]}
["Projected Capacity and Unhoused\nRun Macro Capacity_Calc (shortcut CTRL+e) to calculate projected school capacity"]
["District:",{"$f":"'Allow SF'!B2","v":{"$error":"#N/A"}}]
["School:",{"$f":"'Allow SF'!B3","v":0}]
["Project Number:",{"$f":"'Allow SF'!B4","v":"27-xxx"}]
["School Type:",{"$f":"ADM!B6","v":"K-12"}]
["Capacity Data Type","Capacity Values"]
["Projected ADM (K-6):",{"$f":"'Allow SF'!B7","v":{"$error":"#N/A"}}]
["Projected ADM (7-12):",{"$f":"'Allow SF'!B8","v":{"$error":"#N/A"}}]
["Existing GSF:",{"$f":"'Allow SF'!B9","v":0}]
["Existing GSF Elementary Capacity:"]
["Existing GSF Secondary Capacity:",{"$f":"IF(EXSF=0,\" \",IF(TYPE=\"Elementary\",0,IF(TYPE=\"Secondary\",O19,EADM*csadm/ceadm)))","v":" "}]
["Existing Base GSF:",{"$f":"IF($B$5=\"Elementary\",114*B10,IF($B$5=\"Secondary\",B11*165,IF($B$5=\"K-12\",B10*114+B11*165,IF($B$5=\"Mixed Grade\",B10*114+B11*165,IF($B$5=\"Secondary+6\",(B10+B11)*165,\" \")))))","v":{"$error":"#VALUE!"}}]
["Existing Supplemental GSF:",{"$f":"IF($B$5=\"Elementary\",B10*130*10^(-B10/250),IF($B$5=\"Secondary\",B11*300*10^(-B11/300),IF($B$5=\"K-12\",(B10+B11)*213*10^(-(B10+B11)/483),IF($B$5=\"Mixed Grade\",(B10+B11)*250*10^(-(B10+B11)/250),IF($B$5=\"Secondary+6\",(B10+B11)*250*10^(-(B10+B11)/250),\" \")))))","v":{"$error":"#VALUE!"}}]
["Existing GSF Serving Total ADM:",{"$f":"IF(EXSF=0,\" \",B12+B13)","v":" "}]
["Unhoused Students:",{"$f":"IF(EXSF=0,\" \",IF(B5=\"Elementary\",B7-B10,IF(B5=\"Secondary\",B8-B11,(B7+B8)-(B10+B11))))","v":" "}]
["Projected Percent Capacity:",{"$f":"IF(EXSF=0,\" \",IF(TYPE=\"Elementary\",ceadm/EADM,IF(TYPE=\"Secondary\",csadm/SADM,(B7+B8)/(EADM+SADM))))","v":" "}]

{"sheet":"Current ADM","index":5,"n_rows":512,"n_cols":12,"rows_kept":512,"cut":false,"hidden":false,"merged":[[0,0,0,4]]}
["Department of Education & Early Development\nPrepared by School Finance 5/8/2025\nFY2025 ADM Report"]
["District","School Name","K-6*","7-12","Total ADM","Attendance Area",null,"Attendance Area","K-6","7-12","Total","District"]
["Alaska Gateway","Dot Lake School",5.25,7,{"$f":"C3+D3","v":12.25},"Dot Lake",null,"Dot Lake",{"$f":"SUMIF($F$3:$F$509,H3,$C$3:$C$509)","v":5.25},{"$f":"SUMIF($F$3:$F$509,H3,$D$3:$D$509)","v":7},{"$f":"SUM(I3:J3)","v":12.25},"Alaska Gateway"]
["Alaska Gateway","Eagle Community School",6,6,{"$f":"C4+D4","v":12},"Eagle",null,"Eagle",6,6,{"$f":"SUM(I4:J4)","v":12},"Alaska Gateway"]
["Alaska Gateway","Mentasta Lake School",13,13.25,26.25,"Mentasta Lake",null,"Mentasta Lake",13,13.25,{"$f":"SUM(I5:J5)","v":26.25},"Alaska Gateway"]
["Alaska Gateway","Tetlin School",13.25,13,26.25,"Tetlin",null,"Tetlin",13.25,13,{"$f":"SUM(I6:J6)","v":26.25},"Alaska Gateway"]
["Alaska Gateway","Tok School",93,79.25,172.25,"Tok",null,"Tok",93,79.25,172.25,"Alaska Gateway"]
["Alaska Gateway","Walter Northway School",27,25,52,"Northway",null,"Northway",27,25,52,"Alaska Gateway"]
["Alaska Gateway","TOTAL",{"$f":"SUM(C3:C8)","v":157.5},{"$f":"SUM(D3:D8)","v":143.5},{"$f":"SUM(E3:E8)","v":301},null,null,null,null,null,{"$f":"SUM(K3:K8)","v":301}]
["Aleutian Region","Nikolski School",8,2,{"$f":"C10+D10","v":10},"Nikolski",null,"Nikolski",{"$f":"SUMIF($F$3:$F$509,H10,$C$3:$C$509)","v":8},{"$f":"SUMIF($F$3:$F$509,H10,$D$3:$D$509)","v":2},10]
["Aleutian Region","Yakov E. Netsvetov School",9,2,{"$f":"C11+D11","v":11},"Atka",null,"Atka",{"$f":"SUMIF($F$3:$F$509,H11,$C$3:$C$509)","v":9},{"$f":"SUMIF($F$3:$F$509,H11,$D$3:$D$509)","v":2},11,"Aleutian Region"]
["Aleutian Region","TOTAL",{"$f":"SUM(C11:C11)","v":9},{"$f":"SUM(D11:D11)","v":2},{"$f":"SUM(E10:E11)","v":21},null,null,null,null,null,{"$f":"SUM(K10:K11)","v":21}]
["Aleutians East","Akutan School",6.05,9,{"$f":"C13+D13","v":15.05},"Akutan",null,"Akutan",{"$f":"SUMIF($F$3:$F$509,H13,$C$3:$C$509)","v":6.05},{"$f":"SUMIF($F$3:$F$509,H13,$D$3:$D$509)","v":9},15.05,"Aleutians East"]
["Aleutians East","False Pass School",7,3,{"$f":"C14+D14","v":10},"False Pass",null,"False Pass",{"$f":"SUMIF($F$3:$F$509,H14,$C$3:$C$509)","v":7},{"$f":"SUMIF($F$3:$F$509,H14,$D$3:$D$509)","v":3},10,"Aleutians East"]
["Aleutians East","King Cove School",29,29,{"$f":"C15+D15","v":58},"King Cove",null,"King Cove",{"$f":"SUMIF($F$3:$F$509,H15,$C$3:$C$509)","v":29},{"$f":"SUMIF($F$3:$F$509,H15,$D$3:$D$509)","v":29},58,"Aleutians East"]
["Aleutians East","Sand Point School",37.1,43,{"$f":"C16+D16","v":80.099999999999994},"Sand Point",null,"Sand Point",{"$f":"SUMIF($F$3:$F$509,H16,$C$3:$C$509)","v":37.1},{"$f":"SUMIF($F$3:$F$509,H16,$D$3:$D$509)","v":43},80.099999999999994,"Aleutians East"]
["Aleutians East","TOTAL",{"$f":"SUM(C13:C16)","v":79.150000000000006},{"$f":"SUM(D13:D16)","v":84},{"$f":"SUM(E13:E16)","v":163.14999999999998},null,null,null,null,null,{"$f":"SUM(K13:K16)","v":163.14999999999998}]
["Anchorage","K-6 Airport Heights Elementary",227.65,null,{"$f":"C18+D18","v":227.65},"Anchorage",null,"JBER",{"$f":"SUMIF($F$3:$F$509,H18,$C$3:$C$509)","v":1039.07},{"$f":"SUMIF($F$3:$F$509,H18,$D$3:$D$509)","v":0},1039.07,"Anchorage"]
["Anchorage","K-6 Alpenglow Elementary",276.10000000000002,null,276.10000000000002,"Anchorage",null,"Girdwood",143.80000000000001,30.75,174.55,"Anchorage"]
["Anchorage","K-6 Aurora Elementary (Mt. Spurr)",318.2,null,318.2,"JBER",null,"Anchorage",19477.430000000004,17354.899999999998,36832.33,"Anchorage"]
["Anchorage","K-6 Baxter Elementary",232.3,null,{"$f":"C21+D21","v":232.3},"Anchorage",null,"School for the Deaf",11.3,12,23.3,"Anchorage"]
["Anchorage","K-6 Bayshore Elementary",338.15,null,338.15,"Anchorage",null,null,0,0,0,"Anchorage"]
["Anchorage","K-6 Bear Valley Elementary",314,null,314,"Anchorage",null,"*Note:  King Career Center is not on this report, ",0,0,0,"Anchorage"]
["Anchorage","K-6 Birchwood ABC ",238.18,null,238.18,"Anchorage",null,null,0,0,0,"Anchorage"]
["Anchorage","K-6 Bowman Elementary",502.7,null,502.7,"Anchorage",null,null,0,0,0,"Anchorage"]
["Anchorage","K-6 Campbell Elementary",318.3,null,318.3,"Anchorage",null,null,0,0,0,"Anchorage"]
["Anchorage","K-6 Chester Valley Elementary (K-5)",180.7,null,180.7,"Anchorage",null,null,0,0,0,"Anchorage"]
["Anchorage","K-6 Chinook Elementary",342.9,null,342.9,"Anchorage",null,null,0,0,0,"Anchorage"]
["Anchorage","K-6 Chugach Optional Elementary",275,null,275,"Anchorage",null,null,0,0,0,"Anchorage"]
["Anchorage","K-6 Chugiak Elementary (K-5)",438.8,null,438.8,"Anchorage",null,null,0,0,0,"Anchorage"]
["Anchorage","K-6 College Gate Elementary",345.6,null,345.6,"Anchorage",null,null,0,0,0,"Anchorage"]
["Anchorage","K-6 Creekside Park (K-5)",380.23,null,380.23,"Anchorage",null,null,0,0,0,"Anchorage"]
["Anchorage","K-6 Denali Elementary",348.15,null,348.15,"Anchorage",null,null,0,0,0,"Anchorage"]
["Anchorage","K-6 Eagle River Elementary",249.2,null,249.2,"Anchorage",null,null,0,0,0,"Anchorage"]
["Anchorage","K-6 Dr. Etheldra Davis - Fairview Elementary",313.95,null,313.95,"Anchorage",null,null,0,0,0,"Anchorage"]
["Anchorage","K-6 Fire Lake Elementary (K-5)",191,null,191,"Anchorage",null,null,0,0,0,"Anchorage"]
["Anchorage","K-6 Girdwood School (K-8)",143.80000000000001,30.75,174.55,"Girdwood",null,null,0,0,0,"Anchorage"]
["Anchorage","K-6 Gladys Wood Elementary",245.5,null,245.5,"Anchorage",null,null,0,0,0,"Anchorage"]
["Anchorage","K-6 Government Hill Elementary",417.52,null,417.52,"Anchorage",null,null,0,0,0,"Anchorage"]
["Anchorage","K-6 Homestead Elementary",250.05,null,250.05,"Anchorage",null,null,0,0,0,"Anchorage"]
["Anchorage","K-6 Huffman Elementary",268.10000000000002,null,268.10000000000002,"Anchorage",null,null,0,0,0,"Anchorage"]
["Anchorage","K-6 Inlet View Elementary",187.55,null,187.55,"Anchorage",null,null,0,0,0,"Anchorage"]
["Anchorage","K-6 Kasuun Elementary",342.63,null,342.63,"Anchorage",null,null,0,0,0,"Anchorage"]
["Anchorage","K-6 Kincaid Elementary",321.45,null,321.45,"Anchorage",null,null,0,0,0,"Anchorage"]
["Anchorage","K-6 Klatt  Elementary",274.35000000000002,null,274.35000000000002,"Anchorage",null,null,0,0,0,"Anchorage"]
["Anchorage","K-6 Lake Hood Elementary",168.45,null,168.45,"Anchorage",null,null,0,0,0,"Anchorage"]
["Anchorage","K-6 Lake Otis Elementary",248.92,null,248.92,"Anchorage",null,null,0,0,0,"Anchorage"]
["Anchorage","K-6 Mountain View Elementary",215.35,null,215.35,"Anchorage",null,null,0,0,0,"Anchorage"]
["Anchorage","K-6 Muldoon Elementary (K-5)",393.74,null,393.74,"Anchorage",null,null,0,0,0,"Anchorage"]
["Anchorage","K-6 North Star Elementary",300.2,null,300.2,"Anchorage",null,null,{"$f":"SUMIF($F$3:$F$509,H50,$C$3:$C$509)","v":0},{"$f":"SUMIF($F$3:$F$509,H50,$D$3:$D$509)","v":0},0,"Anchorage"]
["Anchorage","K-6 Northwood Elementary",221.7,null,221.7,"Anchorage",null,null,0,0,0,"Anchorage"]
["Anchorage","K-6 Nunaka Valley Elementary",161.66999999999999,null,161.66999999999999,"Anchorage",null,null,0,0,0,"Anchorage"]
["Anchorage","K-6 Ocean View Elementary",265.95,null,265.95,"Anchorage",null,null,0,0,0,"Anchorage"]
["Anchorage","K-6 O'Malley Elementary",347.61,null,347.61,"Anchorage",null,null,0,0,0,"Anchorage"]
["Anchorage","K-6 Orion Elementary (Mt. Spurr)",355.62,null,355.62,"JBER",null,null,0,0,0,"Anchorage"]
["Anchorage","K-6 Ptarmigan Elementary",376.78,null,376.78,"Anchorage",null,null,0,0,0,"Anchorage"]
["Anchorage","K-6 Rabbit Creek Elementary",289.39999999999998,null,289.39999999999998,"Anchorage",null,null,0,0,0,"Anchorage"]
["Anchorage","K-6 Ravenwood Elementary",355.45,null,355.45,"Anchorage",null,null,0,0,0,"Anchorage"]
["Anchorage","K-6 Rogers Park Elementary",346.25,null,346.25,"Anchorage",null,null,0,0,0,"Anchorage"]
["Anchorage","K-6 Russian Jack Elementary",237.6,null,237.6,"Anchorage",null,null,0,0,0,"Anchorage"]
["Anchorage","K-6 Sand Lake Elementary",366.6,null,366.6,"Anchorage",null,null,0,0,0,"Anchorage"]
["Anchorage","K-6 Scenic Park Elementary (K-5)",388.5,null,388.5,"Anchorage",null,null,0,0,0,"Anchorage"]
["Anchorage","K-6 Spring Hill Elementary",269.2,null,269.2,"Anchorage",null,null,0,0,0,"Anchorage"]
["Anchorage","K-6 Susitna Elementary ",380.8,null,380.8,"Anchorage",null,null,0,0,0,"Anchorage"]
["Anchorage","K-6 Taku Elementary",244.9,null,244.9,"Anchorage",null,null,0,0,0,"Anchorage"]
["Anchorage","K-6 Trailside Elementary ",346.05,null,346.05,"Anchorage",null,null,0,0,0,"Anchorage"]
["Anchorage","K-6 Tudor Elementary",295.35000000000002,null,295.35000000000002,"Anchorage",null,null,0,0,0,"Anchorage"]
["Anchorage","K-6 Turnagain Elementary",248.1,null,248.1,"Anchorage",null,null,0,0,0,"Anchorage"]
["Anchorage","K-6 Ursa Major Elementary",107.5,null,107.5,"JBER",null,null,0,0,0,"Anchorage"]
["Anchorage","K-6 Ursa Minor Elementary",257.75,null,257.75,"JBER",null,null,0,0,{"$f":"SUM(I70:J70)","v":0},"Anchorage"]
["Anchorage","K-6 William Tyson Elementary",332.35,null,332.35,"Anchorage",null,null,0,0,0,"Anchorage"]
["Anchorage","K-6 Williwaw Elementary",297.10000000000002,null,297.10000000000002,"Anchorage",null,null,0,0,0,"Anchorage"]
["Anchorage","K-6 Willow Crest Elementary",273.8,null,273.8,"Anchorage",null,null,0,0,0,"Anchorage"]
["Anchorage","K-6 Wonder Park Elementary",261.54000000000002,null,261.54000000000002,"Anchorage",null,null,0,0,0,"Anchorage"]
["Anchorage","K-8 Northern Lights ABC Elementary",477.45,103.95,581.4,"Anchorage",null,null,0,0,0,"Anchorage"]
["Anchorage","MS  Central Middle",187.75,356.9,544.65,"Anchorage",null,null,0,0,0,"Anchorage"]
["Anchorage","MS  Clark Middle ",251.55,452.18,703.73,"Anchorage",null,null,0,0,0,"Anchorage"]
["Anchorage","MS  Golden View Middle",300.8,625.9,926.7,"Anchorage",null,null,0,0,0,"Anchorage"]
["Anchorage","MS  Gruening Middle School",242.85,547.9,790.75,"Anchorage",null,null,0,0,0,"Anchorage"]
["Anchorage","MS  Hanshew Middle",261.64999999999998,557.95000000000005,819.6,"Anchorage",null,null,0,0,0,"Anchorage"]
["Anchorage","MS  Mears Middle School",334,718.5,1052.5,"Anchorage",null,null,0,0,0,"Anchorage"]
["Anchorage","MS  Mirror Lake Middle School",204.66,368.08,{"$f":"C82+D82","v":572.74},"Anchorage",null,null,{"$f":"SUMIF($F$3:$F$509,H82,$C$3:$C$509)","v":0},{"$f":"SUMIF($F$3:$F$509,H82,$D$3:$D$509)","v":0},0,"Anchorage"]
["Anchorage","MS Nicholas J. Begich Middle School",265.85000000000002,562,827.85,"Anchorage",null,null,0,0,0,"Anchorage"]
["Anchorage","MS  Romig Middle",353,776.58,1129.58,"Anchorage",null,null,0,0,0,"Anchorage"]
["Anchorage","MS  Wendler Middle",202.5,398.85,601.35,"Anchorage",null,null,0,0,0,"Anchorage"]
["Anchorage","SH  Bartlett High",14.28,1398.66,1412.94,"Anchorage",null,null,0,0,0,"Anchorage"]
["Anchorage","SH  Chugiak High",null,918.16,918.16,"Anchorage",null,null,0,0,0,"Anchorage"]
["Anchorage","SH  Dimond High",null,1365.15,1365.15,"Anchorage",null,null,0,0,0,"Anchorage"]
["Anchorage","SH Eagle River High ",null,758.99,758.99,"Anchorage",null,null,0,0,0,"Anchorage"]
["Anchorage","SH Bettye Davis East Anchorage High",null,1622.19,1622.19,"Anchorage",null,null,0,0,0,"Anchorage"]
["Anchorage","SH  Service High",null,1507.14,1507.14,"Anchorage",null,null,0,0,0,"Anchorage"]
["Anchorage","SH South Anchorage High",null,1225.51,1225.51,"Anchorage",null,null,0,0,0,"Anchorage"]
["Anchorage","SH  West High",null,1693.55,1693.55,"Anchorage",null,null,0,0,0,"Anchorage"]
["Anchorage","C Alaska Native Charter School (PK-8)",265.14999999999998,74,339.15,"Anchorage",null,null,0,0,0,"Anchorage"]
["Anchorage","C Anchorage STrEaM Academy (6-8)",64.95,118.05,183,"None",null,null,0,0,0,"Anchorage"]
["Anchorage","C Aquarian Charter (K-6)",365,null,365,"Anchorage",null,null,0,0,0,"Anchorage"]
["Anchorage","C Eagle Academy Charter  (K-8)",168.7,30.75,199.45,"None",null,null,0,0,0,"Anchorage"]
["Anchorage","C Highland Tech Charter (6-12)",34,165.75,199.75,"None",null,null,0,0,0,"Anchorage"]
["Anchorage","C Rilke Schule Charter (K-8)",411.3,73,484.3,"None",null,null,0,0,0,"Anchorage"]
["Anchorage","C Winterberry Charter (K-8)",212.75,50,262.75,"None",null,null,0,0,0,"Anchorage"]
["Anchorage","A  *Whaley Center",17.52,278.45999999999998,295.97999999999996,"Anchorage",null,null,0,0,0,"Anchorage"]
["Anchorage","A  Alaska Middle College School ",null,269.35000000000002,269.35000000000002,"None",null,null,0,0,{"$f":"SUM(I102:J102)","v":0},"Anchorage"]
["Anchorage","Benny Benson Alternative High School (7-12)",null,261.38,261.38,"Anchorage",null,null,0,0,0,"Anchorage"]
["Anchorage","A Martin Luther King Jr. Tech High School",null,117.89,117.89,"Anchorage",null,null,0,0,0,"Anchorage"]
["Anchorage","A  Polaris (K-12)",243,239.75,482.75,"Anchorage",null,null,0,0,0,"Anchorage"]
["Anchorage","A  S.A.V.E. (9-12)",null,158.03,158.03,"Anchorage",null,null,0,0,0,"Anchorage"]
["Anchorage","A  Steller Secondary (7-12)",37,267.25,304.25,"Anchorage",null,null,0,0,0,"Anchorage"]
["Anchorage","O  Alaska School for Deaf & Hard of Hearing  (PK-12)",11.3,12,23.3,"School for the Deaf",null,"SH = Senior High",0,0,0,"Anchorage"]
["Anchorage","O  McLaughlin Youth Center (6-12)",null,91,91,"None",null,null,0,0,0,"Anchorage"]
["Anchorage","TOTAL",{"$f":"SUM(C18:C109)","v":21563.300000000007},{"$f":"SUM(D18:D109)","v":18195.549999999996},{"$f":"SUM(E18:E109)","v":39758.850000000013},null,null,null,null,null,{"$f":"SUM(K18:K109)","v":38069.250000000007}]
["Annette Island","Leask Middle School",23,50.45,{"$f":"C111+D111","v":73.45},"Metlakatla",null,"Metlakatla",{"$f":"SUMIF($F$3:$F$509,H111,$C$3:$C$509)","v":119.8},{"$f":"SUMIF($F$3:$F$509,H111,$D$3:$D$509)","v":147.94999999999999},{"$f":"SUM(I111:J111)","v":267.75},"Annette Island"]
["Annette Island","Metlakatla High School",null,97.5,{"$f":"C112+D112","v":97.5},"Metlakatla",null,null,{"$f":"SUMIF($F$3:$F$509,H112,$C$3:$C$509)","v":0},{"$f":"SUMIF($F$3:$F$509,H112,$D$3:$D$509)","v":0},0,"Annette Island"]
["Annette Island","R. J. Elementary",96.8,null,{"$f":"C113+D113","v":96.8},"Metlakatla",null,null,{"$f":"SUMIF($F$3:$F$509,H113,$C$3:$C$509)","v":0},{"$f":"SUMIF($F$3:$F$509,H113,$D$3:$D$509)","v":0},0,"Annette Island"]
["Annette Island","TOTAL",{"$f":"SUM(C111:C113)","v":119.8},{"$f":"SUM(D111:D113)","v":147.94999999999999},{"$f":"SUM(E111:E113)","v":267.75},null,null,null,null,null,{"$f":"SUM(K111:K113)","v":267.75}]
["Bering Strait","Aniguin School (Elim)",40,48.45,{"$f":"C115+D115","v":88.45},"Elim",null,"Elim",{"$f":"SUMIF($F$3:$F$509,H115,$C$3:$C$509)","v":40},{"$f":"SUMIF($F$3:$F$509,H115,$D$3:$D$509)","v":48.45},88.45,"Bering Strait"]
["Bering Strait","Anthony B. Andrews School (St. Michael)",60.73,44.75,{"$f":"C116+D116","v":105.47999999999999},"St. Michael",null,"St. Michael",60.73,44.75,105.47999999999999,"Bering Strait"]
["Bering Strait","Brevig Mission School",69.75,75.05,144.80000000000001,"Brevig Mission",null,"Brevig Mission",69.75,75.05,144.80000000000001,"Bering Strait"]
["Bering Strait","Diomede School",11,11,22,"Diomede",null,"Diomede",11,11,22,"Bering Strait"]
["Bering Strait","Gambell School",74.400000000000006,71.849999999999994,146.25,"Gambell",null,"Gambell",74.400000000000006,71.849999999999994,146.25,"Bering Strait"]
["Bering Strait","Martin L. Olson School",14.5,22,36.5,"Golovin",null,"Golovin",14.5,22,36.5,"Bering Strait"]
["Bering Strait","James C. Isabell School (Teller)",33,29.15,62.15,"Teller",null,"Teller",33,29.15,62.15,"Bering Strait"]
["Bering Strait","Koyuk Malimiut School",54,35,89,"Koyuk",null,"Koyuk",54,35,89,"Bering Strait"]
["Bering Strait","Hogarth Kingeekuk SR.",99.15,116.9,216.05,"Savoonga",null,"Savoonga",99.15,116.9,216.05,"Bering Strait"]
["Bering Strait","Shaktoolik School",25,38,63,"Shaktoolik",null,"Shaktoolik",25,38,63,"Bering Strait"]
["Bering Strait","Shishmaref School",86,83.45,169.45,"Shishmaref",null,"Shishmaref",86,83.45,169.45,"Bering Strait"]
["Bering Strait","Tukurngailnguq School (Stebbins)",134.85,92.55,227.39999999999998,"Stebbins",null,"Stebbins",134.85,92.55,227.39999999999998,"Bering Strait"]
["Bering Strait","Unalakleet School",85.35,69,154.35,"Unalakleet",null,"Unalakleet",85.35,69,154.35,"Bering Strait"]
["Bering Strait","Wales School (Kingikmiut)",21.9,10,31.9,"Wales",null,"Wales",21.9,10,31.9,"Bering Strait"]
["Bering Strait","White Mountain School",28.5,35.15,63.65,"White Mountain",null,"White Mountain",28.5,35.15,63.65,"Bering Strait"]
["Bering Strait","TOTAL",{"$f":"SUM(C115:C129)","v":838.13},{"$f":"SUM(D115:D129)","v":782.3},{"$f":"SUM(E115:E129)","v":1620.4300000000003},null,null,null,null,null,{"$f":"SUM(K115:K129)","v":1620.4300000000003}]
["Bristol Bay","Bristol Bay School",null,45.73,{"$f":"C131+D131","v":45.73},"Naknek",null,"Naknek",{"$f":"SUMIF($F$3:$F$509,H131,$C$3:$C$509)","v":47.6},{"$f":"SUMIF($F$3:$F$509,H131,$D$3:$D$509)","v":45.73},{"$f":"SUM(I131:J131)","v":93.33},"Bristol Bay"]
["Bristol Bay","Naknek Elementary",47.6,null,{"$f":"C132+D132","v":47.6},"Naknek",null,null,{"$f":"SUMIF($F$3:$F$509,H132,$C$3:$C$509)","v":0},{"$f":"SUMIF($F$3:$F$509,H132,$D$3:$D$509)","v":0},{"$f":"SUM(I132:J132)","v":0},"Bristol Bay"]
["Bristol Bay","TOTAL",{"$f":"SUM(C131:C132)","v":47.6},{"$f":"SUM(D131:D132)","v":45.73},{"$f":"SUM(E131:E132)","v":93.33},null,null,null,null,null,{"$f":"SUM(K131:K132)","v":93.33}]
["Chatham","Angoon School",33,36.049999999999997,{"$f":"C134+D134","v":69.05},"Angoon",null,"Angoon",{"$f":"SUMIF($F$3:$F$509,H134,$C$3:$C$509)","v":33},{"$f":"SUMIF($F$3:$F$509,H134,$D$3:$D$509)","v":36.049999999999997},69.05,"Chatham"]
["Chatham","Gustavus School",25,25.75,{"$f":"C135+D135","v":50.75},"Gustavus",null,"Gustavus",{"$f":"SUMIF($F$3:$F$509,H135,$C$3:$C$509)","v":25},{"$f":"SUMIF($F$3:$F$509,H135,$D$3:$D$509)","v":25.75},50.75,"Chatham"]
["Chatham","Klukwan School",19.5,3,{"$f":"C136+D136","v":22.5},"Klukwan",null,"Klukwan",{"$f":"SUMIF($F$3:$F$509,H136,$C$3:$C$509)","v":19.5},{"$f":"SUMIF($F$3:$F$509,H136,$D$3:$D$509)","v":3},22.5,"Chatham"]
["Chatham","TOTAL",{"$f":"SUM(C134:C136)","v":77.5},{"$f":"SUM(D134:D136)","v":64.8},{"$f":"SUM(E134:E136)","v":142.30000000000001},null,null,null,null,null,{"$f":"SUM(K134:K136)","v":142.30000000000001}]
["Chugach","Chenega Bay School",5,4.4000000000000004,{"$f":"C138+D138","v":9.4},"Chenega Bay",null,"Chenega Bay",{"$f":"SUMIF($F$3:$F$509,H138,$C$3:$C$509)","v":5},{"$f":"SUMIF($F$3:$F$509,H138,$D$3:$D$509)","v":4.4000000000000004},9.4,"Chugach"]
["Chugach","Tatitlek Community School",4,6,{"$f":"C139+D139","v":10},"Tatitlek",null,"Tatitlek",{"$f":"SUMIF($F$3:$F$509,H139,$C$3:$C$509)","v":4},{"$f":"SUMIF($F$3:$F$509,H139,$D$3:$D$509)","v":6},10,"Chugach"]
["Chugach","Whittier Community School",25.65,22.7,{"$f":"C140+D140","v":48.349999999999994},"Whittier",null,"Whittier",{"$f":"SUMIF($F$3:$F$509,H140,$C$3:$C$509)","v":25.65},{"$f":"SUMIF($F$3:$F$509,H140,$D$3:$D$509)","v":22.7},48.349999999999994,"Chugach"]
["Chugach","TOTAL",{"$f":"SUM(C138:C140)","v":34.65},{"$f":"SUM(D138:D140)","v":33.1},{"$f":"SUM(E138:E140)","v":67.75},null,null,null,null,null,{"$f":"SUM(K138:K140)","v":67.75}]
["Copper River","Glennallen School [Jr/Sr HS]",null,81.7,{"$f":"C142+D142","v":81.7},"Glennallen",null,"Glennallen",{"$f":"SUMIF($F$3:$F$509,H142,$C$3:$C$509)","v":124.05},{"$f":"SUMIF($F$3:$F$509,H142,$D$3:$D$509)","v":81.7},{"$f":"SUM(I142:J142)","v":205.75},"Copper River"]
["Copper River","Glennallen School K-6",124.05,null,{"$f":"C143+D143","v":124.05},"Glennallen",null,"Kenny Lake",{"$f":"SUMIF($F$3:$F$509,H143,$C$3:$C$509)","v":34.4},{"$f":"SUMIF($F$3:$F$509,H143,$D$3:$D$509)","v":18.149999999999999},{"$f":"SUM(I143:J143)","v":52.55},"Copper River"]
["Copper River","Kenny Lake School",34.4,18.149999999999999,{"$f":"C144+D144","v":52.55},"Kenny Lake",null,"Slana",{"$f":"SUMIF($F$3:$F$509,H144,$C$3:$C$509)","v":4.75},{"$f":"SUMIF($F$3:$F$509,H144,$D$3:$D$509)","v":7},{"$f":"SUM(I144:J144)","v":11.75},"Copper River"]
["Copper River","Slana School",4.75,7,{"$f":"C145+D145","v":11.75},"Slana",null,null,{"$f":"SUMIF($F$3:$F$509,H145,$C$3:$C$509)","v":0},{"$f":"SUMIF($F$3:$F$509,H145,$D$3:$D$509)","v":0},{"$f":"SUM(I145:J145)","v":0},"Copper River"]
["Copper River","TOTAL",{"$f":"SUM(C142:C145)","v":163.19999999999999},{"$f":"SUM(D142:D145)","v":106.85},{"$f":"SUM(E142:E145)","v":270.05},null,null,null,null,null,{"$f":"SUM(K142:K145)","v":270.05}]
["Cordova","Cordova High School [Jr/Sr HS]",null,123.75,{"$f":"C147+D147","v":123.75},"Cordova",null,"Cordova",{"$f":"SUMIF($F$3:$F$509,H147,$C$3:$C$509)","v":228.05},{"$f":"SUMIF($F$3:$F$509,H147,$D$3:$D$509)","v":123.75},{"$f":"SUM(I147:J147)","v":351.8},"Cordova"]
["Cordova","Mt. Eccles Elementary",228.05,null,{"$f":"C148+D148","v":228.05},"Cordova",null,null,{"$f":"SUMIF($F$3:$F$509,H148,$C$3:$C$509)","v":0},{"$f":"SUMIF($F$3:$F$509,H148,$D$3:$D$509)","v":0},{"$f":"SUM(I148:J148)","v":0},"Cordova"]
["Cordova","TOTAL",{"$f":"SUM(C147:C148)","v":228.05},{"$f":"SUM(D147:D148)","v":123.75},{"$f":"SUM(E147:E148)","v":351.8},null,null,null,null,null,{"$f":"SUM(K147:K148)","v":351.8}]
["Craig","Craig Elementary",79.400000000000006,null,{"$f":"C150+D150","v":79.400000000000006},"Craig",null,"Craig",{"$f":"SUMIF($F$3:$F$509,H150,$C$3:$C$509)","v":93.65},{"$f":"SUMIF($F$3:$F$509,H150,$D$3:$D$509)","v":102.35},{"$f":"SUM(I150:J150)","v":196},"Craig"]
["Craig","Craig Middle School",14.25,37.15,{"$f":"C151+D151","v":51.4},"Craig",null,null,{"$f":"SUMIF($F$3:$F$509,H151,$C$3:$C$509)","v":0},{"$f":"SUMIF($F$3:$F$509,H151,$D$3:$D$509)","v":0},{"$f":"SUM(I151:J151)","v":0},"Craig"]
["Craig","Craig High School",null,65.2,{"$f":"C152+D152","v":65.2},"Craig",null,null,{"$f":"SUMIF($F$3:$F$509,H152,$C$3:$C$509)","v":0},{"$f":"SUMIF($F$3:$F$509,H152,$D$3:$D$509)","v":0},{"$f":"SUM(I152:J152)","v":0},"Craig"]
["Craig","TOTAL",{"$f":"SUM(C150:C152)","v":93.65},{"$f":"SUM(D150:D152)","v":102.35},{"$f":"SUM(E150:E152)","v":196},null,null,null,null,null,{"$f":"SUM(K150:K152)","v":196}]
["Delta/Greely","Delta Junction Elementary School (K-5)",300.75,null,{"$f":"C154+D154","v":300.75},"Delta Junction",null,"Delta Junction",{"$f":"SUMIF($F$3:$F$509,H154,$C$3:$C$509)","v":333.15},{"$f":"SUMIF($F$3:$F$509,H154,$D$3:$D$509)","v":229.43},{"$f":"SUM(I154:J154)","v":562.57999999999993},"Delta/Greely"]
["Delta/Greely","Delta Junction Jr High School (6-8)",32.4,93.83,{"$f":"C155+D155","v":126.22999999999999},"Delta Junction",null,"Gerstle River",{"$f":"SUMIF($F$3:$F$509,H155,$C$3:$C$509)","v":22},{"$f":"SUMIF($F$3:$F$509,H155,$D$3:$D$509)","v":10},{"$f":"SUM(I155:J155)","v":32},"Delta/Greely"]
["Delta/Greely","Delta Junction Sr High School (9-12)",null,135.6,{"$f":"C156+D156","v":135.6},"Delta Junction",null,null,{"$f":"SUMIF($F$3:$F$509,H156,$C$3:$C$509)","v":0},{"$f":"SUMIF($F$3:$F$509,H156,$D$3:$D$509)","v":0},{"$f":"SUM(I156:J156)","v":0},"Delta/Greely"]
["Delta/Greely","Gerstle River School",22,10,{"$f":"C157+D157","v":32},"Gerstle River",null,null,{"$f":"SUMIF($F$3:$F$509,H157,$C$3:$C$509)","v":0},{"$f":"SUMIF($F$3:$F$509,H157,$D$3:$D$509)","v":0},{"$f":"SUM(I157:J157)","v":0},"Delta/Greely"]
["Delta/Greely","TOTAL",{"$f":"SUM(C154:C157)","v":355.15},{"$f":"SUM(D154:D157)","v":239.43},{"$f":"SUM(E154:E157)","v":594.58000000000004},null,null,null,null,null,{"$f":"SUM(K154:K157)","v":594.57999999999993}]
["Denali","Anderson School",4,3.25,{"$f":"C159+D159","v":7.25},"Anderson",null,"Anderson",{"$f":"SUMIF($F$3:$F$509,H159,$C$3:$C$509)","v":4},{"$f":"SUMIF($F$3:$F$509,H159,$D$3:$D$509)","v":3.25},7.25,"Denali"]
["Denali","Cantwell School",8.75,4,{"$f":"C160+D160","v":12.75},"Cantwell",null,"Cantwell",{"$f":"SUMIF($F$3:$F$509,H160,$C$3:$C$509)","v":8.75},{"$f":"SUMIF($F$3:$F$509,H160,$D$3:$D$509)","v":4},12.75,"Denali"]
["Denali","Tri-Valley School",89.66,67.66,{"$f":"C161+D161","v":157.32},"Healy",null,"Healy",{"$f":"SUMIF($F$3:$F$509,H161,$C$3:$C$509)","v":89.66},{"$f":"SUMIF($F$3:$F$509,H161,$D$3:$D$509)","v":67.66},157.32,"Denali"]
["Denali","TOTAL",{"$f":"SUM(C159:C161)","v":102.41},{"$f":"SUM(D159:D161)","v":74.91},{"$f":"SUM(E159:E161)","v":177.32},null,null,null,null,null,{"$f":"SUM(K159:K161)","v":177.32}]
["Dillingham","Dillingham Elementary",169.5,null,{"$f":"C163+D163","v":169.5},"Dillingham",null,"Dillingham",{"$f":"SUMIF($F$3:$F$509,H163,$C$3:$C$509)","v":205.95},{"$f":"SUMIF($F$3:$F$509,H163,$D$3:$D$509)","v":179.65},{"$f":"SUM(I163:J163)","v":385.6},"Dillingham"]
["Dillingham","Dillingham Middle & High School",36.450000000000003,179.65,{"$f":"C164+D164","v":216.10000000000002},"Dillingham",null,null,{"$f":"SUMIF($F$3:$F$509,H164,$C$3:$C$509)","v":0},{"$f":"SUMIF($F$3:$F$509,H164,$D$3:$D$509)","v":0},0,"Dillingham"]
["Dillingham","TOTAL",{"$f":"SUM(C163:C164)","v":205.95},{"$f":"SUM(D163:D164)","v":179.65},{"$f":"SUM(E163:E164)","v":385.6},null,null,null,null,null,{"$f":"SUM(K163:K164)","v":385.6}]
["Fairbanks","Anne Wien Elementary School",355.74,null,{"$f":"C166+D166","v":355.74},"Fairbanks",null,"North Pole",{"$f":"SUMIF($F$3:$F$509,H166,$C$3:$C$509)","v":1192.53},{"$f":"SUMIF($F$3:$F$509,H166,$D$3:$D$509)","v":1291.8799999999999},2484.41,"Fairbanks"]
["Fairbanks","Arctic Light Elementary School",359.61,null,{"$f":"C167+D167","v":359.61},"Ft. Wainwright",null,"Salcha",59.5,0,59.5,"Fairbanks"]
["Fairbanks","Barnette Elementary School",327,90,417,"Fairbanks",null,"Two Rivers",54,10,64,"Fairbanks"]
["Fairbanks","Boreal Sun Charter School ",158.75,42,200.75,"None",null,"Ft. Wainwright",359.61,0,359.61,"Fairbanks"]
["Fairbanks","Chinook Montessori Charter School",113,45,158,"None",null,"Fairbanks",3660.96,3053.7999999999997,6714.76,"Fairbanks"]
["Fairbanks","Anderson Crawford Elementary School",362.73,0,362.73,"Eielson",null,"Eielson",362.73,0,362.73,"Fairbanks"]
["Fairbanks","Denali Elementary School",293.2,null,293.2,"Fairbanks",null,null,0,0,0,"Fairbanks"]
["Fairbanks","Hunter Elementary School",325.33,null,325.33,"Fairbanks",null,null,0,0,0,"Fairbanks"]
["Fairbanks","Hutchison High School",null,350.95,350.95,"Fairbanks",null,null,0,0,0,"Fairbanks"]
["Fairbanks","Ladd Elementary School",363.8,19,382.8,"Fairbanks",null,null,0,0,0,"Fairbanks"]
["Fairbanks","Lathrop High School",null,781.7,781.7,"Fairbanks",null,null,0,0,0,"Fairbanks"]
["Fairbanks","Midnight Sun Elementary School",315.01,null,315.01,"North Pole",null,null,0,0,{"$f":"SUM(I177:J177)","v":0},"Fairbanks"]
["Fairbanks","North Pole Elementary School",307.07,null,307.07,"North Pole",null,null,0,0,0,"Fairbanks"]
["Fairbanks","North Pole High School",null,687.53,687.53,"North Pole",null,null,0,0,0,"Fairbanks"]
["Fairbanks","North Pole Middle School",221.15,408.25,629.4,"North Pole",null,null,0,0,0,"Fairbanks"]
["Fairbanks","North Star Middle College",null,196.1,196.1,"North Pole",null,null,0,0,0,"Fairbanks"]
["Fairbanks","Pearl Creek Elementary School",383.99,null,383.99,"Fairbanks",null,null,0,0,0,"Fairbanks"]
["Fairbanks","Randy Smith Middle School",139.5,269.55,409.05,"Fairbanks",null,null,0,0,0,"Fairbanks"]
["Fairbanks","Ryan Middle School",174.6,287.64999999999998,462.25,"Fairbanks",null,null,0,0,0,"Fairbanks"]
["Fairbanks","Salcha Elementary School",59.5,null,59.5,"Salcha",null,null,0,0,0,"Fairbanks"]
["Fairbanks","Tanana Middle School",185.1,335.95,521.04999999999995,"Fairbanks",null,null,0,0,0,"Fairbanks"]
["Fairbanks","Ticasuk Brown Elementary School",349.3,null,349.3,"North Pole",null,null,0,0,0,"Fairbanks"]
["Fairbanks","Two Rivers Elementary School",54,10,64,"Two Rivers",null,null,0,0,0,"Fairbanks"]
["Fairbanks","University Park Elementary School",360.65,null,360.65,"Fairbanks",null,null,0,0,0,"Fairbanks"]
["Fairbanks","Weller Elementary School",411.15,null,411.15,"Fairbanks",null,null,0,0,0,"Fairbanks"]
["Fairbanks","West Valley High School",null,778.4,778.4,"Fairbanks",null,null,0,0,0,"Fairbanks"]
["Fairbanks","Woodriver Elementary School",340.9,null,340.9,"Fairbanks",null,null,0,0,0,"Fairbanks"]
["Fairbanks","Discovery Peak Charter School",153.85,39.450000000000003,193.3,"None",null,null,0,0,{"$f":"SUM(I193:J193)","v":0},"Fairbanks"]
["Fairbanks","Effie Kokrine Charter School",null,140.6,140.6,"Fairbanks",null,null,0,0,0,"Fairbanks"]
["Fairbanks","Watershed Charter School",155.25,44,199.25,"None",null,null,0,0,0,"Fairbanks"]
["Fairbanks","Alternative Learning Systems",10.25,179.1,189.35,"None",null,null,0,0,0,"Fairbanks"]
["Fairbanks","Golden Heart Academy (FYF)",null,20,20,"None",null,null,0,0,0,"Fairbanks"]
["Fairbanks","TOTAL",{"$f":"SUM(C166:C197)","v":6280.43},{"$f":"SUM(D166:D197)","v":4725.2300000000005},{"$f":"SUM(E166:E197)","v":11005.659999999998},null,null,null,null,null,{"$f":"SUM(K166:K197)","v":10045.01}]
["Galena","Sidney C. Huntington Elementary",47.2,null,{"$f":"C199+D199","v":47.2},"Galena",null,"Galena",{"$f":"SUMIF($F$3:$F$509,H199,$C$3:$C$509)","v":47.2},{"$f":"SUMIF($F$3:$F$509,H199,$D$3:$D$509)","v":221.6},{"$f":"SUM(I199:J199)","v":268.8},"Galena"]
["Galena","Sidney C. Huntington Jr/Sr HS",null,42,{"$f":"C200+D200","v":42},"Galena",null,null,{"$f":"SUMIF($F$3:$F$509,H200,$C$3:$C$509)","v":0},{"$f":"SUMIF($F$3:$F$509,H200,$D$3:$D$509)","v":0},0,"Galena"]
["Galena","Galena Interior Learning Academy",null,179.6,{"$f":"C201+D201","v":179.6},"Galena",null,null,{"$f":"SUMIF($F$3:$F$509,H201,$C$3:$C$509)","v":0},{"$f":"SUMIF($F$3:$F$509,H201,$D$3:$D$509)","v":0},0,"Galena"]
["Galena","TOTAL",{"$f":"SUM(C199:C201)","v":47.2},{"$f":"SUM(D199:D201)","v":221.6},{"$f":"SUM(E199:E201)","v":268.8},null,null,null,null,null,{"$f":"SUM(K199:K201)","v":268.8}]
["Haines","Haines Elementary School K-8",108.53,46,{"$f":"C203+D203","v":154.53},"Haines",null,"Haines",{"$f":"SUMIF($F$3:$F$509,H203,$C$3:$C$509)","v":108.53},{"$f":"SUMIF($F$3:$F$509,H203,$D$3:$D$509)","v":120},{"$f":"SUM(I203:J203)","v":228.53},"Haines"]
["Haines","Haines High School",null,74,{"$f":"C204+D204","v":74},"Haines",null,null,{"$f":"SUMIF($F$3:$F$509,H204,$C$3:$C$509)","v":0},{"$f":"SUMIF($F$3:$F$509,H204,$D$3:$D$509)","v":0},{"$f":"SUM(I204:J204)","v":0},"Haines"]
["Haines","TOTAL",{"$f":"SUM(C203:C204)","v":108.53},{"$f":"SUM(D203:D204)","v":120},{"$f":"SUM(E203:E204)","v":228.53},null,null,null,null,null,{"$f":"SUM(I203:J203)","v":228.53}]
["Hoonah","Hoonah City School (K-12)",61,46.1,{"$f":"C206+D206","v":107.1},"Hoonah",null,"Hoonah",{"$f":"SUMIF($F$3:$F$509,H206,$C$3:$C$509)","v":61},{"$f":"SUMIF($F$3:$F$509,H206,$D$3:$D$509)","v":46.1},{"$f":"SUM(I206:J206)","v":107.1},"Hoonah"]
["Hoonah","TOTAL",{"$f":"SUM(C206:C206)","v":61},{"$f":"SUM(D206:D206)","v":46.1},{"$f":"SUM(E206:E206)","v":107.1},null,null,null,null,null,{"$f":"SUM(I206:J206)","v":107.1}]
["Hydaburg","Hydaburg School",34,35.5,{"$f":"C208+D208","v":69.5},"Hydaburg",null,"Hydaburg",{"$f":"SUMIF($F$3:$F$509,H208,$C$3:$C$509)","v":34},{"$f":"SUMIF($F$3:$F$509,H208,$D$3:$D$509)","v":35.5},{"$f":"SUM(I208:J208)","v":69.5},"Hydaburg"]
["Hydaburg","TOTAL",{"$f":"SUM(C208:C208)","v":34},{"$f":"SUM(D208:D208)","v":35.5},{"$f":"SUM(E208:E208)","v":69.5},null,null,null,null,null,{"$f":"SUM(I208:J208)","v":69.5}]
["Iditarod","Blackwell School (Anvik)",7,5,{"$f":"C210+D210","v":12},"Anvik",null,"Anvik",{"$f":"SUMIF($F$3:$F$509,H210,$C$3:$C$509)","v":7},{"$f":"SUMIF($F$3:$F$509,H210,$D$3:$D$509)","v":5},{"$f":"SUM(I210:J210)","v":12},"Iditarod"]
["Iditarod","David-Louis Memorial School (Grayling)",19.3,11.6,{"$f":"C211+D211","v":30.9},"Grayling",null,"Grayling",19.3,11.6,30.9,"Iditarod"]
["Iditarod","Jeffery A. Bader Memorial School",14,2.75,16.75,"Holy Cross",null,"Holy Cross",14,2.75,16.75,"Iditarod"]
["Iditarod","Innoko River School (Shageluk)",20.100000000000001,9,29.1,"Shageluk",null,"McGrath",22.6,13.8,36.400000000000006,"Iditarod"]
["Iditarod","McGrath School",22.6,13.8,36.400000000000006,"McGrath",null,"Nikolai",9,3.2,12.2,"Iditarod"]
["Iditarod","Takotna Community School ",3.5,7,10.5,"Takotna",null,"Shageluk",20.100000000000001,9,29.1,"Iditarod"]
["Iditarod","Top of the Kuskokwim School (Nikolai)",9,3.2,12.2,"Nikolai",null,"Takotna",3.5,7,10.5,"Iditarod"]
["Iditarod","TOTAL",{"$f":"SUM(C210:C216)","v":95.5},{"$f":"SUM(D210:D216)","v":52.350000000000009},{"$f":"SUM(E210:E216)","v":147.85},null,null,null,null,null,{"$f":"SUM(K210:K216)","v":147.85000000000002}]
["Juneau","Auke Bay Elementary School",346.5,null,{"$f":"C218+D218","v":346.5},"Juneau",null,"Juneau",{"$f":"SUMIF($F$3:$F$509,H218,$C$3:$C$509)","v":2020.2600000000002},{"$f":"SUMIF($F$3:$F$509,H218,$D$3:$D$509)","v":1692.4999999999998},{"$f":"SUM(I218:J218)","v":3712.76},"Juneau"]
["Juneau","Sayeik: Gastineau Community School (K-5)",272.75,null,272.75,"Juneau",null,null,0,0,0,"Juneau"]
["Juneau","Sit' Eeti Shaanax! - Glacier Valley Elementary",291.68,null,291.68,"Juneau",null,null,0,0,0,"Juneau"]
["Juneau","Harborview Elementary School",327.10000000000002,null,327.10000000000002,"Juneau",null,null,0,0,0,"Juneau"]
["Juneau","Juneau-Douglas High School: Yadaa.at Kalé ",null,1000.8,1000.8,"Juneau",null,null,0,0,0,"Juneau"]
["Juneau","Mendenhall River Elementary School",276.13,null,276.13,"Juneau",null,null,0,0,0,"Juneau"]
["Juneau","Kax̱digoowu Héen Elementary School",284.75,null,284.75,"Juneau",null,null,0,0,0,"Juneau"]
["Juneau","Thunder Mountain High School",null,566.4,566.4,"Juneau",null,null,0,0,0,"Juneau"]
["Juneau","Juneau Community Charter School",58,12.1,70.099999999999994,"Juneau",null,null,0,0,0,"Juneau"]
["Juneau","Montessori Borealis Alt School ",163.35,29,192.35,"Juneau",null,null,0,0,0,"Juneau"]
["Juneau","Yaakoosge Daahakidi Alt High School",null,84.2,84.2,"Juneau",null,null,0,0,0,"Juneau"]
["Juneau","Johnson Youth Center",0,18,18,"None",null,null,0,0,0,"Juneau"]
["Juneau","TOTAL",{"$f":"SUM(C218:C229)","v":2020.2600000000002},{"$f":"SUM(D218:D229)","v":1710.4999999999998},{"$f":"SUM(E218:E229)","v":3730.7599999999998},null,null,null,null,null,{"$f":"SUM(K218:K229)","v":3712.76}]
["Kake","Kake Elementary & High School",60.25,47.85,{"$f":"C231+D231","v":108.1},"Kake",null,"Kake",{"$f":"SUMIF($F$3:$F$509,H231,$C$3:$C$509)","v":60.25},{"$f":"SUMIF($F$3:$F$509,H231,$D$3:$D$509)","v":47.85},108.1,"Kake"]
["Kake","TOTAL",{"$f":"SUM(C231:C231)","v":60.25},{"$f":"SUM(D231:D231)","v":47.85},{"$f":"SUM(E231:E231)","v":108.1},null,null,null,null,null,{"$f":"SUM(I231:J231)","v":108.1}]
["Kashunamiut","Chevak School",167.65,137.5,{"$f":"C233+D233","v":305.14999999999998},"Chevak",null,"Chevak",{"$f":"SUMIF($F$3:$F$509,H233,$C$3:$C$509)","v":167.65},{"$f":"SUMIF($F$3:$F$509,H233,$D$3:$D$509)","v":137.5},305.14999999999998,"Kashunamiut"]
["Kashunamiut","TOTAL",{"$f":"SUM(C233)","v":167.65},{"$f":"SUM(D233)","v":137.5},{"$f":"SUM(E233)","v":305.14999999999998},null,null,null,null,null,{"$f":"SUM(I233:J233)","v":305.14999999999998}]
["Kenai Peninsula","Chapman School (anchor point)",133.19999999999999,34.200000000000003,{"$f":"C235+D235","v":167.39999999999998},"Homer",null,"Cooper Landing",{"$f":"SUMIF($F$3:$F$509,H235,$C$3:$C$509)","v":13.45},{"$f":"SUMIF($F$3:$F$509,H235,$D$3:$D$509)","v":2.4500000000000002},15.899999999999999,"Kenai Peninsula"]
["Kenai Peninsula","Cooper Landing School (K-12)",13.45,2.4500000000000002,15.899999999999999,"Cooper Landing",null,null,0,0,0,"Kenai Peninsula"]
["Kenai Peninsula","Homer Middle School",null,202.6,202.6,"Homer",null,"Homer",809.18000000000006,654.09,1463.27,"Kenai Peninsula"]
["Kenai Peninsula","Homer Senior High School",null,348.19,348.19,"Homer",null,"Hope",10,9.4,19.399999999999999,"Kenai Peninsula"]
["Kenai Peninsula","Hope School",10,9.4,19.399999999999999,"Hope",null,"Kachemak",22,7.68,29.68,"Kenai Peninsula"]
["Kenai Peninsula","Kachemak Selo School (Kachemak)",22,7.68,29.68,"Kachemak",null,"Kenai",919.01,871.57999999999993,1790.59,"Kenai Peninsula"]
["Kenai Peninsula","Kalifornsky Beach Elementary (soldotna)",376.25,null,376.25,"Soldotna",null,"Moose Pass",17,0,17,"Kenai Peninsula"]
["Kenai Peninsula","Kenai Central High School",null,510.83,510.83,"Kenai",null,"Nanwalek",35,25,60,"Kenai Peninsula"]
["Kenai Peninsula","Kenai Middle School",126.15,280.2,406.35,"Kenai",null,"Nikiski",248.35,237.44,485.78999999999996,"Kenai Peninsula"]
["Kenai Peninsula","McNeil Canyon Elementary (homer)",143.49,null,143.49,"Homer",null,"Nikolaevsk",13,6,19,"Kenai Peninsula"]
["Kenai Peninsula","Moose Pass School",17,null,17,"Moose Pass",null,"Ninilchik",60.43,46.4,106.83,"Kenai Peninsula"]
["Kenai Peninsula","Mountain View Elementary (kenai)",426.81,null,426.81,"Kenai",null,"Port Graham",16,13,29,"Kenai Peninsula"]
["Kenai Peninsula","Nanwalek School",35,25,60,"Nanwalek",null,"Seldovia",14.46,9.65,24.11,"Kenai Peninsula"]
["Kenai Peninsula","Nikiski North Star Elementary School (K-5)",215.45,null,215.45,"Nikiski",null,"Seward",234,233.83999999999997,467.84,"Kenai Peninsula"]
["Kenai Peninsula","Nikiski Middle/High School (6-12)",32.9,237.44,270.33999999999997,"Nikiski",null,"Soldotna",1360.96,1091.03,2451.9899999999998,"Kenai Peninsula"]
["Kenai Peninsula","Nikolaevsk School (nikolaevsk)",13,6,19,"Nikolaevsk",null,"Tyonek",12.5,9,21.5,"Kenai Peninsula"]
["Kenai Peninsula","Ninilchik School",60.43,46.4,106.83,"Ninilchik",null,"Fritz Creek",93,43.5,136.5,"Kenai Peninsula"]
["Kenai Peninsula","Paul Banks Elementary School (homer)",179.19,null,179.19,"Homer",null,null,0,0,0,"Kenai Peninsula"]
["Kenai Peninsula","Port Graham School",16,13,29,"Port Graham",null,null,0,0,0,"Kenai Peninsula"]
["Kenai Peninsula","Razdolna School  (Homer)",38,34,72,"Homer",null,null,0,0,0,"Kenai Peninsula"]
["Kenai Peninsula","Redoubt Elementary School (soldotna)",303.45,null,303.45,"Soldotna",null,null,0,0,0,"Kenai Peninsula"]
["Kenai Peninsula","Seward Elementary School",197.5,null,197.5,"Seward",null,null,0,0,0,"Kenai Peninsula"]
["Kenai Peninsula","Seward High School",null,167.04,167.04,"Seward",null,null,0,0,0,"Kenai Peninsula"]
["Kenai Peninsula","Seward Middle School",36.5,66.8,103.3,"Seward",null,null,0,0,0,"Kenai Peninsula"]
["Kenai Peninsula","Skyview Middle School (soldotna)",null,347.29,347.29,"Soldotna",null,null,0,0,0,"Kenai Peninsula"]
["Kenai Peninsula","Soldotna Elementary School",256.01,null,256.01,"Soldotna",null,null,0,0,0,"Kenai Peninsula"]
["Kenai Peninsula","Soldotna High School",null,665.49,665.49,"Soldotna",null,null,0,0,0,"Kenai Peninsula"]
["Kenai Peninsula","Sterling Elementary School (sterling)",112.85,null,112.85,"Soldotna",null,null,0,0,0,"Kenai Peninsula"]
["Kenai Peninsula","Susan B. English School (seldovia)",14.46,9.65,24.11,"Seldovia",null,null,0,0,0,"Kenai Peninsula"]
["Kenai Peninsula","Tebughna School (Tyonek)",12.5,9,21.5,"Tyonek",null,null,0,0,0,"Kenai Peninsula"]
["Kenai Peninsula","Tustumena Elementary School (Kasilof)",148.44999999999999,null,148.44999999999999,"Soldotna",null,null,0,0,0,"Kenai Peninsula"]
["Kenai Peninsula","Voznesenka School (Fritz Creek)",93,43.5,136.5,"Fritz Creek",null,null,0,0,0,"Kenai Peninsula"]
["Kenai Peninsula","West Homer Elementary (Homer Intermd.)",211.85,null,211.85,"Homer",null,null,0,0,0,"Kenai Peninsula"]
["Kenai Peninsula","Homer Flex",null,35.1,35.1,"Homer",null,null,0,0,0,"Kenai Peninsula"]
["Kenai Peninsula","Kenai Alternative School",null,42.55,42.55,"Kenai",null,null,0,0,0,"Kenai Peninsula"]
["Kenai Peninsula","River City Academy ",null,78.25,78.25,"Soldotna",null,null,0,0,0,"Kenai Peninsula"]
["Kenai Peninsula","Aurora Borealis Charter (soldotna)",160.85,38,198.85,"Kenai",null,null,0,0,0,"Kenai Peninsula"]
["Kenai Peninsula","Kaleidoscope Charter School",205.2,null,205.2,"Kenai",null,null,0,0,{"$f":"SUM(I272:J272)","v":0},"Kenai Peninsula"]
["Kenai Peninsula","Fireweed Academy Charter (Homer)",103.45,null,103.45,"Homer",null,null,0,0,0,"Kenai Peninsula"]
["Kenai Peninsula","Soldotna Montessori Charter ",163.95,null,163.95,"Soldotna",null,null,0,0,0,"Kenai Peninsula"]
["Kenai Peninsula","Marathon School (Kenai Youth Facility)",null,10,10,"None",null,null,0,0,0]
["Kenai Peninsula","TOTAL",{"$f":"SUM(C235:C275)","v":3878.3399999999988},{"$f":"SUM(D235:D275)","v":3270.0600000000004},{"$f":"SUM(E235:E275)","v":7148.4000000000005},null,null,null,null,null,{"$f":"SUM(K235:K275)","v":7138.4}]
["Ketchikan","Fawn Mountain Elementary",206.14,null,{"$f":"C277+D277","v":206.14},"Ketchikan",null,"Ketchikan",{"$f":"SUMIF($F$3:$F$509,H277,$C$3:$C$509)","v":952.9},{"$f":"SUMIF($F$3:$F$509,H277,$D$3:$D$509)","v":938.55},{"$f":"SUM(I277:J277)","v":1891.4499999999998},"Ketchikan"]
["Ketchikan","Houghtaling Elementary School",283.89999999999998,null,283.89999999999998,"Ketchikan",null,null,0,0,0,"Ketchikan"]
["Ketchikan","Ketchikan High School",null,534.29999999999995,534.29999999999995,"Ketchikan",null,null,0,0,0,"Ketchikan"]
["Ketchikan","Point Higgins Elementary School",204.4,null,204.4,"Ketchikan",null,null,0,0,0,"Ketchikan"]
["Ketchikan","Schoenbar Middle School",null,251.5,251.5,"Ketchikan",null,null,0,0,{"$f":"SUM(I281:J281)","v":0},"Ketchikan"]
["Ketchikan","Revilla High School (Alt.)",null,102.4,102.4,"Ketchikan",null,null,0,0,0,"Ketchikan"]
["Ketchikan","Tongass School of Arts & Sciences Charter",121.81,null,121.81,"Ketchikan",null,null,0,0,0,"Ketchikan"]
["Ketchikan","Ketchikan Charter School",136.65,50.35,187,"Ketchikan",null,null,0,0,0,"Ketchikan"]
["Ketchikan","TOTAL",{"$f":"SUM(C277:C284)","v":952.9},{"$f":"SUM(D277:D284)","v":938.55},{"$f":"SUM(E277:E284)","v":1891.45},null,null,null,null,null,{"$f":"SUM(I277:J277)","v":1891.4499999999998}]
["Klawock","Klawock School",72.349999999999994,54,{"$f":"C286+D286","v":126.35},"Klawock",null,"Klawock",{"$f":"SUMIF($F$3:$F$509,H286,$C$3:$C$509)","v":72.349999999999994},{"$f":"SUMIF($F$3:$F$509,H286,$D$3:$D$509)","v":54},126.35,"Klawock"]
["Klawock","TOTAL",{"$f":"SUM(C286)","v":72.349999999999994},{"$f":"SUM(D286)","v":54},{"$f":"SUM(E286)","v":126.35},null,null,null,null,null,{"$f":"SUM(I286:J286)","v":126.35}]
["Kodiak Island","Akhiok School",5,8,{"$f":"C288+D288","v":13},"Akhiok",null,"Akhiok",{"$f":"SUMIF($F$3:$F$509,H288,$C$3:$C$509)","v":5},{"$f":"SUMIF($F$3:$F$509,H288,$D$3:$D$509)","v":8},13,"Kodiak Island"]
["Kodiak Island","Chiniak School",8,8,16,"Chiniak",null,"Chiniak",8,8,16,"Kodiak Island"]
["Kodiak Island","East Elementary School (Kodiak)",244.5,null,244.5,"Kodiak",null,"Kodiak",931.65,826.65000000000009,1758.3000000000002,"Kodiak Island"]
["Kodiak Island","Kodiak High School",null,570.1,570.1,"Kodiak",null,"Old Harbor",27,11.3,38.299999999999997,"Kodiak Island"]
["Kodiak Island","Kodiak Middle School",145,256.55,401.55,"Kodiak",null,"Ouzinkie",12,4,16,"Kodiak Island"]
["Kodiak Island","Main Elementary School (Kodiak)",174.65,null,174.65,"Kodiak",null,"Port Lions",16.5,8,24.5,"Kodiak Island"]
["Kodiak Island","North Star Elementary School (Kodiak)",161.5,null,161.5,"Kodiak",null,null,0,0,0,"Kodiak Island"]
["Kodiak Island","Old Harbor School",27,11.3,38.299999999999997,"Old Harbor",null,null,0,0,0,"Kodiak Island"]
["Kodiak Island","Ouzinkie School",12,4,16,"Ouzinkie",null,null,0,0,0,"Kodiak Island"]
["Kodiak Island","Peterson Elementary School (Kodiak)",206,null,206,"Kodiak",null,null,0,0,0,"Kodiak Island"]
["Kodiak Island","Port Lions School",16.5,8,24.5,"Port Lions",null,null,0,0,0,"Kodiak Island"]
["Kodiak Island","TOTAL",{"$f":"SUM(C288:C298)","v":1000.15},{"$f":"SUM(D288:D298)","v":865.95},{"$f":"SUM(E288:E298)","v":1866.1000000000001},null,null,null,null,null,{"$f":"SUM(K288:K298)","v":1866.1000000000001}]
["Kuspuk","Aniak Jr/Sr. High School",6.95,42.5,{"$f":"C300+D300","v":49.45},"Aniak",null,"Aniak",{"$f":"SUMIF($F$3:$F$509,H300,$C$3:$C$509)","v":42.650000000000006},{"$f":"SUMIF($F$3:$F$509,H300,$D$3:$D$509)","v":42.5},{"$f":"SUM(I300:J300)","v":85.15},"Kuspuk"]
["Kuspuk","Auntie Mary Nicoli Elementary (Aniak)",35.700000000000003,null,35.700000000000003,"Aniak",null,"Chuathbaluk",10,8,18,"Kuspuk"]
["Kuspuk","Crow Village Sam School (Chuathbaluk)",10,8,18,"Chuathbaluk",null,"Crooked Creek",12.55,11.65,24.200000000000003,"Kuspuk"]
["Kuspuk","George Morgan Jr/Sr. High School (Kalskag)",9,55.65,64.650000000000006,"Upper Kalskag",null,"Upper Kalskag",79.849999999999994,55.65,135.5,"Kuspuk"]
["Kuspuk","Gusty Michael School (Stony River)",null,null,0,"Stony River",null,"Sleetmute",10,7,17,"Kuspuk"]
["Kuspuk","Jack Egnaty Sr. School  (Sleetmute)",10,7,17,"Sleetmute",null,"Stony River",0,0,0,"Kuspuk"]
["Kuspuk","Johnnie John Sr School (Crooked Creek)",12.55,11.65,24.200000000000003,"Crooked Creek",null,null,0,0,0,"Kuspuk"]
["Kuspuk","Joseph & Olinga Gregory School (Kalskag)",33.85,null,33.85,"Upper Kalskag",null,null,0,0,0,"Kuspuk"]
["Kuspuk","Zackar Levi Elementary School (Lower Kalskag)",37,null,37,"Upper Kalskag",null,null,0,0,0,"Kuspuk"]
["Kuspuk","TOTAL",{"$f":"SUM(C300:C308)","v":155.05000000000001},{"$f":"SUM(D300:D308)","v":124.80000000000001},{"$f":"SUM(E300:E308)","v":279.85000000000002},null,null,null,null,null,{"$f":"SUM(K300:K308)","v":279.85000000000002}]
["Lake & Peninsula","Chignik Lagoon School",10,4,{"$f":"C310+D310","v":14},"Chignik Lagoon",null,"Chignik Lagoon",{"$f":"SUMIF($F$3:$F$509,H310,$C$3:$C$509)","v":10},{"$f":"SUMIF($F$3:$F$509,H310,$D$3:$D$509)","v":4},14,"Lake & Peninsula"]
["Lake & Peninsula","Chignik Lake School",14,8,22,"Chignik Lake",null,"Chignik Lake",14,8,22,"Lake & Peninsula"]
["Lake & Peninsula","Igugig School",11,9,20,"Igiugig",null,"Igiugig",11,9,20,"Lake & Peninsula"]
["Lake & Peninsula","Kokhanok School",19,16.149999999999999,35.15,"Kokhanok",null,"Kokhanok",19,16.149999999999999,35.15,"Lake & Peninsula"]
["Lake & Peninsula","Levelock School",8,4,12,"Levelock",null,"Levelock",8,4,12,"Lake & Peninsula"]
["Lake & Peninsula","Newhalen School",40.299999999999997,30,70.3,"Newhalen",null,"Newhalen",40.299999999999997,30,70.3,"Lake & Peninsula"]
["Lake & Peninsula","Nondalton School",10.9,9.9,20.8,"Nondalton",null,"Nondalton",10.9,9.9,20.8,"Lake & Peninsula"]
["Lake & Peninsula","Perryville School",11.7,10.9,22.6,"Perryville",null,"Perryville",11.7,10.9,22.6,"Lake & Peninsula"]
["Lake & Peninsula","Tanalian School",19.100000000000001,18.100000000000001,37.200000000000003,"Port Alsworth",null,"Port Alsworth",19.100000000000001,18.100000000000001,37.200000000000003,"Lake & Peninsula"]
["Lake & Peninsula","Meshik School",14.75,12,26.75,"Port Heiden",null,"Port Heiden",14.75,12,26.75,"Lake & Peninsula"]
["Lake & Peninsula","TOTAL",{"$f":"SUM(C310:C319)","v":158.75},{"$f":"SUM(D310:D319)","v":122.05000000000001},{"$f":"SUM(E310:E319)","v":280.8},null,null,null,null,null,{"$f":"SUM(K310:K319)","v":280.8}]
["Lower Kuskokwim","Akiuk Memorial School (Kasigluk)",34.799999999999997,35.35,{"$f":"C321+D321","v":70.150000000000006},"Kasigluk",null,"Atmautluak",{"$f":"SUMIF($F$3:$F$509,H321,$C$3:$C$509)","v":64.05},{"$f":"SUMIF($F$3:$F$509,H321,$D$3:$D$509)","v":41.1},{"$f":"SUM(I321:J321)","v":105.15},"Lower Kuskokwim"]
["Lower Kuskokwim","Akula Elitnauvik School (Kasigluk)",50.75,62.85,113.6,"Kasigluk",null,"Bethel",518.65,400.4,{"$f":"SUM(I322:J322)","v":919.05},"Lower Kuskokwim"]
["Lower Kuskokwim","Anna Tobeluk Memorial School (Nunapitchuk)",84.7,84.4,169.10000000000002,"Nunapitchuk",null,"Chefornak",79.05,56.75,135.80000000000001,"Lower Kuskokwim"]
["Lower Kuskokwim","Mertarvik School",34.85,39,73.849999999999994,"Mertavik",null,"Kasigluk",85.55,98.2,183.75,"Lower Kuskokwim"]
["Lower Kuskokwim","Bethel Regional High School (7-12)",0,400.4,400.4,"Bethel",null,"Kipnuk",135.35,84.75,220.1,"Lower Kuskokwim"]
["Lower Kuskokwim","Chapatnguak School (Chefornak)",79.05,56.75,135.80000000000001,"Chefornak",null,"Kongiganak",89,78.099999999999994,167.1,"Lower Kuskokwim"]
["Lower Kuskokwim","Chief Paul Memorial  (Kipnuk)",135.35,84.75,220.1,"Kipnuk",null,"Kwethluk",146.69999999999999,106.15,252.85,"Lower Kuskokwim"]
["Lower Kuskokwim","Ayagina'ar Elitnaurvik School (Kongiganak)",89,78.099999999999994,167.1,"Kongiganak",null,"Kwigillingok",69.5,43,112.5,"Lower Kuskokwim"]
["Lower Kuskokwim","Eek School",49.5,48,97.5,"Eek",null,"Mekoryuk",18.350000000000001,23,41.35,"Lower Kuskokwim"]
["Lower Kuskokwim","Joann A. Alexie Memorial School (Atmautlak)",64.05,41.1,105.15,"Atmautluak",null,"Mertavik",34.85,39,73.849999999999994,"Lower Kuskokwim"]
["Lower Kuskokwim","Ket'chik/Aapalluk Memorial School (Kwethluk)",146.69999999999999,106.15,252.85,"Kwethluk",null,"Napakiak",52.15,24.35,76.5,"Lower Kuskokwim"]
["Lower Kuskokwim","Gladys Jung Elementary (bethel)",305.39999999999998,0,305.39999999999998,"Bethel",null,"Napaskiak",72.45,59,131.44999999999999,"Lower Kuskokwim"]
["Lower Kuskokwim","Kwigillingok School",69.5,43,112.5,"Kwigillingok",null,"Eek",49.5,48,97.5,"Lower Kuskokwim"]
["Lower Kuskokwim","Lewis Angapak Memorial School (Tuntululiak)",72,59,131,"Tuntutuliak",null,"Nightmute",50.05,25,75.05,"Lower Kuskokwim"]
["Lower Kuskokwim","Mikelnguut Elitnaurviat (bethel)",213.25,0,213.25,"Bethel",null,"Nunapitchuk",84.7,84.4,169.10000000000002,"Lower Kuskokwim"]
["Lower Kuskokwim","Nelson Island School (Toksook Bay)",107.1,65.7,172.8,"Toksook Bay",null,"Oscarville",14,6,20,"Lower Kuskokwim"]
["Lower Kuskokwim","Negtemiut Elitnaurviat (Nightmute)",50.05,25,75.05,"Nightmute",null,"Goodnews Bay",40.799999999999997,31.35,72.150000000000006,"Lower Kuskokwim"]
["Lower Kuskokwim","Nuniwarmiut School (Meyoryuk)",18.350000000000001,23,41.35,"Mekoryuk",null,"Quinhagak",97.25,80.650000000000006,177.9,"Lower Kuskokwim"]
["Lower Kuskokwim","Paul T. Albert Memorial School (Tununak)",65,29,94,"Tununak",null,"Toksook Bay",107.1,65.7,172.8,"Lower Kuskokwim"]
["Lower Kuskokwim","Qugcuun Memorial School (Oscarville)",14,6,20,"Oscarville",null,"Tuntutuliak",72,59,131,"Lower Kuskokwim"]
["Lower Kuskokwim","Kuinerrarmiut Elitnaurviat School (Quinhagak)",97.25,80.650000000000006,177.9,"Quinhagak",null,"Tununak",65,29,94,"Lower Kuskokwim"]
["Lower Kuskokwim","Rocky Mountain School (Good News Bay)",40.799999999999997,31.35,72.150000000000006,"Goodnews Bay",null,null,0,0,0,"Lower Kuskokwim"]
["Lower Kuskokwim","William N Miller Memorial (Napakiak)",52.15,24.35,76.5,"Napakiak",null,null,0,0,0,"Lower Kuskokwim"]
["Lower Kuskokwim","Z. John Williams Memorial School (Napaskiak)",72.45,59,131.44999999999999,"Napaskiak",null,null,0,0,0,"Lower Kuskokwim"]
["Lower Kuskokwim","Ayaprun Elitnaurvik Yup’ik Immersion (bethel)",175.75,27,202.75,"None",null,null,0,0,0,"Lower Kuskokwim"]
["Lower Kuskokwim","Kuskokwim Learning Academy",null,45.7,45.7,"None",null,null,0,0,0,"Lower Kuskokwim"]
["Lower Kuskokwim","Bethel Youth Facility",0,22,22,"None",null,null,0,0,0,"Lower Kuskokwim"]
["Lower Kuskokwim","TOTAL",{"$f":"SUM(C321:C347)","v":2121.8000000000002},{"$f":"SUM(D321:D347)","v":1577.6000000000001},{"$f":"SUM(E321:E347)","v":3699.4},null,null,null,null,null,{"$f":"SUM(K321:K347)","v":3428.95}]
["Lower Yukon","Alakanuk School",127.75,108.1,{"$f":"C349+D349","v":235.85},"Alakanuk",null,"Alakanuk",{"$f":"SUMIF($F$3:$F$509,H349,$C$3:$C$509)","v":127.75},{"$f":"SUMIF($F$3:$F$509,H349,$D$3:$D$509)","v":108.1},235.85,"Lower Yukon"]
["Lower Yukon","Emmonak School",132.85,89.9,222.75,"Emmonak",null,"Emmonak",132.85,89.9,222.75,"Lower Yukon"]
["Lower Yukon","Hooper Bay School",193.7,157.9,351.6,"Hooper Bay",null,"Hooper Bay",231.7,184.9,416.6,"Lower Yukon"]
["Lower Yukon","Kotlik School",105.95,66.900000000000006,172.85000000000002,"Kotlik",null,"Kotlik",105.95,66.900000000000006,172.85000000000002,"Lower Yukon"]
["Lower Yukon","Marshall School",69.599999999999994,54.1,123.69999999999999,"Marshall",null,"Marshall",69.599999999999994,54.1,123.69999999999999,"Lower Yukon"]
["Lower Yukon","Mountain Village School ",101.2,70.3,171.5,"Mountain Village",null,"Mountain Village",101.2,70.3,171.5,"Lower Yukon"]
["Lower Yukon","Pilot Station School",115.45,65.45,180.9,"Pilot Station",null,"Pilot Station",115.45,65.45,180.9,"Lower Yukon"]
["Lower Yukon","Russian Mission",53.85,55.65,109.5,"Russian Mission",null,"Russian Mission",53.85,55.65,109.5,"Lower Yukon"]
["Lower Yukon","Scammon Bay School",132.19999999999999,97.85,230.04999999999998,"Scammon Bay",null,"Scammon Bay",132.19999999999999,97.85,230.04999999999998,"Lower Yukon"]
["Lower Yukon","Nunam Iqua School",41,23,64,"Sheldon Point",null,"Sheldon Point",41,23,64,"Lower Yukon"]
["Lower Yukon","Hooper Bay Charter School",38,27,65,"Hooper Bay",null,null,0,0,0]
["Lower Yukon","TOTAL",{"$f":"SUM(C349:C358)","v":1073.5500000000002},{"$f":"SUM(D349:D358)","v":789.15},{"$f":"SUM(E349:E359)","v":1927.7},null,null,null,null,null,{"$f":"SUM(K349:K359)","v":1927.7000000000003}]
["Mat-Su","Beryozova School",30,9,{"$f":"C361+D361","v":39},"Beryozava",null,"Beryozava",{"$f":"SUMIF($F$3:$F$509,H361,$C$3:$C$509)","v":30},{"$f":"SUMIF($F$3:$F$509,H361,$D$3:$D$509)","v":9},{"$f":"SUM(I361:J361)","v":39},"Mat-Su"]
["Mat-Su","Big Lake Elementary",333.15,null,333.15,"Houston",null,"Colony",1504.78,1567.0300000000002,3071.8100000000004,"Mat-Su"]
["Mat-Su","Butte School",236.25,null,236.25,"Palmer",null,"Glacier View",14,10,24,"Mat-Su"]
["Mat-Su","Colony High School",null,1048.18,1048.18,"Colony",null,"Houston",828.95,563.4,1392.35,"Mat-Su"]
["Mat-Su","Colony Middle School (PK)",254.6,518.85,773.45,"Colony",null,"Susitna Valley",155.92999999999998,202.9,358.83,"Mat-Su"]
["Mat-Su","Cottonwood Creek",390.8,null,390.8,"Colony",null,"Palmer",2113.8000000000002,1097.5999999999999,3211.4,"Mat-Su"]
["Mat-Su","Dena'ina Elementary ",362.75,null,362.75,"Wasilla",null,"Wasilla",3278.08,3109.1099999999997,{"$f":"SUM(I367:J367)","v":6387.19},"Mat-Su"]
["Mat-Su","Finger Lake School",406.93,null,406.93,"Colony",null,null,0,0,0,"Mat-Su"]
["Mat-Su","Fred & Sara Machetanz Elementary [K-5]",464.8,null,464.8,"Palmer",null,null,0,0,0,"Mat-Su"]
["Mat-Su","Glacier View School",14,10,24,"Glacier View",null,null,0,0,0,"Mat-Su"]
["Mat-Su","Goose Bay K-2",256.3,null,256.3,"Wasilla",null,null,0,0,0,"Mat-Su"]
["Mat-Su","Houston High School",null,336.8,336.8,"Houston",null,null,0,0,0,"Mat-Su"]
["Mat-Su","Houston Middle School",91.05,226.6,317.64999999999998,"Houston",null,null,0,0,0,"Mat-Su"]
["Mat-Su","Iditarod School",384,null,384,"Wasilla",null,null,0,0,0,"Mat-Su"]
["Mat-Su","Joe Redington Senior Jr/Sr High School ",95,405.36,500.36,"Wasilla",null,null,0,0,{"$f":"SUM(I375:J375)","v":0},"Mat-Su"]
["Mat-Su","John Shaw Elementary",473.4,null,473.4,"Wasilla",null,null,0,0,{"$f":"SUM(I376:J376)","v":0},"Mat-Su"]
["Mat-Su","Knik Elementary -  grades K-5",263.3,null,263.3,"Wasilla",null,null,0,0,0,"Mat-Su"]
["Mat-Su","Larson Elementary School",313,null,313,"Wasilla",null,null,0,0,0,"Mat-Su"]
["Mat-Su","Meadow Lakes Elementary",286,null,286,"Houston",null,null,0,0,0,"Mat-Su"]
["Mat-Su","Palmer High School ",null,622.54999999999995,622.54999999999995,"Palmer",null,null,0,0,0,"Mat-Su"]
["Mat-Su","Palmer Middle School",192.05,371.05,563.1,"Palmer",null,null,0,0,0,"Mat-Su"]
["Mat-Su","Pioneer Peak",452.45,null,452.45,"Colony",null,null,0,0,0,"Mat-Su"]
["Mat-Su","Sherrod Elementary - grades K-5",358.15,null,358.15,"Palmer",null,null,0,0,0,"Mat-Su"]
["Mat-Su","Snowshoe Elementary",349.2,null,349.2,"Wasilla",null,null,0,0,0,"Mat-Su"]
["Mat-Su","Susitna Valley High School (6-12)",30.9,202.9,233.8,"Susitna Valley",null,null,0,0,0,"Mat-Su"]
["Mat-Su","Sutton Elementary",42.9,null,42.9,"Palmer",null,null,0,0,0,"Mat-Su"]
["Mat-Su","Swanson Elementary",320.64999999999998,null,320.64999999999998,"Palmer",null,null,0,0,0,"Mat-Su"]
["Mat-Su","Talkeetna Elementary",107.83,null,107.83,"Susitna Valley",null,null,0,0,0,"Mat-Su"]
["Mat-Su","Tanaina Elementary",318.33,null,318.33,"Wasilla",null,null,0,0,0,"Mat-Su"]
["Mat-Su","Teeland Middle School",239.65,397.75,637.4,"Wasilla",null,null,0,0,0,"Mat-Su"]
["Mat-Su","Trapper Creek",17.2,null,17.2,"Susitna Valley",null,null,0,0,0,"Mat-Su"]
["Mat-Su","Wasilla High School",null,813.3,813.3,"Wasilla",null,null,0,0,0,"Mat-Su"]
["Mat-Su","Wasilla Middle School",211.4,371.2,582.6,"Wasilla",null,null,0,0,0,"Mat-Su"]
["Mat-Su","Willow",118.75,null,118.75,"Houston",null,null,0,0,0,"Mat-Su"]
["Mat-Su","Academy Charter School",211,57,268,"Palmer",null,null,0,0,0,"Mat-Su"]
["Mat-Su","American Charter Academy ",156,37,193,"None",null,null,0,0,0,"Mat-Su"]
["Mat-Su","Birchtree Charter School",350.5,65.75,416.25,"None",null,null,0,0,0,"Mat-Su"]
["Mat-Su","Fronteras Charter School",288,47,335,"Palmer",null,null,0,0,0,"Mat-Su"]
["Mat-Su","Midnight Sun Charter School",156,33,189,"None",null,null,0,0,0,"Mat-Su"]
["Mat-Su","Knik Charter School (PK-12)",122.1,65.849999999999994,187.95,"None",null,null,0,0,0]
["Mat-Su","Mat-Su Middle College School",null,223,223,"None",null,null,0,0,0,"Mat-Su"]
["Mat-Su","Burchell Alternative High School",null,203.35,203.35,"Wasilla",null,null,0,0,0,"Mat-Su"]
["Mat-Su","Mat-Su Career & Tech Ed High School",null,710.95,710.95,"Wasilla",null,null,0,0,0,"Mat-Su"]
["Mat-Su","Mat-Su Day School",11.75,59.2,70.95,"Wasilla",null,null,0,0,0,"Mat-Su"]
["Mat-Su","Valley Pathways Alternative School",null,148,148,"Wasilla",null,null,0,0,0,"Mat-Su"]
["Mat-Su","Mat-Su Secondary [Youth Facility]",0,15,15,"None",null,null,0,0,0,"Mat-Su"]
["Mat-Su","TOTAL",{"$f":"SUM(C361:C406)","v":8710.1399999999976},{"$f":"SUM(D361:D406)","v":6998.6400000000012},{"$f":"SUM(E361:E406)","v":15708.78},null,null,null,null,null,{"$f":"SUM(K361:K406)","v":14484.579999999998}]
["Nenana","Nenana K-12 School ",49.25,141,{"$f":"C408+D408","v":190.25},"Nenana",null,"Nenana",{"$f":"SUMIF($F$3:$F$509,H408,$C$3:$C$509)","v":49.25},{"$f":"SUMIF($F$3:$F$509,H408,$D$3:$D$509)","v":141},190.25,"Nenana"]
["Nenana","TOTAL",{"$f":"SUM(C408)","v":49.25},{"$f":"SUM(D408)","v":141},{"$f":"SUM(E408)","v":190.25},null,null,null,null,null,{"$f":"SUM(I408:J408)","v":190.25}]
["Nome","Anvil City Sccience Academy",30,30,{"$f":"SUM(C410:D410)","v":60},"Nome",null,"Nome",{"$f":"SUMIF($F$3:$F$509,H410,$C$3:$C$509)","v":357.38},{"$f":"SUMIF($F$3:$F$509,H410,$D$3:$D$509)","v":269.10000000000002},{"$f":"SUM(I410:J410)","v":626.48},"Nome"]
["Nome","Nome Elementary",294.38,null,{"$f":"SUM(C411:D411)","v":294.38},"Nome",null,null,{"$f":"SUMIF($F$3:$F$509,H411,$C$3:$C$509)","v":0},{"$f":"SUMIF($F$3:$F$509,H411,$D$3:$D$509)","v":0},{"$f":"SUM(I411:J411)","v":0},"Nome"]
["Nome","Nome-Beltz Middle/High School",33,239.1,{"$f":"SUM(C412:D412)","v":272.10000000000002},"Nome",null,null,{"$f":"SUMIF($F$3:$F$509,H412,$C$3:$C$509)","v":0},{"$f":"SUMIF($F$3:$F$509,H412,$D$3:$D$509)","v":0},{"$f":"SUM(I412:J412)","v":0},"Nome"]
["Nome","TOTAL",{"$f":"SUM(C410:C412)","v":357.38},{"$f":"SUM(D410:D412)","v":269.10000000000002},{"$f":"SUM(E410:E412)","v":626.48},null,null,null,null,null,{"$f":"SUM(K410:K412)","v":626.48}]
["North Slope","Alak School",62.75,64.25,{"$f":"C414+D414","v":127},"Wainwright",null,"Anaktuvuk Pass",{"$f":"SUMIF($F$3:$F$509,H414,$C$3:$C$509)","v":56},{"$f":"SUMIF($F$3:$F$509,H414,$D$3:$D$509)","v":42.35},{"$f":"SUM(I414:J414)","v":98.35},"North Slope"]
["North Slope","Barrow High School (Barrow)",null,257.7,257.7,"Utqiagvik",null,"Atqasuk",42,37,79,"North Slope"]
["North Slope","Kali School (Point Lay)",36,34,70,"Point Lay",null,"Utqiagvik",496.3,424.4,920.7,"North Slope"]
["North Slope","Eben Hopson Middle (Barrow)",86,127.85,213.85,"Utqiagvik",null,"Kaktovik",40,18,58,"North Slope"]
["North Slope","Fred Ipalook (Barrow)",410.3,null,410.3,"Utqiagvik",null,"Nuiqsut",73.5,61.85,135.35,"North Slope"]
["North Slope","Harold Kaveolook School (Kaktovik)",40,18,58,"Kaktovik",null,"Point Hope",107.25,106.6,213.85,"North Slope"]
["North Slope","Meade River School (Atqasuk)",42,37,79,"Atqasuk",null,"Point Lay",36,34,70,"North Slope"]
["North Slope","Nuiqsut Trapper School",73.5,61.85,135.35,"Nuiqsut",null,"Wainwright",62.75,64.25,127,"North Slope"]
["North Slope","Nunamiut School (Anaktuvuk Pass)",56,42.35,98.35,"Anaktuvuk Pass",null,null,0,0,0,"North Slope"]
["North Slope","Tikigaq School (Point Hope)",107.25,106.6,213.85,"Point Hope",null,null,0,0,0,"North Slope"]
["North Slope","Kiita Learning Community",null,38.85,38.85,"Utqiagvik",null,null,0,0,0,"North Slope"]
["North Slope","TOTAL",{"$f":"SUM(C414:C424)","v":913.8},{"$f":"SUM(D414:D424)","v":788.45},{"$f":"SUM(E414:E424)","v":1702.2499999999995},null,null,null,null,null,{"$f":"SUM(K414:K424)","v":1702.2499999999998}]
["Northwest Arctic","Ambler School",32.35,21.5,{"$f":"C426+D426","v":53.85},"Ambler",null,"Ambler",{"$f":"SUMIF($F$3:$F$509,H426,$C$3:$C$509)","v":32.35},{"$f":"SUMIF($F$3:$F$509,H426,$D$3:$D$509)","v":21.5},{"$f":"SUM(I426:J426)","v":53.85},"Northwest Arctic"]
["Northwest Arctic","Aqqaluk School",114.95,82.5,197.45,"Noorvik",null,"Buckland",118.35,97.9,216.25,"Northwest Arctic"]
["Northwest Arctic","Buckland School",118.35,97.9,216.25,"Buckland",null,"Deering",25,25,50,"Northwest Arctic"]
["Northwest Arctic","Deering School",25,25,50,"Deering",null,"Kiana",46.05,39,85.05,"Northwest Arctic"]
["Northwest Arctic","Kiana School",46.05,39,85.05,"Kiana",null,"Kivalina",70.3,77,147.30000000000001,"Northwest Arctic"]
["Northwest Arctic","Kobuk School K-12 ",23,16,39,"Kobuk",null,"Kobuk",23,16,39,"Northwest Arctic"]
["Northwest Arctic","June Nelson Elementary School (Kotzebue) ",261.10000000000002,0,261.10000000000002,"Kotzebue",null,"Kotzebue",308.3,248.8,557.1,"Northwest Arctic"]
["Northwest Arctic","Kotzebue Middle/High School",47.2,248.8,296,"Kotzebue",null,"Noatak",83.75,72.7,156.44999999999999,"Northwest Arctic"]
["Northwest Arctic","Kisimġiugtuq School (Kivalina)",70.3,77,147.30000000000001,"Kivalina",null,"Noorvik",114.95,82.5,197.45,"Northwest Arctic"]
["Northwest Arctic","Napaaqtugmiut School (Noatak)",83.75,72.7,156.44999999999999,"Noatak",null,"Selawik",116.65,121.65,238.3,"Northwest Arctic"]
["Northwest Arctic","Davis-Ramoth Memorial (Selawik)",116.65,121.65,238.3,"Selawik",null,"Shungnak",38.299999999999997,28.7,67,"Northwest Arctic"]
["Northwest Arctic","Shungnak School",38.299999999999997,28.7,67,"Shungnak",null,null,0,0,0,"Northwest Arctic"]
["Northwest Arctic","TOTAL",{"$f":"SUM(C426:C437)","v":976.99999999999989},{"$f":"SUM(D426:D437)","v":830.75000000000011},{"$f":"SUM(E426:E437)","v":1807.7499999999998},null,null,null,null,null,{"$f":"SUM(K426:K437)","v":1807.7500000000002}]
["Pelican","Pelican School",7,5,{"$f":"C439+D439","v":12},"Pelican",null,"Pelican",{"$f":"SUMIF($F$3:$F$509,H439,$C$3:$C$509)","v":7},{"$f":"SUMIF($F$3:$F$509,H439,$D$3:$D$509)","v":5},{"$f":"SUM(I439:J439)","v":12},"Pelican"]
["Pelican","TOTAL",{"$f":"SUM(C439)","v":7},{"$f":"SUM(D439)","v":5},{"$f":"SUM(E439)","v":12},null,null,null,null,null,{"$f":"SUM(K439)","v":12}]
["Petersburg","Petersburg Elementary (Rae C. Stedman)",205.25,null,{"$f":"C441+D441","v":205.25},"Petersburg",null,"Petersburg",{"$f":"SUMIF($F$3:$F$509,H441,$C$3:$C$509)","v":236.25},{"$f":"SUMIF($F$3:$F$509,H441,$D$3:$D$509)","v":220.55},{"$f":"SUM(I441:J441)","v":456.8},"Petersburg"]
["Petersburg","Petersburg High School ",null,143.25,143.25,"Petersburg",null,null,{"$f":"SUMIF($F$3:$F$509,H442,$C$3:$C$509)","v":0},{"$f":"SUMIF($F$3:$F$509,H442,$D$3:$D$509)","v":0},{"$f":"SUM(I442:J442)","v":0},"Petersburg"]
["Petersburg","Petersburg Middle School (Mitkof)",31,77.3,108.3,"Petersburg",null,null,{"$f":"SUMIF($F$3:$F$509,H443,$C$3:$C$509)","v":0},{"$f":"SUMIF($F$3:$F$509,H443,$D$3:$D$509)","v":0},{"$f":"SUM(I443:J443)","v":0},"Petersburg"]
["Petersburg","TOTAL",{"$f":"SUM(C441:C443)","v":236.25},{"$f":"SUM(D441:D443)","v":220.55},{"$f":"SUM(E441:E443)","v":456.8},null,null,null,null,null,{"$f":"SUM(K441:K443)","v":456.8}]
["Pribilof","St. Paul Island School",37.75,17.850000000000001,{"$f":"C445+D445","v":55.6},"St. Paul",null,"St. Paul",{"$f":"SUMIF($F$3:$F$509,H445,$C$3:$C$509)","v":37.75},{"$f":"SUMIF($F$3:$F$509,H445,$D$3:$D$509)","v":17.850000000000001},{"$f":"SUM(I445:J445)","v":55.6},"Pribilof"]
["Pribilof","TOTAL",{"$f":"SUM(C445:C445)","v":37.75},{"$f":"SUM(D445:D445)","v":17.850000000000001},{"$f":"SUM(E445:E445)","v":55.6},null,null,null,null,null,{"$f":"SUM(I445:J445)","v":55.6}]
["Saint Mary's","St. Mary's School",88.25,72.7,{"$f":"C447+D447","v":160.94999999999999},"St. Mary's",null,"St. Mary's",{"$f":"SUMIF($F$3:$F$509,H447,$C$3:$C$509)","v":88.25},{"$f":"SUMIF($F$3:$F$509,H447,$D$3:$D$509)","v":72.7},160.94999999999999,"Saint Mary's"]
["Saint Mary's","TOTAL",{"$f":"SUM(C447:C447)","v":88.25},{"$f":"SUM(D447:D447)","v":72.7},{"$f":"SUM(E447:E447)","v":160.94999999999999},null,null,null,null,null,{"$f":"SUM(I447:J447)","v":160.94999999999999}]
["Sitka","Xóots Elementary School",125.75,null,{"$f":"C449+D449","v":125.75},"Sitka",null,"Sitka",{"$f":"SUMIF($F$3:$F$509,H449,$C$3:$C$509)","v":467.08},{"$f":"SUMIF($F$3:$F$509,H449,$D$3:$D$509)","v":512.9},979.98,"Sitka"]
["Sitka","Blatchley Middle School",68.75,169.75,238.5,"Sitka",null,null,{"$f":"SUMIF($F$3:$F$509,H450,$C$3:$C$509)","v":0},{"$f":"SUMIF($F$3:$F$509,H450,$D$3:$D$509)","v":0},0,"Sitka"]
["Sitka","Sitka High School",null,304.5,304.5,"Sitka",null,null,{"$f":"SUMIF($F$3:$F$509,H451,$C$3:$C$509)","v":0},{"$f":"SUMIF($F$3:$F$509,H451,$D$3:$D$509)","v":0},0,"Sitka"]
["Sitka","Keet Gooshi Heen Elementary School",272.58,null,272.58,"Sitka",null,null,{"$f":"SUMIF($F$3:$F$509,H452,$C$3:$C$509)","v":0},{"$f":"SUMIF($F$3:$F$509,H452,$D$3:$D$509)","v":0},0,"Sitka"]
["Sitka","Pacific High School (Alt)",null,38.65,38.65,"Sitka",null,null,{"$f":"SUMIF($F$3:$F$509,H453,$C$3:$C$509)","v":0},{"$f":"SUMIF($F$3:$F$509,H453,$D$3:$D$509)","v":0},0,"Sitka"]
["Sitka","TOTAL",{"$f":"SUM(C449:C453)","v":467.08},{"$f":"SUM(D449:D453)","v":512.9},{"$f":"SUM(E449:E453)","v":979.9799999999999},null,null,null,null,null,{"$f":"SUM(K449:K453)","v":979.98}]
["Skagway","Skagway School",65.900000000000006,67.099999999999994,{"$f":"C455+D455","v":133},"Skagway",null,"Skagway",{"$f":"SUMIF($F$3:$F$509,H455,$C$3:$C$509)","v":65.900000000000006},{"$f":"SUMIF($F$3:$F$509,H455,$D$3:$D$509)","v":67.099999999999994},{"$f":"SUM(I455:J455)","v":133},"Skagway"]
["Skagway","TOTAL",{"$f":"SUM(C455)","v":65.900000000000006},{"$f":"SUM(D455)","v":67.099999999999994},{"$f":"SUM(E455)","v":133},null,null,null,null,null,{"$f":"SUM(K455)","v":133}]
["Southeast Island","Hollis School",4,8,{"$f":"C457+D457","v":12},"Hollis",null,"Hollis",{"$f":"SUMIF($F$3:$F$509,H457,$C$3:$C$509)","v":4},{"$f":"SUMIF($F$3:$F$509,H457,$D$3:$D$509)","v":8},{"$f":"SUM(I457:J457)","v":12},"Southeast Island"]
["Southeast Island","Howard Valentine Coffman Cove School ",11,8.4,19.399999999999999,"Coffman Cove",null,"Coffman Cove",11,8.4,19.399999999999999,"Southeast Island"]
["Southeast Island","Barry Craig Stewart Kasaan School ",8.6,9,17.600000000000001,"Kasaan",null,"Kasaan",8.6,9,17.600000000000001,"Southeast Island"]
["Southeast Island","Naukati School",5,9,14,"Naukati",null,"Naukati",5,9,14,"Southeast Island"]
["Southeast Island","Port Alexander School",3,8,11,"Port Alexander",null,"Port Alexander",3,8,11,"Southeast Island"]
["Southeast Island","Thorne Bay School",35.4,31,66.400000000000006,"Thorne Bay",null,"Thorne Bay",35.4,31,66.400000000000006,"Southeast Island"]
["Southeast Island","Whale Pass School",5,4,9,"Whale Pass",null,"Whale Pass",5,4,9,"Southeast Island"]
["Southeast Island","TOTAL",{"$f":"SUM(C457:C463)","v":72},{"$f":"SUM(D457:D463)","v":77.400000000000006},{"$f":"SUM(E457:E463)","v":149.4},null,null,null,null,null,{"$f":"SUM(K457:K463)","v":149.4}]
["Southwest Region","Aleknagik North School",14.1,11,{"$f":"C465+D465","v":25.1},"Aleknagik",null,"Aleknagik",{"$f":"SUMIF($F$3:$F$509,H465,$C$3:$C$509)","v":14.1},{"$f":"SUMIF($F$3:$F$509,H465,$D$3:$D$509)","v":11},25.1,"Southwest Region"]
["Southwest Region","Chief Ivan Blunka (New Stuyahok)",72.5,55.75,128.25,"New Stuyahok",null,"Clarks Point",8,4,{"$f":"SUM(I466:J466)","v":12},"Southwest Region"]
["Southwest Region","Clarks Point School",8,4,12,"Clarks Point",null,"Ekwok",12,3,15,"Southwest Region"]
["Southwest Region","Koliganek School",24,25.65,49.65,"Koliganek",null,"Koliganek",24,25.65,49.65,"Southwest Region"]
["Southwest Region","Manokotak School",71,51.95,122.95,"Manokotak",null,"Manokotak",71,51.95,122.95,"Southwest Region"]
["Southwest Region","Togiak School",110.7,70.349999999999994,181.05,"Togiak",null,"New Stuyahok",72.5,55.75,128.25,"Southwest Region"]
["Southwest Region","Twin Hills School",22.3,4.6500000000000004,26.950000000000003,"Twin Hills",null,"Togiak",110.7,70.349999999999994,181.05,"Southwest Region"]
["Southwest Region","William \"Sonny\" Nelson School (Ekwok)",12,3,15,"Ekwok",null,"Twin Hills",22.3,4.6500000000000004,26.950000000000003,"Southwest Region"]
["Southwest Region","TOTAL",{"$f":"SUM(C465:C472)","v":334.6},{"$f":"SUM(D465:D472)","v":226.35000000000002},{"$f":"SUM(E465:E472)","v":560.95000000000005},null,null,null,null,null,{"$f":"SUM(K465:K472)","v":560.95000000000005}]
["Unalaska","Unalaska Elementary ",161.1,null,{"$f":"C474+D474","v":161.1},"Unalaska",null,"Unalaska",{"$f":"SUMIF($F$3:$F$509,H474,$C$3:$C$509)","v":178.35},{"$f":"SUMIF($F$3:$F$509,H474,$D$3:$D$509)","v":154},{"$f":"SUM(I474:J474)","v":332.35},"Unalaska"]
["Unalaska","Unalaska Jr/Sr High School",17.25,154,171.25,"Unalaska",null,null,{"$f":"SUMIF($F$3:$F$509,H475,$C$3:$C$509)","v":0},{"$f":"SUMIF($F$3:$F$509,H475,$D$3:$D$509)","v":0},{"$f":"SUM(I475:J475)","v":0},"Unalaska"]
["Unalaska","TOTAL",{"$f":"SUM(C474:C475)","v":178.35},{"$f":"SUM(D474:D475)","v":154},{"$f":"SUM(E474:E475)","v":332.35},null,null,null,null,null,{"$f":"SUM(K474:K475)","v":332.35}]
["Valdez","George H. Gilson Middle School",51.25,89.25,{"$f":"C477+D477","v":140.5},"Valdez",null,"Valdez",{"$f":"SUMIF($F$3:$F$509,H477,$C$3:$C$509)","v":304.81},{"$f":"SUMIF($F$3:$F$509,H477,$D$3:$D$509)","v":259.34000000000003},{"$f":"SUM(I477:J477)","v":564.15000000000009},"Valdez"]
["Valdez","Hermon Hutchens Elementary",253.56,null,253.56,"Valdez",null,null,{"$f":"SUMIF($F$3:$F$509,H478,$C$3:$C$509)","v":0},{"$f":"SUMIF($F$3:$F$509,H478,$D$3:$D$509)","v":0},0,"Valdez"]
["Valdez","Valdez High School",null,170.09,170.09,"Valdez",null,null,{"$f":"SUMIF($F$3:$F$509,H479,$C$3:$C$509)","v":0},{"$f":"SUMIF($F$3:$F$509,H479,$D$3:$D$509)","v":0},0,"Valdez"]
["Valdez","TOTAL",{"$f":"SUM(C477:C479)","v":304.81},{"$f":"SUM(D477:D479)","v":259.34000000000003},{"$f":"SUM(E477:E479)","v":564.15},null,null,null,null,null,{"$f":"SUM(K477:K479)","v":564.15000000000009}]
["Wrangell","Stikine Middle School (Stikine)",18,41,{"$f":"C481+D481","v":59},"Wrangell",null,"Wrangell",{"$f":"SUMIF($F$3:$F$509,H481,$C$3:$C$509)","v":147.85},{"$f":"SUMIF($F$3:$F$509,H481,$D$3:$D$509)","v":111.5},{"$f":"SUM(I481:J481)","v":259.35000000000002},"Wrangell"]
["Wrangell","Wrangell Elementary School (Evergreen)",129.85,null,129.85,"Wrangell",null,null,{"$f":"SUMIF($F$3:$F$509,H482,$C$3:$C$509)","v":0},{"$f":"SUMIF($F$3:$F$509,H482,$D$3:$D$509)","v":0},0,"Wrangell"]
["Wrangell","Wrangell High School",null,70.5,70.5,"Wrangell",null,null,{"$f":"SUMIF($F$3:$F$509,H483,$C$3:$C$509)","v":0},{"$f":"SUMIF($F$3:$F$509,H483,$D$3:$D$509)","v":0},0,"Wrangell"]
["Wrangell","TOTAL",{"$f":"SUM(C481:C483)","v":147.85},{"$f":"SUM(D481:D483)","v":111.5},{"$f":"SUM(E481:E483)","v":259.35000000000002},null,null,null,null,null,{"$f":"SUM(K481:K483)","v":259.35000000000002}]
["Yakutat","Yakutat School K-12",42.8,24.5,{"$f":"C485+D485","v":67.3},"Yakutat",null,"Yakutat",{"$f":"SUMIF($F$3:$F$509,H485,$C$3:$C$509)","v":42.8},{"$f":"SUMIF($F$3:$F$509,H485,$D$3:$D$509)","v":24.5},{"$f":"SUM(I485:J485)","v":67.3},"Yakutat"]
["Yakutat","TOTAL",{"$f":"SUM(C485:C485)","v":42.8},{"$f":"SUM(D485:D485)","v":24.5},{"$f":"SUM(E485:E485)","v":67.3},null,null,null,null,null,{"$f":"SUM(K485)","v":67.3}]
["Yukon Flats","Arctic Village School",14,9.15,{"$f":"C487+D487","v":23.15},"Arctic Village",null,"Arctic Village",{"$f":"SUMIF($F$3:$F$509,H487,$C$3:$C$509)","v":14},{"$f":"SUMIF($F$3:$F$509,H487,$D$3:$D$509)","v":9.15},23.15,"Yukon Flats"]
["Yukon Flats","Beaver \"Cruikshank\" School",8.3000000000000007,6,14.3,"Beaver",null,"Beaver",8.3000000000000007,6,14.3,"Yukon Flats"]
["Yukon Flats","Earla Hutchison School",6,10,16,"Circle",null,"Chalkyitsik",15,17,32,"Yukon Flats"]
["Yukon Flats","Fort Yukon School",37.85,39.700000000000003,77.550000000000011,"Fort Yukon",null,"Circle",6,10,16,"Yukon Flats"]
["Yukon Flats","Tsuk Taih School (Chalkyitsik)",15,17,32,"Chalkyitsik",null,"Fort Yukon",37.85,39.700000000000003,{"$f":"SUM(I491:J491)","v":77.550000000000011},"Yukon Flats"]
["Yukon Flats","Venetie School (John Fredson)",5,6.45,11.45,"Venetie",null,"Venetie",5,6.45,11.45,"Yukon Flats"]
["Yukon Flats","TOTAL",{"$f":"SUM(C487:C492)","v":86.15},{"$f":"SUM(D487:D492)","v":88.3},{"$f":"SUM(E487:E492)","v":174.45},null,null,null,null,null,{"$f":"SUM(K487:K492)","v":174.45}]
["Yukon-Koyukuk","Allakaket School",21,6,{"$f":"C494+D494","v":27},"Allakaket",null,"Allakaket",{"$f":"SUMIF($F$3:$F$509,H494,$C$3:$C$509)","v":21},{"$f":"SUMIF($F$3:$F$509,H494,$D$3:$D$509)","v":6},27,"Yukon/Koyukuk"]
["Yukon-Koyukuk","Andrew K. Demonski School (Nulato)",22.95,21,43.95,"Nulato",null,"Hughes",18,10,28,"Yukon/Koyukuk"]
["Yukon-Koyukuk","Ella B. Vernetti (Koyukuk)",8.9499999999999993,1,9.9499999999999993,"Koyukuk",null,"Huslia",49.45,39.5,88.95,"Yukon/Koyukuk"]
["Yukon-Koyukuk","Jimmy Huntington School (Huslia)",49.45,39.5,88.95,"Huslia",null,"Kaltag",9.5,14.35,{"$f":"SUM(I497:J497)","v":23.85},"Yukon/Koyukuk"]
["Yukon-Koyukuk","Johnny Oldman School (Hughes)",18,10,28,"Hughes",null,"Koyukuk",8.9499999999999993,1,{"$f":"SUM(I498:J498)","v":9.9499999999999993},"Yukon/Koyukuk"]
["Yukon-Koyukuk","Kaltag School",9.5,14.35,23.85,"Kaltag",null,"Minto",26,27,53,"Yukon/Koyukuk"]
["Yukon-Koyukuk","Maudrey J. Sommer School (Tanana)",11.7,13,24.7,"Tanana",null,"Tanana",11.7,13,24.7,"Yukon/Koyukuk"]
["Yukon-Koyukuk","Merreline A. Kangas School (Ruby)",16.73,5.45,22.18,"Ruby",null,"Nulato",22.95,21,43.95,"Yukon/Koyukuk"]
["Yukon-Koyukuk","Minto School",26,27,53,"Minto",null,"Rampart",6,4.08,10.08,"Yukon/Koyukuk"]
["Yukon-Koyukuk","Rampart School",6,4.08,10.08,"Rampart",null,"Ruby",16.73,5.45,22.18,"Yukon/Koyukuk"]
["Yukon-Koyukuk","TOTAL",{"$f":"SUM(C494:C503)","v":190.28},{"$f":"SUM(D494:D503)","v":141.38000000000002},{"$f":"SUM(E494:E503)","v":331.65999999999997},null,null,null,null,null,{"$f":"SUM(K494:K503)","v":331.65999999999997}]
["Yupiit","Akiachak School",156.05000000000001,102.1,{"$f":"C505+D505","v":258.14999999999998},"Akiachak",null,"Akiachak",{"$f":"SUMIF($F$3:$F$509,H505,$C$3:$C$509)","v":156.05000000000001},{"$f":"SUMIF($F$3:$F$509,H505,$D$3:$D$509)","v":102.1},258.14999999999998,"Yupiit"]
["Yupiit","Akiak School",77.849999999999994,61.5,139.35,"Akiak",null,"Akiak",{"$f":"SUMIF($F$3:$F$509,H506,$C$3:$C$509)","v":77.849999999999994},{"$f":"SUMIF($F$3:$F$509,H506,$D$3:$D$509)","v":61.5},139.35,"Yupiit"]
["Yupiit","Tuluksak School",75.650000000000006,57.35,133,"Tuluksak",null,"Tuluksak",{"$f":"SUMIF($F$3:$F$509,H507,$C$3:$C$509)","v":75.650000000000006},{"$f":"SUMIF($F$3:$F$509,H507,$D$3:$D$509)","v":57.35},133,"Yupiit"]
["Yupiit","TOTAL",{"$f":"SUM(C505:C507)","v":309.55},{"$f":"SUM(D505:D507)","v":220.95},{"$f":"SUM(E505:E507)","v":530.5},null,null,null,null,null,{"$f":"SUM(I505:J507)","v":530.5}]
["Mt. Edgecumbe","Mt Edgecumbe School",0,417.1,{"$f":"C509+D509","v":417.1},"Mt. Edgecumbe",null,"Mt. Edgecumbe",{"$f":"SUMIF($F$3:$F$509,H509,$C$3:$C$509)","v":0},{"$f":"SUMIF($F$3:$F$509,H509,$D$3:$D$509)","v":417.1},417.1,"Mt. Edgecumbe"]
["Mt. Edgecumbe","TOTAL",{"$f":"SUM(C509)","v":0},{"$f":"SUM(D509)","v":417.1},{"$f":"SUM(E509)","v":417.1}]
[]
[null,null,null,null,null,null,null,null,null,null,{"$f":"SUMIF(B2:B510,\"TOTAL\",E2:E510)-(SUMIF(F2:F510,\"none\",E2:E510))-E509","v":98233.460000000036}]

{"sheet":"Historical ADM by Area","index":6,"n_rows":368,"n_cols":40,"rows_kept":368,"cut":false,"hidden":false,"merged":[]}
["ADM by Fiscal Year",null,1,2,3,4,5,6,7,8,9,10,11,12,13,14,15,16,17,18,19,20,21,22,23,24,25,26,27,28,29,30,31,32,33,34,35,36]
["Type","School District","Attendance Area","91 ADM","92 ADM","93 ADM","94 ADM","95 ADM","96 ADM","97 ADM","98 ADM","99 ADM","2000 ADM","2001 ADM","2002 ADM","2003 ADM","2004 ADM","2005 ADM","2006 ADM","2007 ADM","2008 ADM","2009 ADM","2010 ADM","2011 ADM","2012 ADM","2013 ADM","2014 ADM","2015 ADM","2016 ADM","2017 ADM","2018 ADM","2019 ADM","2020 ADM","2021 ADM","2022 ADM","2023 ADM","2024 ADM","2025 ADM","% ADM change from Prev. Yr ","8-Yr Avg Annual ADM Change"]
["REAA","ALASKA GATEWAY","ALCAN BORDER",null,10,7,8,7,9,7,0,"closed","closed","closed","closed","closed","closed","closed","closed","closed","closed","closed","closed","closed","closed","closed","closed","closed","closed","closed","closed","closed","closed","closed","closed","closed","Closed","Closed","n/a",{"$f":"IFERROR(((AG3-AE3)/AE3+(AE3-AD3)/AD3+(AD3-AC3)/AC3+(AC3-AB3)/AB3+(AB3-AA3)/AA3+(AA3-Z3)/Z3+(Z3-Y3)/Y3+(Y3-X3)/X3)/8,\"n/a\")","v":"n/a"}]
["REAA","ALASKA GATEWAY","DOT LAKE",18,16.05,20,21.3,24,26.7,27.75,15,17.649999999999999,10.5,13.15,17.059999999999999,15.25,17.3,16.5,12.05,20.25,10.5,10.9,15.75,13.75,10,10,10,11,14,12.7,10,10.8,10,14.25,8,14,10,12.25,{"$f":"IFERROR((AL4-AK4)/AK4,\"n/a\")","v":0.22500000000000001},{"$f":"IFERROR(((AL4-AK4)/AK4+(AK4-AJ4)/AJ4+(AJ4-AI4)/AI4+(AI4-AH4)/AH4+(AH4-AG4)/AG4+(AG4-AF4)/AF4+(AF4-AE4)/AE4+(AE4-AD4)/AD4)/8,\"n/a\")","v":5.8627090473339957E-2}]
["REAA","ALASKA GATEWAY","EAGLE",39,31.25,26,37,23.9,19,27,23,24.3,32.5,22.25,22.55,18.850000000000001,24.4,26,22,22.7,24.5,16.16,25.8,12.05,15.25,16,26,16.75,13.5,14.25,26.1,22.85,14.4,20,12,10.55,10,12,{"$f":"IFERROR((AL5-AK5)/AK5,\"n/a\")","v":0.2},{"$f":"IFERROR(((AL5-AK5)/AK5+(AK5-AJ5)/AJ5+(AJ5-AI5)/AI5+(AI5-AH5)/AH5+(AH5-AG5)/AG5+(AG5-AF5)/AF5+(AF5-AE5)/AE5+(AE5-AD5)/AD5)/8,\"n/a\")","v":4.4147208155988805E-2}]
["REAA","ALASKA GATEWAY","MENTASTA LAKE",21,19.399999999999999,33.950000000000003,33.5,25.35,33.299999999999997,43,39.9,45.5,30.7,33.450000000000003,37.5,37.75,34,31,24.25,19,11.89,13.75,13.25,34.4,34,32,33.15,30.25,31.25,34.75,31.25,31,29.9,28.5,30,33,29,26.25,-9.4827586206896547E-2,-3.1804270796842414E-2]
["REAA","ALASKA GATEWAY","NORTHWAY",99,85.45,79.599999999999994,87,83.3,85.25,85.4,92,84.5,76.3,74,66.900000000000006,65.099999999999994,65.7,67.3,57.6,56,46.5,48.5,44,41.9,41.9,41.15,45.3,42.25,47.85,48.3,47,53.5,49,52.9,51.85,57,55,52,-5.4545454545454543E-2,1.2088184556566118E-2]
["REAA","ALASKA GATEWAY","TANACROSS",19,17,11.25,20.2,16.25,14.8,17,20,15,22.35,16,12.5,10.25,12.9,11,13.45,24,26,10.75,12.15,10.35,13.65,11.45,12.35,12.05,10.8,12,11.8,15.25,12.45,14.25,11,10,5.75,"Closed","n/a","n/a"]
["REAA","ALASKA GATEWAY","TETLIN",23,25.5,34.1,34,30.95,31,36.4,33,31,32,27,26.15,27,33.200000000000003,27.2,31.25,25.8,24.25,27,16.600000000000001,26,29,27.55,35.6,27.15,26.25,27.9,23,33.5,38,39,44.2,37,34,26.25,-0.22794117647058823,1.2869224356194881E-2]
["REAA","ALASKA GATEWAY","TOK",264,290.8,300.14999999999998,284.55,325.39999999999998,316.8,329.1,291.45,249.99,231.9,250.45,265.35000000000002,255.4,251.21,224.25,199.1,206.35,193.85,200.06,197,196.85,178.4,167.55,150.15,165.25,161.25,162.05000000000001,197.4,173.45,175.2,164,167.45,178.60000000000002,163.80000000000001,172.25,5.1587301587301515E-2,1.2415237889895424E-2]
["REAA","ALASKA GATEWAY","TOTAL",{"$f":"SUM(D3:D10)","v":483},495.45,512.04999999999995,525.54999999999995,536.15,535.85,572.65000000000009,514.35,467.94,436.25,436.29999999999995,448.01,429.6,438.71000000000004,403.25,359.7,374.1,{"$f":"SUM(U3:U10)","v":337.49},{"$f":"SUM(V3:V10)","v":327.12},324.55,335.29999999999995,322.20000000000005,305.70000000000005,312.55,304.7,304.89999999999998,311.95000000000005,346.54999999999995,{"$f":"SUM(AF3:AF10)","v":340.35},328.95,332.9,324.5,340.15000000000003,307.55,301,-2.1297350024386315E-2,-2.8255791667122273E-3]
["REAA","ALEUTIAN REGION","ATKA",26,19,18,16,18,21,23,24.45,13,20,19.25,21,19,16.100000000000001,17.75,15,13,13,14,15,10,10,10.3,14,12,14,10,12,6,10,10,10,11.25,11,11,0,5.8680555555555548E-2]
["REAA","ALEUTIAN REGION","NIKOLSKI",7,9,5,null,null,null,11,12,19,11,15,10.75,13.5,11,10,10,10,10.45,9.8000000000000007,"closed","closed","closed","closed","closed","closed","closed","closed","closed","closed","closed","closed","closed","closed","Closed",10,"n/a","n/a"]
["REAA","ALEUTIAN REGION","ADAK",712,714.45,681.35,495.2,0,0,0,0,14.7,44.15,25.15,23,16.75,14.75,18.25,19,19,14,13.2,22,20.65,21,15,19,25,20.7,14.5,14.55,12.05,18,14.95,12.48,5,"closed","closed","n/a","n/a"]
["REAA","ALEUTIAN REGION","TOTAL",{"$f":"SUM(D12:D14)","v":745},742.45,704.35,511.2,18,21,34,36.450000000000003,46.7,75.150000000000006,59.4,54.75,49.25,41.85,46,44,42,{"$f":"SUM(U12:U14)","v":37.450000000000003},{"$f":"SUM(V12:V14)","v":37},37,30.65,31,25.3,33,37,34.700000000000003,24.5,26.55,{"$f":"SUM(AF12:AF14)","v":18.05},28,24.95,22.48,16.25,11,21,0.90909090909090906,5.1965191865858934E-2]
["C/B","ALEUTIAN EAST","AKUTAN",21.55,25,30,20,24,20,27,23,19.55,15,15,15.75,17.75,12.5,14.35,10.75,10.75,13.75,7,10.25,8,8,14,13,17,16,10,12,18,20,17,19.5,20,23.35,15.05,-0.35546038543897218,8.0731321855322058E-2]
["C/B","ALEUTIAN EAST","COLD BAY",25,18,24,17,22,22,18,20,14.3,17,23,10.5,12,15,13.75,10,10,10.5,12,11.25,13,10,8.5,11,4.75,"closed","closed","closed","closed","closed","closed","closed","closed","closed","closed","n/a","n/a"]
["C/B","ALEUTIAN EAST","FALSE PASS",16,20,17,21,27,25,21,11.4,7.2,16,14.5,16,12.4,12,10.7,11,4.75,5.3,11,4.75,7.5,7,10,6,15,10.5,11,6,7,6,10,11,9,6,10,0.66666666666666663,6.0930735930735912E-2]
["C/B","ALEUTIAN EAST","KING COVE",147.65,150,165,159,154,139,143,142.35,128.80000000000001,111.9,123.75,119,105.6,104.66,102.25,92.8,89.8,99.5,101.25,97.35,99.35,89.75,96.5,87,77.650000000000006,93.65,84.1,83,83.45,82.65,75.25,68.05,77,73.650000000000006,58,-0.21249151391717588,-4.0867108680707975E-2]
["C/B","ALEUTIAN EAST","NELSON LAGOON",12,12,12,11,10,13,13,14.2,14,15,16,16,11,13,15,17.75,17,17,12,8,6.25,10.9,"closed","closed","closed","closed","closed","closed","closed","closed","closed","closed","closed","closed","closed","n/a","n/a"]
["C/B","ALEUTIAN EAST","SAND POINT",148.80000000000001,145,143,141,128,136,150,130.4,126.5,124.65,115.5,113.5,114,120.33,112.5,104.1,100.7,110.45,105.5,105.7,110.9,101,102,95.7,104,100.75,109.85,106,104.85,112.25,104,90.3,91,82.4,80.099999999999994,-2.7912621359223438E-2,-3.6901680077343131E-2]
["C/B","ALEUTIAN EAST","TOTAL",{"$f":"SUM(D16:D21)","v":371},370,391,369,365,355,372,341.35,310.35000000000002,299.55,307.75,290.75,272.75,277.49,268.55,246.4,233,{"$f":"SUM(U16:U21)","v":256.5},{"$f":"SUM(V16:V21)","v":248.75},237.3,245,226.65,231,212.7,218.4,220.9,214.95,207,{"$f":"SUM(AF16:AF21)","v":213.3},220.9,206.25,188.85,197,185.4,163.14999999999998,-0.12001078748651579,-3.2167665735544165E-2]
["C/B","ANCHORAGE","ANCHORAGE",{"$f":"34276.5+D24","v":39730},{"$f":"37237.95+E24","v":42927.25},{"$f":"38611.45+F24","v":44519.299999999996},{"$f":"39420.46+G24","v":45490.61},{"$f":"39465.23+H24","v":45726.100000000006},{"$f":"39715.03+I24","v":45998.46},{"$f":"40043.05+J24","v":46289.850000000006},{"$f":"23272.2+17452.31+K24","v":47134.19},{"$f":"554.1+335.55+509.57+445.47+567.1+479.07+553.6+493.8+350.1+565.65+235.8+461.7+360.85+478.85+414.7+491.69+415.55+475.2+241.26+601.69+270.65+477.32+525.55+454.77+508.7+438.6+264.25+399.3+520.07+375.82+386.49+380.17+452.9+0+373.05+432.35+562.62+383.75+542.67+527.2+511.52+512.7+332.8+396.12+401.8+291.7+426.85+557.45+501.44+514.75+428.22+47.65+525.72+810.4+777.35+873.3+914.75+972.15+779.65+961+2140.4+1974.35+2275.3+1646+1892.35+301.15+280.22+7.69+171.6+234.97+233.05+260.15+L24-L27-L28","v":44877.420000000013},{"$f":"40066.61+M24-M27-M28","v":44685.09},{"$f":"40698.82+N24-N27-N28","v":45171.16},{"$f":"39894.72+O24","v":45931.07},{"$f":"40102.42+P24","v":46163.08},45668.68,46494.17,45642.93,{"$f":"480.7+312.65+466.5+402.1+556.8+453.85+300.6+468.7+403+272.43+495.25+255.2+512.35+348.2+394.45+353.6+351.2+386.25+295.65+459.35+362.9+373.4+201.1+491+366.1+516.2+427.5+370.5+369.7+408.2+409+603.8+282.35+281.1+512.35+307.25+415.85+367.85+439.45+581.5+368+646.4+430.05+363.85+563.8+443.7+477.5+579+369.38+418.5+362.4+401.5+378.4+513.35+531.9+799.75+887+604.2+899.7+1054.2+698.3+789.6+837.55+1717.6+1412.25+1847.1+827.05+2170.39+1926.45+1727.4+1877.7+43.85+351.1+266.35+475.8+295.65+160.25+29.65+16+164+450.2+241.75+64.65+180+206.15","v":45925.3},44304.800000000003,44068.51,44702.2,44204.21,44025.1,44018.73,43131.75,43162.36,43286.31,43045.59,42167.96,41082.46,40745.470000000008,35454.53,37721.54,37906.28,37763.949999999997,36832.33,-2.4669559196005594E-2,-1.7971555593105301E-2]
["C/B","ANCHORAGE","EAGLE RIVER",5453.5,5689.3,5907.85,6070.15,6260.87,6283.43,6246.8,{"$f":"3282.64+3127.04","v":6409.68},{"$f":"2066+606.15+481.7+191.5+372+530.22+361.6+30+515.7+359.67+462.3+376.47","v":6353.31},6316.6,6201.55,6036.35,6060.66,"anchorage","anchorage","anchorage","anchorage","anchorage","anchorage","anchorage","anchorage","anchorage","anchorage","anchorage","anchorage","anchorage","anchorage","anchorage","anchorage","anchorage","anchorage","anchorage","anchorage","anchorage","anchorage","n/a","n/a"]
["C/B","ANCHORAGE","GIRDWOOD",125,131.65,140.13,154.75,169.5,160.30000000000001,135.55000000000001,141.57,153.16999999999999,147.5,157.58000000000001,144.5,164.25,172.75,167.05,160.80000000000001,144.30000000000001,153,163.95,160.94999999999999,163.4,179.95,180.75,184.75,191.65,192.9,190.75,193.69,182.95,198.96,143.1,171.4,180.35,170.5,174.55,2.3753665689149626E-2,-1.7709761886362263E-3]
["C/B","ANCHORAGE","SCHOOL FOR THE DEAF",null,null,null,null,null,null,45,40,40,44,52.83,51.5,54.85,53,60.1,53.45,54.5,49.9,44.05,42.2,41.43,37.700000000000003,35.869999999999997,35.049999999999997,39.99,37,32.04,34.119999999999997,26,30,20.95,30.4,30,23.7,23.3,-1.6877637130801627E-2,-1.3730849363883061E-2]
["C/B","ANCHORAGE","ELMENDORF",null,null,null,null,null,null,773.82,773.82,773.82,1106.47,1055.01,1050.5,1035.95,1096.77,1066.1199999999999,1034.03,{"$f":"386.35+299.65+380.88","v":1066.8800000000001},1036.4000000000001,1149.0999999999999,1137.99,"JBER","JBER","JBER","JBER","JBER","JBER","JBER","JBER","JBER","JBER","JBER","JBER","JBER","JBER","JBER","n/a","n/a"]
["C/B","ANCHORAGE","FORT RICHARDSON",null,null,null,null,null,null,964.15,964.15,964.15,591.65,674.2,722.28,667.07,598.15,647.04999999999995,686.85,{"$f":"376.8+282.9","v":659.7},641.70000000000005,627.35,748.1,"JBER","JBER","JBER","JBER","JBER","JBER","JBER","JBER","JBER","JBER","JBER","JBER","JBER","JBER","JBER","n/a","n/a"]
["C/B","ANCHORAGE","JBER",null,null,null,null,null,null,null,{"$f":"K27+K28","v":1737.97},1737.97,1698.12,1729.21,1772.78,1703.02,1694.92,1713.1699999999998,1720.88,1726.5800000000002,1678.1000000000001,1776.4499999999998,1886.0900000000001,1912.66,1826.48,1880.96,1867.42,1635.46,1641.61,1584.99,1500.71,1438.92,1349.44,975.45,1237.44,1278.93,1293.67,1039.07,-0.19680444008131914,-3.9605544314376379E-2]
["C/B","ANCHORAGE","TOTAL",{"$f":"SUM(D23:D29)","v":45308.5},{"$f":"SUM(E23:E29)","v":48748.200000000004},{"$f":"SUM(F23:F29)","v":50567.279999999992},{"$f":"SUM(G23:G29)","v":51715.51},{"$f":"SUM(H23:H29)-H26","v":52156.470000000008},52442.19,54410.170000000013,57161.380000000005,54859.840000000011,54545.43,54988.710000000006,55657.479999999996,55794.03,49231.27,50087.560000000005,49245.49,49522.76,47814,47785.359999999993,48635.329999999987,46280.270000000004,46031.53,46080.44,45183.92,44989.47,45120.82,44821.329999999994,43862.36,{"$f":"SUM(AF23:AF29)-AF26","v":42704.329999999994},42293.87000000001,36573.079999999994,39130.380000000005,39365.56,{"$f":"SUM(AK23:AK29)-AK26","v":39228.119999999995},{"$f":"SUM(AL23:AL29)-AL26","v":38045.950000000004},-3.0135780149545557E-2,-1.8795670046155965E-2]
["REAA","ANNETTE ISLAND","METLAKATLA",381,423.9,397,407,420,444,391,396.57,355.23,{"$f":"189+179","v":368},325.75,311.05,290.64999999999998,287.5,298.35000000000002,291.29000000000002,282.35000000000002,288.85000000000002,267.55,276.75,275.75,275.7,290.45,288.58999999999997,295.52,300.8,301.05,316.39999999999998,299.60000000000002,288.5,313.39999999999998,295.55,295.89999999999998,295.25,267.75,-9.3141405588484341E-2,-1.2994983984971733E-2]
["REAA","ANNETTE ISLAND","TOTAL",{"$f":"SUM(D31)","v":381},423.9,397,407,420,444,391,396.57,355.23,368,325.75,311.05,290.64999999999998,287.5,298.35000000000002,291.29000000000002,282.35000000000002,{"$f":"SUM(U31)","v":288.85000000000002},{"$f":"SUM(V31)","v":267.55},276.75,275.75,275.7,290.45,288.58999999999997,295.52,300.8,301.05,316.39999999999998,{"$f":"SUM(AF31)","v":299.60000000000002},288.5,313.39999999999998,295.55,295.89999999999998,295.25,267.75,-9.3141405588484341E-2,-1.2994983984971733E-2]
["REAA","BERING STRAIT","BREVIG MISSION",59,69,75.400000000000006,77,85.55,96.3,94.45,106.8,101.55,100.15,98.8,100,99.45,103.4,108.35,107.25,103.9,110,109.5,113,116.25,114.05,118.4,112.35,109.9,130.55000000000001,132.5,143.05000000000001,152.19999999999999,140,143.25,146.4,155.71,145.30000000000001,144.80000000000001,-3.4411562284927732E-3,1.2741138341198444E-2]
["REAA","BERING STRAIT","DIOMEDE",56,50.2,59.15,62.95,55.55,48.9,57.4,60.1,52.2,45.4,49.8,39.049999999999997,37.6,41,42,38.75,37.549999999999997,31,26.85,32.299999999999997,26,31.55,33.799999999999997,20.85,19.649999999999999,17.75,33.4,21.15,23.25,16,16.55,25.95,26.5,20.350000000000001,22,8.1081081081081002E-2,-1.3344074838119981E-2]
["REAA","BERING STRAIT","ELIM",82.6,77.25,79.5,95,93.1,95.05,96.8,102,96.1,97.35,101,96.1,97,95.1,82,81.900000000000006,85.45,76,75.3,80.8,80.25,88,85,85.25,103.9,97.75,103.2,110,104,112.9,115.30000000000001,104.91,107.25,106,88.45,-0.16556603773584902,-1.5856034300688562E-2]
["REAA","BERING STRAIT","GAMBELL",136.85,159.80000000000001,172,166.3,179.15,185.7,185.9,190.1,190.95,196,190.05,189,173.2,171.75,176.2,179.5,173.9,182.25,186.45,184.7,190,185.5,193,185.75,174.6,167.7,179.9,174,158.30000000000001,166,159.55000000000001,163.26,153.9,157.1,146.25,-6.9064290260980238E-2,-2.4448752176498924E-2]
["REAA","BERING STRAIT","GOLOVIN",36.700000000000003,39,44,46.3,51,59.45,51,53,52,44,47.8,51,50,49.4,52,49,49,42,46.4,45,45,53.5,49,46,49,45.3,45.2,45,46,42.7,43,48.94,41.3,35.549999999999997,36.5,2.6722925457102753E-2,-2.2173521121280786E-2]
["REAA","BERING STRAIT","KOYUK",73,67,76.25,75,79.8,82.8,86.9,102.6,98.5,99.35,108,104,119.55,115.5,116.05,111,121.65,110,106.7,101.85,95,90,94,96.6,101.25,98,88.55,99.45,99.8,79,90.3,84,82.009999999999991,82.6,89,7.7481840193704674E-2,6.5566201538953643E-3]
["REAA","BERING STRAIT","SAVOONGA",133.1,137.75,132.19999999999999,130.19999999999999,143.30000000000001,152.75,152.4,169.75,185.7,183.55,185.65,194.75,198.85,202.2,220.3,217.65,218.25,226,230.65,219,226,203.85,212.85,204.25,207.6,219.2,229.75,252.7,241.25,229.70000000000002,236.39999999999998,225.95,223.75,218.1,216.05,-9.399358092617988E-3,-6.5898482351151085E-3]
["REAA","BERING STRAIT","SHAKTOOLIK",49,61,54.4,63.7,69.8,70.5,68.25,74.599999999999994,67.849999999999994,71.8,68.5,57.3,56.9,53,55,49.25,44,47,49.85,57.25,55,64.400000000000006,70.8,70.75,68.099999999999994,81,79.900000000000006,83.65,84.7,79,78.650000000000006,68.13,64.25,65,63,-3.0769230769230771E-2,-2.7755491377026889E-2]
["REAA","BERING STRAIT","SHISHMAREF",158,160.85,164.5,174.35,174.9,176.2,175.9,163.75,179.75,182.85,180,179,171.95,173.4,164,173.1,173.05,174.9,173.1,180.5,174,177,185.6,193.35,182.6,186.4,176.55,180,176,176.75,186.2,184.5,181.3,171.5,169.45,-1.1953352769679366E-2,-4.6794817045203788E-3]
["REAA","BERING STRAIT","ST. MICHAEL",99,103.75,96.1,108.25,116.2,118.15,121,119.5,124.5,126.5,120.55,126,142.80000000000001,136.25,146.30000000000001,135.35,144.69999999999999,140.19999999999999,145.1,148.94999999999999,145.75,141.44999999999999,155,158.9,153.55000000000001,160.80000000000001,167.85,142.75,143.65,138.6,143.94999999999999,129.06,131.85,110.95,105.48,-4.9301487156376736E-2,-5.3677992836213273E-2]
["REAA","BERING STRAIT","STEBBINS",128.44999999999999,141.69999999999999,140.69999999999999,150.35,140.6,162,178.25,183.6,191.2,196.6,198.15,207.65,200.55,198.8,191.3,187.75,191.8,186,192.15,175.95,192.75,169.55,174.6,185.15,179.4,169.15,194.25,196.55,210.15,196.1,188.9,206.35000000000002,212.57999999999998,226.35,227.4,4.6388336646786456E-3,2.1180477751303682E-2]
["REAA","BERING STRAIT","TELLER",68.55,62.1,79.099999999999994,80.75,83.4,87.25,76.2,79.150000000000006,71.05,71.95,75.150000000000006,73.7,75.2,73.75,78.349999999999994,77.599999999999994,73.95,75.45,63.65,66.5,66.75,65.05,67,62.45,68.5,68.900000000000006,67.7,73,69.2,79.25,74.900000000000006,70,65.75,63.65,62.15,-2.3566378633150038E-2,-8.1333751000792522E-3]
["REAA","BERING STRAIT","UNALAKLEET",196,216.25,210.5,208.25,216.6,222.3,236.75,231,251.1,236.45,219.5,203.1,206.6,190.55,179,175.15,171.85,167.3,163.25,156.25,159.1,139.65,153.1,161.9,160.5,167.85,174.85,165,167,173.35,178.5,161.29000000000002,143.51,150.6,154.35,2.4900398406374504E-2,-1.3603289960941352E-2]
["REAA","BERING STRAIT","WALES",36,40,47.8,50.25,51.75,57.25,52.8,59.75,55.25,54.55,54,49,45.9,43.65,36.299999999999997,31.05,35,32,33,33,38,33,33,32,38.049999999999997,35.75,41,42.35,44.05,41,35.9,41.25,35.200000000000003,30.55,31.9,4.4189852700490931E-2,-2.5764406968991974E-2]
["REAA","BERING STRAIT","WHITE MOUNTAIN",44.05,48.3,45.05,50.5,60,64.5,72,64,65.2,68.95,63.3,58.65,58.3,56.25,52,54,48.4,46.45,51,47.8,43.75,37,42.4,44.8,41,49,55.85,56.35,58,47.9,50.8,54.75,58,63.65,63.65,0,1.9896140609352284E-2]
["REAA","BERING STRAIT","TOTAL",{"$f":"SUM(D33:D47)","v":1356.3},1433.9499999999998,1476.6499999999999,1539.15,1600.6999999999998,1679.1,1706,1759.7,1782.8999999999999,1775.4499999999998,1760.25,1728.3,1733.85,1704,1699.1499999999996,1668.3,1672.45,{"$f":"SUM(U33:U47)","v":1646.55},{"$f":"SUM(V33:V47)","v":1652.95},1642.85,1653.6,1593.55,1667.55,1660.3500000000001,1657.6000000000001,1695.1000000000001,1770.4499999999998,1784.9999999999998,{"$f":"SUM(AF33:AF47)","v":1777.5500000000002},1718.2499999999998,1742.1500000000003,1714.7399999999998,1682.86,1647.25,1620.4300000000003,-1.6281681590529493E-2,-1.089671287690301E-2]
["C/B","BRISTOL BAY","NAKNEK",231,250.65,247.35,255.6,254.25,276.5,297.45,289,280.64999999999998,260.60000000000002,226.2,223.2,222,{"$f":"88.35+99.25","v":187.6},184.4,179,188.1,182.25,142.65,155.05000000000001,160.05000000000001,149.74,139.65,138.19999999999999,116.5,118.65,117.95,114.25,99.9,102.71,95.33,96.5,99.95,100.8,93.33,-7.4107142857142844E-2,-2.7284259382971379E-2]
["C/B","BRISTOL BAY","SOUTH NAKNEK",22,22,18,16,15,16,16,16,15,14,16.850000000000001,14,11.6,7.75,"closed","closed","closed","closed","closed","closed","closed","closed","closed","closed","closed","closed","closed","closed","closed","closed","closed","closed","closed","closed","closed","n/a","n/a"]
["C/B","BRISTOL BAY","TOTAL",{"$f":"SUM(D49:D50)","v":253},272.64999999999998,265.35000000000002,271.60000000000002,269.25,292.5,313.45,305,295.64999999999998,274.60000000000002,243.04999999999998,237.2,233.6,195.35,184.4,179,188.1,{"$f":"SUM(U49:U50)","v":182.25},{"$f":"SUM(V49:V50)","v":142.65},155.05000000000001,160.05000000000001,149.74,139.65,138.19999999999999,116.5,118.65,117.95,114.25,{"$f":"SUM(AF49:AF50)","v":99.9},102.71,95.33,96.5,99.95,100.8,93.33,-7.4107142857142844E-2,-2.7284259382971379E-2]
["REAA","CHATHAM","ANGOON",186.5,175,166.1,157.35,156,153.80000000000001,146.75,145.94999999999999,154.69999999999999,150,154.5,133.6,124.3,114.5,112.7,108,103.32,91,79.5,80.650000000000006,77,72,65.2,70.400000000000006,79,68.5,73.5,78.25,73.900000000000006,64.3,66.5,63,69.75,64.75,69.05,6.6409266409266365E-2,-4.6774882012701208E-3]
["REAA","CHATHAM","CORNER BAY",8,12,"closed","closed","closed","closed","closed","closed","closed","closed","closed","closed","closed","closed","closed","closed","closed","closed","closed","closed","closed","closed","closed","closed","closed","closed","closed","closed","closed","closed","closed","closed","closed","closed","closed","n/a","n/a"]
["REAA","CHATHAM","CUBE COVE",40.799999999999997,67,44.2,31,29,26,36.85,31,18,19,20,10,0,"closed","closed","closed","closed","closed","closed","closed","closed","closed","closed","closed","closed","closed","closed","closed","closed","closed","closed","closed","closed","closed","closed","n/a","n/a"]
["REAA","CHATHAM","ELFIN COVE",9,11,12,11,8,11,11,11,0,"closed","closed","closed","closed","closed","closed","closed","closed","closed","closed","closed","closed","closed","closed","closed","closed","closed","closed","closed","closed","closed","closed","closed","closed","closed","closed","n/a","n/a"]
["REAA","CHATHAM","EIGHT FATHOM BIGHT","closed","closed","closed","closed","closed","closed","closed","closed","closed","closed","closed","closed","closed","closed","closed","closed","closed","closed","closed","closed","closed","closed","closed","closed","closed","closed","closed","closed","closed","closed","closed","closed","closed","closed","closed","n/a","n/a"]
["REAA","CHATHAM","FRESHWATER BAY",21,11,16.45,"closed","closed","closed","closed","closed","closed","closed","closed","closed","closed","closed","closed","closed","closed","closed","closed","closed","closed","closed","closed","closed","closed","closed","closed","closed","closed","closed","closed","closed","closed","closed","closed","n/a","n/a"]
["REAA","CHATHAM","GUSTAVUS",72,67,65,85.5,79.7,83,75.2,73,73.900000000000006,61,48,46.25,43.7,49,37.5,44,42.5,44.99,45.5,39.75,57.25,49.75,52.25,61.1,64.7,74.650000000000006,70.150000000000006,71.5,65,63.5,59.5,58.5,46.5,51,50.75,-4.9019607843137254E-3,-3.5974544862609877E-2]
["REAA","CHATHAM","HOBART BAY",null,7,7.65,8,12.25,23,21,7.25,0,"closed","closed","closed","closed","closed","closed","closed","closed","closed","closed","closed","closed","closed","closed","closed","closed","closed","closed","closed","closed","closed","closed","closed","closed","closed","closed","n/a","n/a"]
["REAA","CHATHAM","KLUKWAN",35,35.5,30,24.7,27.9,28.5,27,11.8,12.2,12,14,26.5,39.9,39,32.9,38,33,22.4,15.75,18,14,15,16,13,13.25,16.5,13,21.7,17.899999999999999,14,13.5,6.85,5,12,22.5,0.875,0.21910732448472769]
["REAA","CHATHAM","TENAKEE",10,11,7.55,9,13,12,16.5,13,13.25,15,11,11,12,12.5,12,10,14.25,10,9,12,8,10,10,"closed",12.25,6.5,"closed","closed","closed","closed","closed","closed","closed","closed","closed","n/a","n/a"]
["REAA","CHATHAM","TOTAL",{"$f":"SUM(D52:D61)","v":382.3},396.5,348.95,326.55,325.84999999999997,337.3,334.3,293,272.05,257,247.5,227.35,219.9,215,195.1,200,193.07,{"$f":"SUM(U52:U61)","v":168.39000000000001},{"$f":"SUM(V52:V61)","v":149.75},150.4,156.25,146.75,143.44999999999999,144.5,169.2,166.15,156.65,171.45,{"$f":"SUM(AF52:AF61)","v":156.80000000000001},141.80000000000001,139.5,128.35,121.25,127.75,142.30000000000001,0.11389432485322905,-8.824505536365379E-3]
["REAA","CHUGACH","CHENEGA BAY",21,19,21.25,26,13,16,14,8,10,10.4,14.8,11,11,11,11,14,14,16,17,22,23,19.75,12,12.7,10.45,11,11,13,11,10,12.5,10,12,11,9.4,-0.14545454545454542,-5.2156177156177132E-3]
["REAA","CHUGACH","ICY BAY",4,3,6,6.8,13,13,13,"closed","closed","closed","closed","closed","closed","closed","closed","closed","closed","closed","closed","closed","closed","closed","closed","closed","closed","closed","closed","closed","closed","closed","closed","closed","closed","closed","closed","n/a","n/a"]
["REAA","CHUGACH","TATITLEK",20.100000000000001,23.25,28,31.85,32,29,27,33,28,32.5,23.9,29.5,32.5,26,30.3,27,24.95,20.45,19,17,14.1,13,15,13,14.25,15,16,17,15,18.5,18.5,12,11,11,10,-9.0909090909090912E-2,-4.3425937635496459E-2]
["REAA","CHUGACH","TWO MOON BAY",null,8,9,5.0999999999999996,10,11,4,"closed","closed","closed","closed","closed","closed","closed","closed","closed","closed","closed","closed","closed","closed","closed","closed","closed","closed","closed","closed","closed","closed","closed","closed","closed","closed","closed","closed","n/a","n/a"]
["REAA","CHUGACH","WHITTIER",68.8,75,68,53,65,75,99,126,36,26.45,22.4,34,40,40.85,39.9,44.4,27.75,34.049999999999997,30.3,24,14,27.16,33,31.4,35.85,36.049999999999997,37,27,40.15,51.2,49.85,49.45,39.5,47.3,48.35,2.2198731501057174E-2,5.9505897364846044E-2]
["REAA","CHUGACH","TOTAL",{"$f":"SUM(D63:D67)","v":113.9},128.25,132.25,122.75,133,144,157,167,74,69.349999999999994,61.1,74.5,83.5,77.849999999999994,81.199999999999989,85.4,66.7,{"$f":"SUM(U63:U67)","v":70.5},{"$f":"SUM(V63:V67)","v":66.3},63,51.1,59.91,60,57.099999999999994,60.55,62.05,64,57,{"$f":"SUM(AF63:AF67)","v":66.150000000000006},79.7,80.849999999999994,71.45,62.5,69.3,67.75,-2.2366522366522326E-2,1.4415535520899764E-2]
["STATE","CCS","CCS",1984.74,2079.48,2280.4699999999998,1475.14,1477.15,1580.85,1626.47,"closed","closed","closed","closed","closed","closed","closed","closed","closed","closed","closed","closed","closed","closed","closed","closed","closed","closed","closed","closed","closed","closed","closed","closed","closed","closed","closed","closed",{"$f":"IFERROR((AL69-AK69)/AK69,\"n/a\")","v":"n/a"},{"$f":"IFERROR(((AL69-AK69)/AK69+(AK69-AJ69)/AJ69+(AJ69-AI69)/AI69+(AI69-AH69)/AH69+(AH69-AG69)/AG69+(AG69-AF69)/AF69+(AF69-AE69)/AE69+(AE69-AD69)/AD69)/8,\"n/a\")","v":"n/a"}]
["STATE","CCS","TOTAL",{"$f":"SUM(D69)","v":1984.74},2079.48,2280.4699999999998,1475.14,1477.15,1580.85,1626.47,0,0,0,0,0,0,0,0,0,0,{"$f":"SUM(U69)","v":0},{"$f":"SUM(V69)","v":0},0,0,0,0,0,0,0,0,0,{"$f":"SUM(AF69)","v":0},0,0,0,0,0,0,"n/a","n/a"]
["REAA","COPPER RIVER","CHISTOCHINA",38.049999999999997,31.25,31,15.25,13.3,10.5,6.95,9,10,11,15,10,10.4,11,15,16,11,10,12,11,11.45,"closed","closed","closed","closed","closed","closed","closed","closed","closed","closed","closed","closed","closed","closed","n/a","n/a"]
["REAA","COPPER RIVER","COPPER CENTER",74.55,74,79.45,77.5,69.8,61.5,51.45,51.85,38,"Glennallen","Glennallen","Glennallen","Glennallen","Glennallen","Glennallen","Glennallen","Glennallen","Glennallen","Glennallen","Glennallen","Glennallen","Glennallen","Glennallen","Glennallen","closed","closed","closed","closed","closed","closed","closed","closed","closed","closed","closed","n/a","n/a"]
["REAA","COPPER RIVER","GAKONA",30,25,18,22.85,21.75,19.75,26.1,26.75,23.1,"Glennallen","Glennallen","Glennallen","Glennallen","Glennallen","Glennallen","Glennallen","Glennallen","Glennallen","closed","closed","closed","closed","closed","closed","closed","closed","closed","closed","closed","closed","closed","closed","closed","closed","closed","n/a","n/a"]
["REAA","COPPER RIVER","GLENNALLEN",305.5,340.35,353.2,345.6,364.8,383.8,501.6,{"$f":"152.94+237.8","v":390.74},336.15,{"$f":"208.25+118.5+43+19.55","v":389.3},{"$f":"296.65+51.2+13","v":360.84999999999997},{"$f":"191.83+116.95+51.7+22.75","v":383.23},{"$f":"184.9+132+49.25+17","v":383.15},{"$f":"128.15+180.45+48+17.1","v":373.70000000000005},{"$f":"180.9+127.5+55.35+14","v":377.75},369.75,{"$f":"39+15+175+129","v":358},321.25,302.64999999999998,305.38,291.14999999999998,297.8,304.3,298.25,285.85000000000002,279.55,279.3,266.27999999999997,251.86,245.24,205.93,225.94,205.8,225.65,205.75,-8.8189674274318661E-2,-3.3881630312508813E-2]
["REAA","COPPER RIVER","KENNY LAKE",99.85,85.85,97.3,104.75,107.8,122.95,135.5,124.95,123.8,114.75,117.25,124.4,122.67,132.5,142.19999999999999,130.9,124.05,129.85,120.3,121,104.25,110.8,105.25,89.91,78,70.849999999999994,73.25,64.88,65.5,63.9,51.75,43.85,57,58.6,52.55,-0.10324232081911269,-3.090270116395865E-2]
["REAA","COPPER RIVER","NELCHINA",9,8,6,6,17,16,8.5,12,11,14,11,11.7,"closed","closed","closed","closed","closed","closed","closed","closed","closed","closed","closed","closed","closed","closed","closed","closed","closed","closed","closed","closed","closed","closed","closed","n/a","n/a"]
["REAA","COPPER RIVER","PAXSON",3,6,"closed","closed","closed","closed","closed","closed","closed","closed","closed","closed","closed","closed","closed","closed","closed","closed","closed","closed","closed","closed","closed","closed","closed","closed","closed","closed","closed","closed","closed","closed","closed","closed","closed","n/a","n/a"]
["REAA","COPPER RIVER","SLANA",22,22,22.95,24.8,28.8,25,42.5,16,16,17,10,18,24,14.95,12,15.75,18.3,17.8,19,16.399999999999999,13.53,21.75,21,10.53,18.25,16.3,13.2,15.3,13,10,10.85,15,15,10,11.75,0.17499999999999999,1.0893753358174621E-2]
["REAA","COPPER RIVER","TOTAL",{"$f":"SUM(D71:D78)","v":581.95000000000005},592.45000000000005,607.9,596.75,623.24999999999989,639.5,772.6,631.29000000000008,558.04999999999995,546.04999999999995,514.09999999999991,547.33000000000004,540.21999999999991,532.15000000000009,546.95000000000005,532.4,511.35,{"$f":"SUM(U71:U78)","v":478.90000000000003},{"$f":"SUM(V71:V78)","v":453.95},453.78,420.37999999999994,430.35,430.55,398.68999999999994,382.1,366.7,365.75,346.46,{"$f":"SUM(AF71:AF78)","v":330.36},319.14,268.53000000000003,284.79000000000002,277.8,294.25,270.05,-8.2242990654205567E-2,-3.4847072427878822E-2]
["C/B","CORDOVA","CORDOVA",437.9,437.9,502.5,511.15,528.15,519.15,534.29999999999995,{"$f":"289.25+225.45","v":514.70000000000005},491.34,485.45,475.95,461.45,464.1,{"$f":"471.4","v":471.4},451.6,446.95,420.5,408.9,368.4,360.4,337.75,324.5,315.77999999999997,306.31,324.5,351.6,313.14999999999998,323.56,328.18,319.60000000000002,262.3,306.72000000000003,332.34,356.05,351.8,-1.1936525768852688E-2,1.9296726105987552E-2]
["C/B","CORDOVA","TOTAL",{"$f":"SUM(D80)","v":437.9},437.9,502.5,511.15,528.15,519.15,534.29999999999995,514.70000000000005,491.34,485.45,475.95,461.45,464.1,471.4,451.6,446.95,420.5,{"$f":"SUM(U80)","v":408.9},{"$f":"SUM(V80)","v":368.4},360.4,337.75,324.5,315.77999999999997,306.31,324.5,351.6,313.14999999999998,323.56,{"$f":"SUM(AF80)","v":328.18},319.60000000000002,262.3,306.72000000000003,332.34,356.05,351.8,-1.1936525768852688E-2,1.9296726105987552E-2]
["C/B","CRAIG","CRAIG",303.39999999999998,314.25,356.45,367,396,424,422,{"$f":"221+207","v":428},431,412.35,412.4,{"$f":"185+94+96.75","v":375.75},{"$f":"177.2+90+100","v":367.2},{"$f":"381.75-24","v":357.75},355.8,352.75,347.55,331.45,323.5,304.05,304.39999999999998,338.96,314.5,285.2,285.05,273.10000000000002,284.23,257.32,264.45,246.55,207.81,213.26,229.4,223.13,196,-0.12158831174651547,-4.234956490420215E-2]
["C/B","CRAIG","TOTAL",{"$f":"SUM(D82)","v":303.39999999999998},314.25,356.45,367,396,424,422,428,431,412.35,412.4,375.75,367.2,357.75,355.8,352.75,347.55,{"$f":"SUM(U82)","v":331.45},{"$f":"SUM(V82)","v":323.5},304.05,304.39999999999998,338.96,314.5,285.2,285.05,273.10000000000002,284.23,257.32,{"$f":"SUM(AF82)","v":264.45},246.55,207.81,213.26,229.4,223.13,196,-0.12158831174651547,-4.234956490420215E-2]
["REAA","DELTA/GREELY","DELTA JUNCTION",841,839.7,927.9,983.7,964,873,834.7,{"$f":"437.75+513.26","v":951.01},{"$f":"57.7+178+102.6+213.8+231.45","v":783.55},{"$f":"203.2+209.85+271.55+53.65","v":738.24999999999989},599.54999999999995,{"$f":"36.1+267.4+234.8","v":538.29999999999995},{"$f":"320.98+280.6","v":601.58000000000004},647.29999999999995,{"$f":"812.69-R85-R86","v":774.99},805.7,{"$f":"883.15-23","v":860.15},834.53,783.59,793.14,764.45,770.85,740.7,719.54,691.39,675.88,717.75,708.35,727.15,683.13000000000011,503.67,630.74,674.2,628.79,562.58000000000004,-0.10529747610489977,-2.0157023182482959E-2]
["REAA","DELTA/GREELY","HEALY LAKE",null,10,9.5,6,10,11.65,8.9499999999999993,13,10,11.55,0,7.08,0,null,11.2,"closed","closed","closed","closed","closed","closed","closed","closed","closed","closed","closed","closed","closed","closed","closed","closed","closed","closed","closed","closed","n/a","n/a"]
["REAA","DELTA/GREELY","GERSTLE RIVER",null,null,null,null,null,null,null,null,null,null,null,null,null,20,26.5,27.8,23,25,21.7,19,22,22,21,21,29,20.75,24.85,27,29,28,30,31,30,33.35,32,-4.0479760119940068E-2,3.3725147116751938E-2]
["REAA","DELTA/GREELY","TOTAL",{"$f":"SUM(D84:D86)","v":841},849.7,937.4,989.7,974,884.65,843.65000000000009,964.01,793.55,749.79999999999984,599.54999999999995,545.38,601.58000000000004,667.3,812.69,833.5,883.15,{"$f":"SUM(U84:U86)","v":859.53},{"$f":"SUM(V84:V86)","v":805.29000000000008},812.14,786.45,792.85,761.7,740.54,720.39,696.63,742.6,735.35,{"$f":"SUM(AF84:AF86)","v":756.15},711.13000000000011,533.67000000000007,661.74,704.2,662.14,594.58000000000004,-0.10203280273054029,-1.8522288661784601E-2]
["C/B","DENALI","ANDERSON",114.6,106.9,119.05,118.25,125.3,112.75,113,89.2,96,79.400000000000006,62.45,63.5,80.5,87.25,81.25,77.349999999999994,52.95,56.9,43.25,32,38.85,31.5,23.1,15.55,19,32,31.25,33.75,27,32.25,26.65,22.25,18.25,11.87,7.25,-0.38921651221566972,-0.14786037376401731]
["C/B","DENALI","CANTWELL",24,29.5,30.1,26.5,27,26,27,28,39,31,30.65,27.75,22.55,24.65,25.25,19.600000000000001,19,25.3,34.4,35,32.450000000000003,22,22,19,15.6,14,17,13.5,13.75,10,11,8,8,10,12.75,0.27500000000000002,-1.347729748465042E-2]
["C/B","DENALI","HEALY",194.6,193.2,220.4,230.4,232.25,239,250.9,232.65,227.1,216.1,219.55,196.25,193.7,193.25,198,183.05,171.15,162.55000000000001,155.85,168.85,178.75,176.25,186.01,174.25,173.67,159.78,166,175.8,182.4,170.55,126.05,125.69,150.75,151.94999999999999,157.32,3.5340572556762123E-2,1.3144172357165583E-3]
["C/B","DENALI","TOTAL",{"$f":"SUM(D88:D90)","v":333.2},329.6,369.55,375.15,384.55,377.75,390.9,349.85,362.1,326.5,312.64999999999998,287.5,296.75,305.14999999999998,304.5,280,243.10000000000002,{"$f":"SUM(U88:U90)","v":244.75},{"$f":"SUM(V88:V90)","v":233.5},235.85,250.05,229.75,231.10999999999999,208.8,208.26999999999998,205.78,214.25,223.05,{"$f":"SUM(AF88:AF90)","v":223.15},212.8,163.69999999999999,155.94,177,173.82,177.32,2.0135772638361523E-2,-1.8221846466557397E-2]
["C/B","DILLINGHAM","DILLINGHAM",480.5,504.1,488.05,485.5,496.2,524,541.25,{"$f":"339.45+243.7","v":583.15},548.04999999999995,561.79999999999995,579.85,540.70000000000005,520.66,513.13,531.79999999999995,504.9,531.42999999999995,499.7,495.45,469.52,474.2,462.1,481.25,482.6,465.3,444.95,472.45,475.7,459.35,438.85,410.6,424.5,407.85,392.15,385.6,-1.6702792298865114E-2,-2.4632436477005679E-2]
["C/B","DILLINGHAM","TOTAL",{"$f":"SUM(D92)","v":480.5},504.1,488.05,485.5,496.2,524,541.25,583.15,548.04999999999995,561.79999999999995,579.85,540.70000000000005,520.66,513.13,531.79999999999995,504.9,531.42999999999995,{"$f":"SUM(U92)","v":499.7},{"$f":"SUM(V92)","v":495.45},469.52,474.2,462.1,481.25,482.6,465.3,444.95,472.45,475.7,{"$f":"SUM(AF92)","v":459.35},438.85,410.6,424.5,407.85,392.15,385.6,-1.6702792298865114E-2,-2.4632436477005679E-2]
["C/B","FAIRBANKS","FAIRBANKS",9506.2999999999993,9884.7000000000007,10454.5,10577.5,10451,10797,11047.2,{"$f":"6331.45+4881.64","v":11213.09},{"$f":"504.88+446.5+1447.74+599.23+815.1+511.3+1206.7+556.53+446.3+232.8+341.6+488.45+475.9+406.86+881.35+629.7+563.9-L99","v":9925.14},{"$f":"15366.65-M95-M96-M97-M98-42-M99","v":9830.5499999999993},9704.64,9960.61,{"$f":"9387.38","v":9387.3799999999992},{"$f":"9062.76","v":9062.76},9280.9699999999993,8906.51,{"$f":"468.3+369.05+155+399.7+317.7+349.05+370.8+333.95+1275.97+373.25+420.3+391.65+374.35+505+531.95+474.45+1218.03+468.25+97.65+194.93+73.83+40","v":9203.16},8514.68,8533.08,8639.6,8609.69,8737.91,8661.09,8552.9599999999991,8397.35,8440,8335.32,8296.82,8132.0599999999995,8044.4099999999989,6402.3099999999995,7016.3899999999994,7216.11,6978.25,6714.76,-3.7758750403037979E-2,-2.3215713851155381E-2]
["C/B","FAIRBANKS","NORTH POLE",3134.6,3208.6,3055.5,3078.5,3189,3222,3245.55,{"$f":"1659.33+1621.5","v":3280.83},{"$f":"490.34+414.65+470.35+241.5+541.7+1024.8","v":3183.34},3092.36,2925.59,2487.81,2856.44,2912.24,2907.02,2952.84,{"$f":"576.3+513.45+882.4+440.08+524.45","v":2936.6800000000003},2962.69,3035.84,3082.55,2988.64,2808.92,2910.67,2876.01,2910.04,2867.93,2853.3,2701.06,2571.64,2422.39,1777.8300000000002,2153.0299999999997,2207.92,2240.04,2484.41,0.10909180193210831,-8.1517459925419707E-3]
["C/B","FAIRBANKS","SALCHA",102.8,89.2,81,73,66.5,85.5,75.2,86.63,80.3,76,73.349999999999994,79.95,71.650000000000006,84.7,98.2,89.19,99.5,85.79,97,101,88,83,84,76.010000000000005,68.8,77.650000000000006,73.25,69.239999999999995,81.900000000000006,78,43,64,66.400000000000006,68.05,59.5,-0.1256429096252755,7.1049806303206441E-3]
["C/B","FAIRBANKS","TWO RIVERS",112.5,113.1,109.5,126,118.5,128.5,118.5,128.25,119,104.85,103.2,86.7,98.65,96.35,122.05,113.05,91.15,107.12,99.23,92.55,92.5,88.2,87.45,97.45,87.42,98.8,94.95,86.35,71.95,74.650000000000006,41.15,66.400000000000006,65.45,61,64,4.9180327868852458E-2,-1.1010121133217277E-2]
["C/B","FAIRBANKS","EIELSON",1389.6,1587.6,1550,1553,1581.5,1583,1645.2,{"$f":"1038.6+600.4","v":1639},{"$f":"533.49+435.7+574.05","v":1543.24},{"$f":"488.05+615.88+567.25","v":1671.18},1657.15,1600.66,1572.16,1513.23,1428.1,1342.75,{"$f":"347.25+596.25+378.65","v":1322.15},1150.4000000000001,1102.2,1107.1500000000001,1092.8800000000001,1016.09,972.7,948.03,853.24,875.96,876.5,860.42000000000007,812.75,858.53,733.22,849.64,861.52,780.1,362.73,-0.53502115113446991,-7.7518428906969916E-2]
["C/B","FAIRBANKS","FT. WAINWRIGHT",null,null,null,null,null,null,null,null,629.70000000000005,549.71,639.36,687.9,702.2,504.08,498.7,414.54,509.15,532.28,531.15,522.25,475.36,569.53,569.29999999999995,530.04999999999995,524.51,535.57000000000005,535.36,530.26,446.32,413.49,360.99,422.81,464.53,428.4,359.61,-0.16057422969187668,-4.209730242921466E-2]
["C/B","FAIRBANKS","TOTAL",{"$f":"SUM(D94:D99)","v":14245.8},14883.200000000003,15250.5,15408,15406.5,15816,16131.650000000001,16347.8,15480.72,15324.650000000001,15103.29,14903.630000000001,14688.48,14173.36,14335.04,13818.880000000001,14161.789999999999,{"$f":"SUM(U94:U99)","v":13352.960000000003},{"$f":"SUM(V94:V99)","v":13398.5},13545.1,13347.07,13303.650000000001,13285.210000000001,13080.51,12841.359999999999,12895.91,12768.68,12544.15,{"$f":"SUM(AF94:AF99)","v":12116.619999999999},11891.47,9358.4999999999982,10572.269999999997,10881.93,10555.84,10045.01,-4.8393116985479122E-2,-2.5328511011346533E-2]
["C/B","GALENA","GALENA",121.4,142.30000000000001,128.44999999999999,133.1,142,149.1,161,{"$f":"110+96","v":206},237,{"$f":"122+45","v":167},177,{"$f":"90.15+86.35","v":176.5},{"$f":"87+76","v":163},222.6,205.85,123.2,226.55,233.15,222.25,270.5,293.35000000000002,294.3,310.45,285.25,300.7,313.95,310.2,316.10000000000002,317.25,285.8,141.5,225.30999999999997,268,262.25,268.8,2.497616777883703E-2,2.5489552058327855E-2]
["C/B","GALENA","TOTAL",{"$f":"SUM(D101)","v":121.4},142.30000000000001,128.44999999999999,133.1,142,149.1,161,206,237,167,177,176.5,163,222.6,205.85,123.2,226.55,{"$f":"SUM(U101)","v":233.15},{"$f":"SUM(V101)","v":222.25},270.5,293.35000000000002,294.3,310.45,285.25,300.7,313.95,310.2,316.10000000000002,{"$f":"SUM(AF101)","v":317.25},285.8,141.5,225.30999999999997,268,262.25,268.8,2.497616777883703E-2,2.5489552058327855E-2]
["C/B","HAINES","HAINES",380,413.8,413.4,394.05,403.15,426.9,436.4,425.4,424.75,{"$f":"182.5+135.25+67.55","v":385.3},{"$f":"375.15","v":375.15},{"$f":"178.25+128.55+52.4","v":359.2},{"$f":"300.95","v":300.95},{"$f":"135.89+153.1","v":288.99},265.47000000000003,256.39999999999998,{"$f":"171.15+98.25","v":269.39999999999998},286.39999999999998,272.25,282.08999999999997,278.14999999999998,285.7,264.05,250.75,258.54000000000002,257.31,240.55,252.97,247.35,258.64999999999998,201.4,233.97,244.1,237.75,228.53,-3.8780231335436378E-2,-7.5272008055900577E-4]
["C/B","HAINES","MOSQUITO LAKE",20,20.100000000000001,18.899999999999999,15,10,8,8.5,13,9,16.399999999999999,10.5,10,11,14,11.1,14,10.35,14.65,18,14,15,14.45,10,9,"closed","closed","closed","closed","closed","closed","closed","closed","closed","closed","closed","n/a","n/a"]
["C/B","HAINES","HOMESHORE",15,14,"closed","closed","closed","closed","closed","closed","closed","closed","closed","closed","closed","closed","closed","closed","closed","closed","closed","closed","closed","closed","closed","closed","closed","closed","closed","closed","closed","closed","closed","closed","closed","closed","closed","n/a","n/a"]
["C/B","HAINES","TOTAL",{"$f":"SUM(D103:D105)","v":415},447.90000000000003,432.29999999999995,409.05,413.15,434.9,444.9,438.4,433.75,401.7,385.65,369.2,311.95,302.99,276.57000000000005,270.39999999999998,279.75,{"$f":"SUM(U103:U105)","v":301.04999999999995},{"$f":"SUM(V103:V105)","v":290.25},296.08999999999997,293.14999999999998,300.14999999999998,274.05,259.75,258.54000000000002,257.31,240.55,252.97,{"$f":"SUM(AF103:AF105)","v":247.35},258.64999999999998,201.4,233.97,244.1,237.75,228.53,-3.8780231335436378E-2,-7.5272008055900577E-4]
["C/B","HOONAH","HOONAH",234,230,269,267,259.39999999999998,273.7,271,260.14999999999998,230.85,236.75,226.9,211.3,188.4,179.4,171.7,166.5,152.94999999999999,131.4,123.45,106.07,120.7,113.75,114.3,101.8,112.2,115.45,107.75,117.25,112.95,124.75,128.88999999999999,121.65,111.09,107.1,107.1,0,1.2819364257247133E-3]
["C/B","HOONAH","TOTAL",{"$f":"SUM(D107)","v":234},230,269,267,259.39999999999998,273.7,271,260.14999999999998,230.85,236.75,226.9,211.3,188.4,179.4,171.7,166.5,152.94999999999999,{"$f":"SUM(U107)","v":131.4},{"$f":"SUM(V107)","v":123.45},106.07,120.7,113.75,114.3,101.8,112.2,115.45,107.75,117.25,{"$f":"SUM(AF107)","v":112.95},124.75,128.88999999999999,121.65,111.09,107.1,107.1,0,1.2819364257247133E-3]
["C/B","HYDABURG","HYDABURG",108.4,119,115.8,109.2,107.5,104,117,123,110.5,107.85,102.85,100.1,92.2,86.85,74.5,72.5,79.599999999999994,75.45,66.63,51.85,62.65,44,53.45,66.099999999999994,70,81.400000000000006,67.650000000000006,73.7,81.349999999999994,81.349999999999994,67.900000000000006,64.650000000000006,60,65,69.5,6.9230769230769235E-2,7.5836187165415452E-3]
["C/B","HYDABURG","TOTAL",{"$f":"SUM(D109)","v":108.4},119,115.8,109.2,107.5,104,117,123,110.5,107.85,102.85,100.1,92.2,86.85,74.5,72.5,79.599999999999994,{"$f":"SUM(U109)","v":75.45},{"$f":"SUM(V109)","v":66.63},51.85,62.65,44,53.45,66.099999999999994,70,81.400000000000006,67.650000000000006,73.7,{"$f":"SUM(AF109)","v":81.349999999999994},81.349999999999994,67.900000000000006,64.650000000000006,60,65,69.5,6.9230769230769235E-2,7.5836187165415452E-3]
["REAA","IDITAROD","ANVIK",21,23,22.95,26,21.45,26.4,20.350000000000001,29,27.85,26,25.95,22.18,23.75,24,27.5,24.75,24.4,17.5,17.95,21,14,17.649999999999999,22.11,18.25,12.2,11.98,17,18.600000000000001,14,12.65,17.95,15,12,11,12,9.0909090909090912E-2,-2.3427508329361347E-2]
["REAA","IDITAROD","GRAYLING",56.8,62,63,63.75,60.95,70.349999999999994,67.849999999999994,75,68.900000000000006,70,57.85,61,52,60.1,44.4,42.25,43.65,42.8,40.950000000000003,43.05,44.3,41.6,34.799999999999997,34.1,48,43.95,40.700000000000003,45.55,47.5,49,47.5,44,33.049999999999997,37.75,30.9,-0.18145695364238415,-2.4856825690094494E-2]
["REAA","IDITAROD","HOLY CROSS",59.1,58.65,72.349999999999994,71.05,69.349999999999994,71,69.25,76.55,58.45,55.5,60,62.61,56.2,52.4,55.25,43.54,48.2,44.35,49.9,42,40.799999999999997,45.25,44.45,40,41,37.35,31.5,27.700000000000003,27.95,24,23.25,18.5,24.05,19.5,16.75,-0.14102564102564102,-6.4837418480878567E-2]
["REAA","IDITAROD","LAKE MINCHUMINA",null,null,9,8,10,11,13,13,6,2,0,"closed","closed","closed","closed","closed","closed","closed","closed","closed","closed","closed","closed","closed","closed","closed","closed","closed","closed","closed","closed","closed","closed","closed","closed","n/a","n/a"]
["REAA","IDITAROD","LIME VILLAGE",6.9749999999999996,7,7.35,8.5,12,7.4,17,17,18.350000000000001,14,13,15,14.95,12,13.85,10.25,11,"closed","closed","closed","closed","closed","closed","closed","closed","closed","closed","closed","closed","closed","closed","closed","closed","closed","closed","n/a","n/a"]
["REAA","IDITAROD","MCGRATH",149.85,167.5,161.55000000000001,142.6,148,139.69999999999999,135.91,121.9,114,109,103.1,92.9,86.1,75.900000000000006,62.63,56.97,53,53.2,43.85,46.57,51.63,58,48.2,59.5,59.15,49.95,49.5,35.599999999999994,33,32,32.5,29,31.5,42,36.4,-0.13333333333333336,-2.3750653764607898E-2]
["REAA","IDITAROD","NIKOLAI",18,17,20,16,22,15,15,19,16,13,15.5,20,22,17.05,20.85,18.25,16.25,10.25,19.850000000000001,19.7,18,11,10,10.75,14.55,15.7,14,11,11.4,14,11,13.2,14,9,12.2,0.35555555555555546,1.1860142781195401E-2]
["REAA","IDITAROD","SHAGELUK",30.35,44.1,43,42.75,43.05,43,44,45.85,39,46.4,36,35,33.85,36,34.450000000000003,31,34.25,19.95,12,17,14.55,11.2,12.25,14.1,15,16,15.8,12.7,22,23,22.05,26.25,22.1,27.3,29.1,6.5934065934065963E-2,0.10923003331398691]
["REAA","IDITAROD","TAKOTNA",8,6,14,12.3,27.05,35.700000000000003,33.5,60.6,14,16,15,28,21,16,14,14,13,14,12,13.25,13,10,10,10,18,16,15.4,21,21,15.4,14,12,11.3,10,10.5,0.05,-3.2521764739685093E-2]
["REAA","IDITAROD","TELIDA",3,3,5,8,4,3,"closed","closed","closed","closed","closed","closed","closed","closed","closed","closed","closed","closed","closed","closed","closed","closed","closed","closed","closed","closed","closed","closed","closed","closed","closed","closed","closed","closed","closed","n/a","n/a"]
["REAA","IDITAROD","TOTAL",{"$f":"SUM(D111:D120)","v":353.07500000000005},388.25,418.20000000000005,398.95,417.85,422.55,415.86,457.90000000000009,362.54999999999995,351.9,326.39999999999998,336.69000000000005,309.84999999999997,293.45000000000005,272.93,241.01,243.75,{"$f":"SUM(U111:U120)","v":202.05},{"$f":"SUM(V111:V120)","v":196.5},202.57,196.28,194.7,181.81,186.7,207.9,190.93,183.9,172.14999999999998,{"$f":"SUM(AF111:AF120)","v":176.85},{"$f":"SUM(AG111:AG120)","v":170.05},{"$f":"SUM(AH111:AH120)","v":168.25},{"$f":"SUM(AI111:AI120)","v":157.94999999999999},148,156.55000000000001,147.85,-5.557329926541052E-2,-2.5955438445298358E-2]
["C/B","JUNEAU","JUNEAU",5124.3,5247.3,5412.7,5394.45,5399.75,5515.35,5586.45,{"$f":"3051.24+2611.45","v":5662.69},5632.4,{"$f":"5630.94-60-38.15","v":5532.79},5395.93,5366.05,5380.68,5272.82,5253.05,5063.2,5072.45,4892.4799999999996,4802.29,4835.92,4797.7299999999996,4759.1499999999996,4766.7299999999996,4649.12,4625.25,4591.76,4641.6899999999996,4522.71,4592.58,4570.26,3592.7,4008.25,4031.89,3898.06,3712.76,-4.7536466857872821E-2,-2.3513318228680687E-2]
["C/B","JUNEAU","TOTAL",{"$f":"SUM(D122)","v":5124.3},5247.3,5412.7,5394.45,5399.75,5515.35,5586.45,5662.69,5632.4,5532.79,5395.93,5366.05,5380.68,5272.82,5253.05,5063.2,5072.45,{"$f":"SUM(U122)","v":4892.4799999999996},{"$f":"SUM(V122)","v":4802.29},4835.92,4797.7299999999996,4759.1499999999996,4766.7299999999996,4649.12,4625.25,4591.76,4641.6899999999996,4522.71,{"$f":"SUM(AF122)","v":4592.58},4570.26,3592.7,4008.25,4031.89,3898.06,3712.76,-4.7536466857872821E-2,-2.3513318228680687E-2]
["C/B","KAKE","KAKE",178.7,185.05,177,175.25,185,191,199.9,194.4,185.8,166.7,165,171.62,151.85,155.15,141.75,116,103.55,101.45,93.35,88.5,85.4,92.6,105.33,104,109.7,107.65,96,102.6,104,103.25,92.14,103,102.9,107.5,108.1,5.5813953488371565E-3,1.6844877155637032E-2]
["C/B","KAKE","TOTAL",{"$f":"SUM(D124)","v":178.7},185.05,177,175.25,185,191,199.9,194.4,185.8,166.7,165,171.62,151.85,155.15,141.75,116,103.55,{"$f":"SUM(U124)","v":101.45},{"$f":"SUM(V124)","v":93.35},88.5,85.4,92.6,105.33,104,109.7,107.65,96,102.6,{"$f":"SUM(AF124)","v":104},103.25,92.14,103,102.9,107.5,108.1,5.5813953488371565E-3,1.6844877155637032E-2]
["REAA","KASHUNAMIUT","CHEVAK",181.7,191.15,191.65,207.6,229.9,244,246.95,269.85000000000002,279,298.2,314,321.8,350.4,362.25,354.65,330.55,339.2,325.55,312.5,301.75,305.95,311.64999999999998,302.33,316.7,317.14999999999998,331.6,342.35,320.60000000000002,317.95,302.14999999999998,306.85000000000002,307.3,310.89999999999998,309.05,305.14999999999998,-1.2619317262578981E-2,-1.3915464758302028E-2]
["REAA","KASHUNAMIUT","TOTAL",{"$f":"SUM(D126)","v":181.7},191.15,191.65,207.6,229.9,244,246.95,269.85000000000002,279,298.2,314,321.8,350.4,362.25,354.65,330.55,339.2,{"$f":"SUM(U126)","v":325.55},{"$f":"SUM(V126)","v":312.5},301.75,305.95,311.64999999999998,302.33,316.7,317.14999999999998,331.6,342.35,320.60000000000002,{"$f":"SUM(AF126)","v":317.95},302.14999999999998,306.85000000000002,307.3,310.89999999999998,309.05,305.14999999999998,-1.2619317262578981E-2,-1.3915464758302028E-2]
["C/B","KENAI PENINSULA","ANCHOR POINT",211.12,211.25,213.3,230.6,249.35,262,242.75,248.9,236.85,"homer","homer","homer","homer","homer","homer","homer","homer","homer","homer","homer","homer","homer","homer","homer","homer","homer","homer","homer","homer","homer","homer","homer","homer","homer","homer","n/a","n/a"]
["C/B","KENAI PENINSULA","BELUGA",3,null,null,8,6,null,null,36,"closed","closed","closed","closed","closed","closed","closed","closed","closed","closed","closed","closed","closed","closed","closed","closed","closed","closed","closed","closed","closed","closed","closed","closed","closed","closed","closed","n/a","n/a"]
["C/B","KENAI PENINSULA","COOPER LANDING",30,41,45.85,48.35,41.35,39.5,37,37,35,36.35,34.5,32.1,21.1,13,12,11,10.75,11.25,11,6.25,10,10,11.55,17,18.7,14.65,18,15,13.9,13,11,13,19.25,20,15.9,-0.20499999999999999,4.7442620329310979E-3]
["C/B","KENAI PENINSULA","ENGLISH BAY",60,55.95,50,"Nanwalek","Nanwalek","Nanwalek","Nanwalek","Nanwalek","Nanwalek","Nanwalek","Nanwalek","Nanwalek","Nanwalek","Nanwalek","Nanwalek","Nanwalek","Nanwalek","Nanwalek","Nanwalek","Nanwalek","Nanwalek","Nanwalek","Nanwalek","Nanwalek","Nanwalek","Nanwalek","Nanwalek","Nanwalek","nanwalek","nanwalek","nanwalek","nanwalek","nanwalek","nanwalek","nanwalek","n/a","n/a"]
["C/B","KENAI PENINSULA","HOMER",{"$f":"1214.9+D128+D137+D144","v":1651.67},{"$f":"1237.95+E128+E137+E144","v":1680.2},{"$f":"1238.75+F128+F137+F144","v":1679.7},{"$f":"1280.6+G128+G137+G144","v":1731.55},{"$f":"1314.2+H128+H137+H144","v":1807.35},{"$f":"1339.6+I128+I137+I144","v":1835.25},{"$f":"1387.29+J128+J137+J144","v":1840.19},{"$f":"599.8+834+K128+K137+K144","v":1872.45},{"$f":"310.2+221.55+536.75+213.25+L128+L137+L144","v":1712.35},{"$f":"1778.86-M134","v":1709.11},1637.88,1545,1557.07,1528.95,1564.13,1523.78,{"$f":"120.9+213.8+496.23+122.25+196.43+36.25+223.85+36.7+66","v":1512.41},1468.71,1473.57,1440.87,1439.43,1442.13,1444.62,1436.01,1442.26,1413.12,1495.31,1525.7799999999997,1526.7000000000003,1462.8899999999999,1211.26,1384.49,1434.28,1421.3,1463.27,2.9529304158165081E-2,8.2921060729050969E-4]
["C/B","KENAI PENINSULA","HOPE",23.45,30,29,31.5,44.65,32.799999999999997,32,20.399999999999999,25.8,17.75,15,11.95,14,18.55,14,11.2,15.15,9,10.15,15.5,13,12,16.8,17.25,22,16,17,17,17,16,26.4,19,20.25,18.5,19.399999999999999,{"$f":"IFERROR((AL133-AK133)/AK133,\"n/a\")","v":4.8648648648648575E-2},{"$f":"IFERROR(((AL133-AK133)/AK133+(AK133-AJ133)/AJ133+(AJ133-AI133)/AI133+(AI133-AH133)/AH133+(AH133-AG133)/AG133+(AG133-AF133)/AF133+(AF133-AE133)/AE133+(AE133-AD133)/AD133)/8,\"n/a\")","v":4.2361476191455534E-2}]
["C/B","KENAI PENINSULA","KACHEMAK",null,59,56.2,63.3,55.7,54,58.35,66.5,65,69.75,67,64,79,73.150000000000006,81.650000000000006,88,81.75,86,83,82.7,84.4,75,64,63,57.75,49,48,46.31,43,37.450000000000003,30.2,31,30,28.75,29.68,3.2347826086956515E-2,-5.5553904795738199E-2]
["C/B","KENAI PENINSULA","KASILOF",262.75,280,264.60000000000002,273.75,272.5,281.95,272.76,295.7,278.64999999999998,"soldotna","soldotna","soldotna","soldotna","soldotna","soldotna","soldotna","soldotna","soldotna","soldotna","soldotna","soldotna","soldotna","soldotna","soldotna","soldotna","soldotna","soldotna","soldotna","soldotna","soldotna","soldotna","soldotna","soldotna","soldotna","soldotna","n/a","n/a"]
["C/B","KENAI PENINSULA","KENAI",1568.33,1691.35,1736.65,1722.55,1731.1,1767.25,1788,{"$f":"925.65+831.5","v":1757.15},{"$f":"376.85+413.23+159.45+283.19+512.95+30.05","v":1775.72},1747.53,1754.95,1718.81,1652.71,1606.63,1785.71,1655.61,{"$f":"526.35+387.7+233.4+210.5+86.55+178","v":1622.5},1797.72,1839.38,1838.86,1848.41,1845.21,1869.86,1831.15,1810.34,1825.09,1770.21,1795.92,1817.8200000000002,1737.96,1410.6100000000001,1664.39,1722.13,1730.68,1790.59,3.4616451337046626E-2,6.0767323137942992E-3]
["C/B","KENAI PENINSULA","MCNEIL CANYON",195.9,194,196.65,183.9,203.8,197.7,184.4,153.6,150.94999999999999,"homer","homer","homer","homer","homer","homer","homer","homer","homer","homer","homer","homer","homer","homer","homer","homer","homer","homer","homer","homer","homer","homer","homer","homer","homer","homer","n/a","n/a"]
["C/B","KENAI PENINSULA","MOOSE PASS",27,35.85,31.15,34,35,39,37,37.799999999999997,34.4,42.35,40,46,42.3,35.700000000000003,34.85,31.8,28.65,28.05,29.4,15.75,15.85,18,17,16.100000000000001,13.75,10,11,13.95,17,20.75,18,15,18.149999999999999,23,17,-0.2608695652173913,7.8069915599435741E-2]
["C/B","KENAI PENINSULA","NANWALEK",null,null,null,46,45.4,53,59,56.7,59,53.25,48,70,75.7,63,63,58,56.75,62.95,70,70.849999999999994,79.75,78.25,80.13,78.8,77.3,77.099999999999994,82.75,77.2,75.45,78.28,72.400000000000006,83.8,80.849999999999994,81,60,-0.25925925925925924,-3.2811605070877527E-2]
["C/B","KENAI PENINSULA","NIKISKI",1044.05,1086.95,1101.55,1118.5,1121.8,1126.8,1137.3499999999999,{"$f":"624.7+538.7","v":1163.4000000000001},{"$f":"323.45+245.6+533.35","v":1102.4000000000001},{"$f":"221.6+520.65+306.05","v":1048.3},989.52,962.23,956.8,876.75,816.88,768.73,{"$f":"395.75+383.35","v":779.1},762.8,727.6,742.45,773.99,744.29,728.96,744.75,755.76,719.44,734.89,711.65,678.68,659.78,439.85,565.99,549.29999999999995,555.70000000000005,485.79,-0.12580529062443768,-3.7000245426528987E-2]
["C/B","KENAI PENINSULA","NIKOLAEVSK",160.94999999999999,162.5,149.1,162.9,159.25,134.9,136.05000000000001,146.65,144.85,130.25,114.75,118.9,100.05,89,69.349999999999994,65.5,59.95,55.45,73.3,72.5,70.75,70.5,71,72.099999999999994,64,66,65.5,77.849999999999994,78.5,48.75,21,16.25,29.5,23.65,19,-0.19661733615221982,-6.9630116810183398E-2]
["C/B","KENAI PENINSULA","NINILCHIK",159.35,162.65,179.35,194.75,201.75,223.05,243,236.65,234.3,212.35,198.63,204.44,185.45,181.75,198.3,169.4,157.75,174.5,167,169.87,185.3,164.65,143.59,139.30000000000001,155.9,139.6,123,100.5,108.05000000000001,112.30000000000001,81.900000000000006,99.53,114.75,109.7,106.83,-2.6162260711030123E-2,-5.1452530297431409E-3]
["C/B","KENAI PENINSULA","PORT GRAHAM",34,34.9,35,38,36,35,40,37.4,43.25,36.799999999999997,29,34,32,29.1,29.45,21,20,25,20,15,20,21.4,19,20,27,26.6,36.5,33,37.15,33.950000000000003,30.6,27.7,27,30,29,-3.3333333333333333E-2,-2.4651107502919069E-2]
["C/B","KENAI PENINSULA","RAZDOLNA",29.75,37,31,36.450000000000003,40,35.950000000000003,25.75,36.15,42.8,"homer","homer","homer","homer","homer","homer","homer","homer","homer","homer","homer","homer","homer","homer","homer","homer","homer","homer","homer","homer","homer","homer","homer","homer","homer","homer","n/a","n/a"]
["C/B","KENAI PENINSULA","SELDOVIA",97.45,90.5,85.1,96.6,84.95,98.05,90.65,96,87.95,78.75,80.05,85.95,76.17,72.400000000000006,62.75,71.25,66.7,65.400000000000006,61.4,46,49.2,43.5,40.75,48,40.5,45.65,32,34.47,31.53,32,45,48,53.400000000000006,26.2,24.11,-7.9770992366412205E-2,3.8559485705106505E-4]
["C/B","KENAI PENINSULA","SEWARD",750.2,796.75,809.3,843.15,880.5,899.75,876.15,{"$f":"420.2+433.95","v":854.15},{"$f":"409.9+440.6","v":850.5},{"$f":"410+423.28","v":833.28},807.8,767.95,760.65,704.2,743.35,638.6,{"$f":"272.15+237.2","v":509.34999999999997},566.20000000000005,549.74,550.75,530.63,536.33000000000004,572.9,570.4,590.75,607.25,597.41,579.23,560.58999999999992,566.23,452.79999999999995,484.34,479.78,485.27,467.84,-3.5918148659509153E-2,-2.7138868009759357E-2]
["C/B","KENAI PENINSULA","SOLDOTNA",{"$f":"2901.2+D148+D135","v":3453.7999999999997},{"$f":"2819.8+E148+E135","v":3413.75},{"$f":"2918.2+F148+F135","v":3495.5499999999997},{"$f":"2940.75+G148+G135","v":3569},{"$f":"3086.1+H148+H135","v":3744.95},{"$f":"3100.6+I148+I135","v":3764.8999999999996},{"$f":"3184.36+J148+J135","v":3803.0699999999997},{"$f":"1325.83+1895.25+K148+K135","v":3842.2299999999996},{"$f":"422.85+420.75+631.75+383.25+576.25+581.4+L148+L135","v":3607.15},3483.56,3370.39,3382.67,3269.71,3171.97,3214.27,3210.56,{"$f":"453.1+385.85+488.37+277.93+572.4+486+183.4+170.1+161","v":3178.15},3077,3027.83,2924.01,2820.47,2881.37,2827.44,2808.45,2904.27,2898.77,2859.9,2823.7799999999997,2763.04,2755.2200000000003,2022.5900000000001,2522.87,2581.1400000000003,2496.56,2451.9899999999998,-1.7852565129618421E-2,-1.0381808682269235E-2]
["C/B","KENAI PENINSULA","STERLING",289.85000000000002,313.95,312.75,354.5,386.35,382.35,345.95,325.45,312.25,"soldotna","soldotna","soldotna","soldotna","soldotna","soldotna","soldotna","soldotna","soldotna","soldotna","soldotna","soldotna","soldotna","soldotna","soldotna","soldotna","soldotna","soldotna","soldotna","soldotna","soldotna","soldotna","soldotna","soldotna","soldotna","soldotna","n/a","n/a"]
["C/B","KENAI PENINSULA","TYONEK",42,42.4,30.45,34.049999999999997,39.6,43,37.450000000000003,42.11,40.299999999999997,50,44.9,44.25,42.75,39.6,42,50,44.75,31.8,36.299999999999997,30,34.5,38.65,39.25,35.700000000000003,31.5,39,29,28.25,30.4,21,23.15,25,26.8,17,21.5,0.26470588235294118,-1.3204700092093171E-2]
["C/B","KENAI PENINSULA","FRITZ CREEK",51.6,65.55,75.05,103.85,108.65,134.44999999999999,126.7,111.25,108.5,135.25,138.30000000000001,135.55000000000001,137,137,129.75,126.35,127.1,116,117.5,99.5,96.45,102.45,98.78,103.75,111.1,104.25,99.8,97,101,111,105.4,118,109,120.45,136.5,0.13325031133250309,4.2913755024885036E-2]
["C/B","KENAI PENINSULA","WINDY BAY",12.05,"closed","closed","closed","closed","closed","closed","closed","closed","closed","closed","closed","closed","closed","closed","closed","closed","closed","closed","closed","closed","closed","closed","closed","closed","closed","closed","closed","closed","closed","closed","closed","closed","closed","closed","n/a","n/a"]
["C/B","KENAI PENINSULA","TOTAL",{"$f":"SUM(D128:D151)","v":10158.269999999999},{"$f":"SUM(E128:E151)","v":10485.499999999998},10607.300000000001,10925.249999999998,11296,11440.65,11413.57,11473.64,10947.97,9684.6299999999992,9370.67,9223.7999999999993,9002.4599999999991,8640.75,8861.44,8500.7800000000007,8270.8100000000013,8337.83,8297.17,8120.86,8072.13,8083.7299999999987,8045.63,8001.7599999999993,8122.880000000001,8051.52,8020.2699999999995,7976.89,{"$f":"SUM(AF128:AF151)","v":7899.8099999999995},7706.56,6002.16,7118.36,7295.58,7187.7599999999993,7138.4,-6.8672298462942108E-3,-8.9350031528698179E-3]
["C/B","KETCHIKAN","KETCHIKAN",2693.25,2663.5,2690.1,2735.38,2728.93,2850.4,2856.25,{"$f":"1464.7+1266.4","v":2731.1000000000004},2396.5500000000002,2449.1,2326.13,2259.6799999999998,2249.5500000000002,1988.47,2281.6,2088.42,2225.3000000000002,2067.6999999999998,2059.63,2088.1799999999998,2071.16,2092.1,2091.65,2114.2800000000002,2143.6999999999998,2166.62,2228.2399999999998,2227.1799999999998,2180.4499999999998,2155.84,1905.27,2030.75,1964.23,1917.17,1891.45,-1.3415607379627277E-2,-1.9155447951720524E-2]
["C/B","KETCHIKAN","TOTAL",{"$f":"SUM(D153)","v":2693.25},{"$f":"SUM(E153)","v":2663.5},2690.1,2735.38,2728.93,2850.4,2856.25,2731.1000000000004,2396.5500000000002,2449.1,2326.13,2259.6799999999998,2249.5500000000002,1988.47,2281.6,2088.42,2225.3000000000002,2067.6999999999998,2059.63,2088.1799999999998,2071.16,2092.1,2091.65,2114.2800000000002,2143.6999999999998,2166.62,2228.2399999999998,2227.1799999999998,{"$f":"SUM(AF153)","v":2180.4499999999998},2155.84,1905.27,2030.75,1964.23,1917.17,1891.45,-1.3415607379627277E-2,-1.9155447951720524E-2]
["C/B","KLAWOCK","KLAWOCK",201.9,211.85,202,210,206.95,220.15,210.3,220.85,196,205,194.9,174,158.9,147.68,159.6,135.6,140.44999999999999,135.5,125.1,136.55000000000001,136.80000000000001,135.85,130.5,136.35,122.95,114.55,128.15,125.5,114.65,128.30000000000001,116.5,119.45,123.9,133,126.35,-5.0000000000000044E-2,7.4691049544043384E-4]
["C/B","KLAWOCK","TOTAL",{"$f":"SUM(D155)","v":201.9},{"$f":"SUM(E155)","v":211.85},202,210,206.95,220.15,210.3,220.85,196,205,194.9,174,158.9,147.68,159.6,135.6,140.44999999999999,135.5,125.1,136.55000000000001,136.80000000000001,135.85,130.5,136.35,122.95,114.55,128.15,125.5,{"$f":"SUM(AF155)","v":114.65},128.30000000000001,116.5,119.45,123.9,133,126.35,-5.0000000000000044E-2,7.4691049544043384E-4]
["C/B","KODIAK ISLAND","AKHIOK",25.8,26.75,22.9,30.38,20.5,21.1,20,32.85,31.2,18.5,14,14,16.45,16.45,16,15,11,14,16,18,14.8,17,19.25,22,26,23.8,27,19,13.9,16,11,14,12.25,14,13,-7.1428571428571425E-2,-6.3372796010172955E-2]
["C/B","KODIAK ISLAND","BIG SANDY LAKE",5.7,12.05,8.3000000000000007,12,14.9,22.5,19,21,14.1,16,"closed","closed","closed","closed","closed","closed","closed","closed","closed","closed","closed","closed","closed","closed","closed","closed","closed","closed","closed","closed","closed","closed","closed","closed","closed","n/a","n/a"]
["C/B","KODIAK ISLAND","CHINIAK",30.5,29.95,28.35,33.200000000000003,32.799999999999997,30.63,23.31,25.5,24.55,20.5,22,18,17,12,11,12.2,13.3,11.4,"closed","closed",10,15,12,11.3,13,21,25.85,18.2,23,19,19.100000000000001,17,19.649999999999999,19,16,-0.15789473684210525,-4.3236329322889261E-2]
["C/B","KODIAK ISLAND","DANGER BAY",17.5,13.18,16,20,13.4,18.899999999999999,19.600000000000001,15.65,0,null,10,10.1,10,10.25,3.15,"closed","closed",12,11.3,10,10.6,13,"closed","closed","closed",14,10,"closed","closed","closed","closed","closed","closed","closed","closed","n/a","n/a"]
["C/B","KODIAK ISLAND","KARLUK",22,18,16.48,13,7.9,14.5,13,9.5,7,0,10,10,0,null,null,10.95,11.5,13,12,13,15,16,12,11,10,7,10,9,7,"closed","closed","closed","closed","closed","closed","n/a","n/a"]
["C/B","KODIAK ISLAND","KODIAK",2127.4299999999998,2225.1999999999998,2261.65,2428.63,2392.0500000000002,2543.13,2550.1,{"$f":"1409.85+1119.15","v":2529},{"$f":"431.85+261.1+273.2+375.05+364.19+725.7","v":2431.09},2483.75,2513,2550.7399999999998,2501.5,2420.58,{"$f":"(339.05+826.3+375.15+291.7+299.05+289.2)","v":2420.4499999999998},2437.8200000000002,{"$f":"318+818.4+344.55+265.25+303.85+317.47","v":2367.5200000000004},2395.35,2349.84,2338.04,2305.62,2239.5300000000002,2244.4499999999998,2238.54,2190.61,2144.7600000000002,2109.9699999999998,2094.4300000000003,2094,2071.91,1926.5800000000002,1939.66,1932.47,1848.12,1758.3,-4.8600740211674535E-2,-2.2178710108717328E-2]
["C/B","KODIAK ISLAND","LARSEN BAY",21.65,28.1,32.700000000000003,21.8,26.4,19.75,17.649999999999999,34.5,23.75,18.8,17,24,24.2,15,18.5,17.5,17,21,13,11,15.75,11,11.65,14,16.850000000000001,15,16,13.75,"closed","closed","closed","closed","closed","closed","closed","n/a","n/a"]
["C/B","KODIAK ISLAND","OLD HARBOR",64.3,77.349999999999994,78.400000000000006,86.38,91.4,91.15,94.45,83.15,70.900000000000006,67.75,61,64,62.45,57.3,55.3,58.75,55,50,45,45.85,42.45,37.5,34.299999999999997,31.1,31.35,34.65,30.25,27.5,29.5,23,28.35,32,27.2,36.5,38.299999999999997,4.9315068493150607E-2,4.5507815379125419E-2]
["C/B","KODIAK ISLAND","OUZINKIE",36.75,41,41.05,42.5,44.5,46.1,42.2,42,53,49,50.85,51,50.75,45.3,53,44,44,46.4,34.200000000000003,30.75,29,33.549999999999997,43,33,33.799999999999997,29.45,19,20,19,16,15.55,15,13.8,13,16,0.23076923076923078,-1.5744964567234225E-2]
["C/B","KODIAK ISLAND","PORT LIONS",52.25,53.5,58.1,59.93,67.599999999999994,64,62.7,58.15,62.75,58,44.5,43,48,44,47,39.25,35,38,32,35.450000000000003,36,26,23.05,20.45,20,18.5,12,6.25,10.3,12,15,14,17.8,19.899999999999999,24.5,0.23115577889447245,0.14222213609611481]
["C/B","KODIAK ISLAND","TOTAL",{"$f":"SUM(D157:D166)","v":2403.88},{"$f":"SUM(E157:E166)","v":2525.0799999999995},2563.9300000000003,2747.82,2711.4500000000003,2871.76,2862.0099999999993,2851.3,2718.34,2732.3,2742.35,2784.8399999999997,2730.3499999999995,2620.88,2624.4,2635.4700000000003,2554.3200000000006,2601.15,2513.34,2502.0899999999997,2479.2199999999998,2408.5800000000004,2399.7000000000003,2381.39,2341.61,2308.1600000000003,2260.0699999999997,2208.13,{"$f":"SUM(AF157:AF166)","v":2196.7000000000003},2157.91,2015.58,2031.66,2023.17,{"$f":"SUM(AK157:AK166)","v":1950.52},{"$f":"SUM(AL157:AL166)","v":1866.1},-4.3280766154666486E-2,-2.3395539434485909E-2]
["REAA","KUSPUK","ANIAK",189.6,184.3,180,168.95,176.2,185.85,189.05,173.25,{"$f":"78.25+9+23+64.05","v":174.3},{"$f":"59.9+33+85","v":177.9},173.35,{"$f":"61.4+32+54.75","v":148.15},{"$f":"37.5+34.95+59.55","v":132},{"$f":"60.45+74.95","v":135.4},{"$f":"(56.7+71.75)","v":128.44999999999999},138.1,{"$f":"56+72","v":128},119.35,112.5,112.75,122.2,129.19999999999999,129.25,122.95,128.4,136.05000000000001,139.44999999999999,126.6,105.55,134.69999999999999,114.4,114.55,88.550000000000011,89.35,85.15,-4.7006155567990919E-2,-4.9573491122062954E-2]
["REAA","KUSPUK","CHUATHBALUK",38.15,34.049999999999997,31.35,35,35.25,38.25,33.65,38.65,34.450000000000003,40.5,38.799999999999997,35,32.25,33.549999999999997,37,32.25,29.25,31,31,27.4,31.75,32.200000000000003,22.65,28.05,34,22,19,18,18.25,21.1,22,23.95,23.55,21,18,-0.14285714285714285,-2.3908466795670652E-3]
["REAA","KUSPUK","CROOKED CREEK",22.7,24.95,28.85,31.6,37.25,34.85,42.7,39.25,43.55,44.25,37.6,35.25,49,49.35,45.1,45.4,42.4,41,39.5,33.25,33.799999999999997,25.6,17.600000000000001,20,15,20,18.2,22.2,17,18.5,27,25.3,23.65,21.5,24.2,0.12558139534883717,5.4966586161940945E-2]
["REAA","KUSPUK","RED DEVIL",8,15,13.25,25.75,15.05,17.899999999999999,13,11.5,19.55,15.4,10,14,14.15,11.75,10,10.8,15,13,5,"closed","closed","closed","closed","closed","closed","closed","closed","closed","closed","closed","closed","closed","closed","closed","closed","n/a","n/a"]
["REAA","KUSPUK","SLEETMUTE",15.1,25.75,22.25,22.25,21.25,28.7,23.3,17.399999999999999,22.5,23.4,19.8,23,25,15.25,21.5,16,18.100000000000001,17.45,12,13,15.8,15,18.25,14,17,14.85,10.6,17,12,16.399999999999999,18,14.35,13,17.5,17,-2.8571428571428571E-2,9.9326445609454334E-2]
["REAA","KUSPUK","STONY RIVER",14.3,17.8,14.3,14.5,11.15,16.05,17.25,13.6,12.75,17.100000000000001,11.4,11,16,15.2,14.4,17.149999999999999,13,23.55,19,20,18.95,10,7.85,6.35,14,13,15.5,14,9,14,14,14.7,11,10.45,0,-1,-0.14375777192597466]
["REAA","KUSPUK","UPPER KALSKAG",73.95,52.6,87.45,95.2,95,91,84.15,102,{"$f":"70.19+27","v":97.19},"L. kalskag","L. kalskag","L. kalskag","L. kalskag","L. kalskag","L. kalskag","L. kalskag","L. kalskag","L. kalskag","L. kalskag","L.Kalskag","L.Kalskag","L.Kalskag","L.Kalskag",141.75,137.5,141.44999999999999,137.80000000000001,157.25,145,157.44999999999999,155.35,153,141.1,145.30000000000001,135.5,-6.7446662078458439E-2,6.4802638494785778E-4]
["REAA","KUSPUK","LOWER KALSKAG",{"$f":"65+D174","v":138.94999999999999},{"$f":"59+E174","v":111.6},{"$f":"50.3+F174","v":137.75},{"$f":"50.5+G174","v":145.69999999999999},{"$f":"53.15+H174","v":148.15},{"$f":"55.75+I174","v":146.75},{"$f":"70.6+J174","v":154.75},{"$f":"75.38+K174","v":177.38},{"$f":"70+L174","v":167.19},{"$f":"64.1+31+80.2","v":175.3},179.2,{"$f":"55.1+32.5+79","v":166.6},{"$f":"56.05+17+85.25","v":158.30000000000001},{"$f":"86.6+27+50","v":163.6},{"$f":"(84.45+12+61.15)","v":157.6},155.30000000000001,{"$f":"72.95+11.75+66.15","v":150.85000000000002},138.05000000000001,121.65,134.5,126.05,133.5,139.80000000000001,"U.Kalskag","U.Kalskag","U.Kalskag","U.Kalskag","U.Kalskag","U.Kalskag","U.Kalskag","U.Kalskag","U.Kalskag","U.Kalskag","U. Kalskag","U. Kalskag","n/a","n/a"]
["REAA","KUSPUK","TOTAL",{"$f":"SUM(D168:D175)","v":500.75},{"$f":"SUM(E168:E175)","v":466.05000000000007},515.20000000000005,538.94999999999993,539.29999999999995,559.34999999999991,557.85,573.03,571.48,493.84999999999997,470.15,433,426.7,424.1,414.04999999999995,415,396.6,383.4,340.65,340.9,348.55,345.5,335.4,333.1,345.9,347.35,340.54999999999995,355.04999999999995,{"$f":"SUM(AF168:AF175)","v":306.8},362.15,350.75,345.85,300.85000000000002,305.10000000000002,279.85000000000002,-8.2759750901343812E-2,-1.963794169497186E-2]
["C/B","LAKE & PENINSULA","CHIGNIK BAY",34.450000000000003,39.549999999999997,31.85,32.25,21.3,21.75,29.5,17,18.05,14.55,11.2,11.1,18.399999999999999,14.5,16.5,15,11.5,11,12,15,18.2,14.14,10.75,"closed",15.6,14,15,12.5,13.4,10,12,10.45,6,"closed","closed","n/a","n/a"]
["C/B","LAKE & PENINSULA","CHIGNIK LAGOON",15.3,19.95,27.85,25.6,27.75,33.9,35.9,30,37.6,23.5,28.5,26.6,22,19,19.05,13,11.3,15.75,15.68,15,14.6,11,11.95,11,10,11,10,10.6,10.55,12,13,15.95,14.25,17.100000000000001,14,-0.18128654970760241,5.1888820701282222E-2]
["C/B","LAKE & PENINSULA","CHIGNIK LAKE",32.299999999999997,36.200000000000003,43,55,53,54.75,49.25,46.75,50.5,44,41.9,41,38,35.799999999999997,31.65,33.950000000000003,36.200000000000003,28.2,23.3,18.05,19.600000000000001,21.65,15.95,17.350000000000001,15.4,11.5,19.079999999999998,15.5,10.6,11.85,13.55,13.65,16,20,22,0.1,3.5895703795484769E-2]
["C/B","LAKE & PENINSULA","EGEGIK",17.149999999999999,25,18,25,26,18.55,17,20.85,17.45,22,17.25,12.75,10,11,13.7,11.25,10.5,10,12,12,10,10,14.25,11.65,10.15,"closed","closed","closed","closed","closed","closed","closed","closed","closed","closed","n/a","n/a"]
["C/B","LAKE & PENINSULA","IGIUGIG",5,6,8,11,13,14,15,16,16,13.5,15,14,14.5,13,15,15.15,16.95,12,13,13,14.35,11,18.701000000000001,14.5,14,18.75,18,18,17.850000000000001,18,19.25,23,24.95,20,20,0,1.8838185296165197E-2]
["C/B","LAKE & PENINSULA","IVANOF BAY",6.35,8.6999999999999993,12.8,11,14,10,11,11,13.5,10,"closed","closed","closed","closed","closed","closed","closed","closed","closed","closed","closed","closed","closed","closed","closed","closed","closed","closed","closed","closed","closed","closed","closed","closed","closed","n/a","n/a"]
["C/B","LAKE & PENINSULA","KOKHANOK",38.85,36.549999999999997,40,45.5,48.2,48.7,58,58.75,66.75,58.05,55,47,45.05,39.950000000000003,39.700000000000003,46.25,42.95,44.35,46.05,35,33.5,22.95,25.5,27.2,24,26.5,31.95,30.75,29.5,30.25,40.700000000000003,38,28,32.9,35.15,6.8389057750759888E-2,2.5820159874110231E-2]
["C/B","LAKE & PENINSULA","LEVELOCK",23,18,22.55,26,28.13,25.25,25,22,22,22,28.05,18.8,16.5,20.65,19,20.350000000000001,19.8,18,26.25,19.75,16.75,22.6,18.600000000000001,17.649999999999999,27,24.85,22.35,17.049999999999997,17.399999999999999,18,10,11.25,10.15,11.25,12,6.6666666666666666E-2,-5.3038377348157598E-2]
["C/B","LAKE & PENINSULA","NEWHALEN",73.349999999999994,77,78.599999999999994,81.75,89.8,82.5,96.6,101.2,93,83,68.349999999999994,78.55,78.05,72.48,78.599999999999994,68.45,76.7,71.25,76.75,74.069999999999993,67.5,66.8,59.65,54.25,49.65,51.45,58.65,54.75,69.95,76.599999999999994,73.3,74.75,74.55,84.45,70.3,-0.16755476613380704,3.0683065127710379E-2]
["C/B","LAKE & PENINSULA","NONDALTON",59,57,62,61.45,65.55,66.650000000000006,73.099999999999994,75.2,79.900000000000006,71.7,69.25,64.400000000000006,59,61,51,48.6,51.75,41.9,37,32.9,28.75,33,38.299999999999997,30.6,25,35,26.5,26,23,23.5,27.5,23,17,19.2,20.8,8.3333333333333412E-2,-1.9257684291903387E-2]
["C/B","LAKE & PENINSULA","PEDRO BAY",12,22.05,20.75,18.649999999999999,9,17,10.25,12,18,12,14.35,14,12.6,17,17.850000000000001,16,13,13,12,10.95,9,"closed","closed","closed","closed","closed","closed","closed","closed","closed","closed","closed","closed","closed","closed","n/a","n/a"]
["C/B","LAKE & PENINSULA","PERRYVILLE",36.950000000000003,36.700000000000003,33,34,35,28.85,36.85,36.799999999999997,39.1,35,28.7,33.25,28.75,39.85,34.57,36.1,29.25,28.9,25.25,21,22.2,22.44,24.25,25.6,27,22.5,16,19,23.6,23.25,22.95,19,20,20,22.6,0.13000000000000006,5.1548727257985844E-2]
["C/B","LAKE & PENINSULA","PILOT POINT",13,17.3,22,23,25.95,27,25.5,28.5,26.85,23.85,22.2,16.5,23.7,20.45,17,12,10.75,18.899999999999999,14,11.5,12.85,12.08,15,10,13.5,12,12,13,12.95,12.75,13.65,15,8,"closed","closed","n/a","n/a"]
["C/B","LAKE & PENINSULA","PORT ALSWORTH",19,15,11.5,14,24.4,21.5,16,12.85,15,17.8,18.93,15.85,16,19,22.5,25,21.05,29,34,41,33.950000000000003,33,38.700000000000003,55.8,54.25,64.05,57.5,53.75,53,54.2,47.95,39,41,37.4,37.200000000000003,-5.3475935828875866E-3,-5.0045775877965736E-2]
["C/B","LAKE & PENINSULA","PORT HEIDEN",27.5,31.7,30.95,33.200000000000003,26.55,27.25,24.6,34.049999999999997,34.15,30,40,34,30,31.55,22.45,25.32,26.75,25.5,21.4,24,23,28.28,26,20,19,17,15.25,22.25,19.55,18.5,18.7,16.7,26.1,24.25,26.75,0.10309278350515463,9.7863048379970091E-2]
["C/B","LAKE & PENINSULA","TOTAL",{"$f":"SUM(D177:D191)","v":413.2},{"$f":"SUM(E177:E191)","v":446.7},462.84999999999997,497.4,507.63,497.65000000000009,523.55000000000007,522.95000000000005,547.85,480.95000000000005,458.68,427.80000000000007,412.55,415.23,398.57,386.42000000000007,378.45000000000005,367.75,368.67999999999995,343.22,324.25,308.93999999999994,317.601,295.59999999999997,304.55,308.60000000000002,302.27999999999997,293.14999999999998,{"$f":"SUM(AF177:AF191)","v":301.34999999999997},308.89999999999998,312.55,299.75,286,286.54999999999995,280.8,-2.0066306054789543E-2,-8.7912433851061542E-3]
["REAA","LOWER KUSKOKWIM","AKIUK",63,69,74,70,70.5,67.8,69,85.65,77,"kasigluk","kasigluk","kasigluk","kasigluk","kasigluk","kasigluk","kasigluk","kasigluk","kasigluk","kasigluk","kasigluk","Kasigluk","Kasigluk","Kasigluk","Kasigluk","Kasigluk","Kasigluk","Kasigluk","Kasigluk","Kasigluk","Kasigluk","Kasigluk","Kasigluk","Kasigluk","Kasigluk","Kasigluk","n/a","n/a"]
["REAA","LOWER KUSKOKWIM","AKULA",70.25,69.349999999999994,70.7,70.599999999999994,72.650000000000006,77,93,67,89.5,"kasigluk","kasigluk","kasigluk","kasigluk","kasigluk","kasigluk","kasigluk","kasigluk","kasigluk","kasigluk","kasigluk","Kasigluk","Kasigluk","Kasigluk","Kasigluk","Kasigluk","Kasigluk","Kasigluk","Kasigluk","Kasigluk","Kasigluk","Kasigluk","Kasigluk","Kasigluk","Kasigluk","Kasigluk","n/a","n/a"]
["REAA","LOWER KUSKOKWIM","ATMAUTLUAK",80.75,81.3,80.400000000000006,76.5,76.5,72.25,84.35,78.05,84.45,88.7,86.35,74.099999999999994,78.3,76.05,82.4,91.4,90.6,88.5,92.6,96,98.35,106.1,108.25,105.3,100.5,109.85,109.35,107.95,110.8,99.15,98.1,89,90.949999999999989,103.55,105.15,1.5451472718493564E-2,-2.3749347930154827E-3]
["REAA","LOWER KUSKOKWIM","BETHEL",999.9,1014.8,1079.25,1125,1124.0999999999999,1227.5999999999999,1245.4000000000001,{"$f":"813.65+468.95","v":1282.5999999999999},{"$f":"504.2+351.1+447.05","v":1302.3499999999999},{"$f":"229+417.2+455.5+148.45","v":1250.1500000000001},{"$f":"457.55+245.78+370.9+175.2","v":1249.43},{"$f":"472.3+339.75+254.33+185.65","v":1252.03},1272.02,1344.75,1344.18,1298.3,{"$f":"499.25+325.25+311.8+142.6+34.8+18","v":1331.6999999999998},1256.3499999999999,1239.05,1247.2,1220.2,1234.8,1258.75,1284.3499999999999,1234.4000000000001,1225.0999999999999,1218.7,1235.3,1102.8,1093.1500000000001,1080.0999999999999,1043,1015.1,961.95,919.05,-4.4596912521440914E-2,-3.4047933858009131E-2]
["REAA","LOWER KUSKOKWIM","CHEFORNAK",85.8,94,93.7,98.28,110.5,125.6,130,123.9,135.94999999999999,133.94999999999999,133.75,127.15,147.1,148.05000000000001,156,163.1,164.25,165.75,155,176,163.19999999999999,170,156.85,151.94999999999999,146.80000000000001,152.80000000000001,145.19999999999999,146.69999999999999,142.94999999999999,154.19999999999999,147.69999999999999,148.69999999999999,145.65,133.19999999999999,135.80000000000001,{"$f":"IFERROR((AL197-AK197)/AK197,\"n/a\")","v":1.951951951951969E-2},{"$f":"IFERROR(((AL197-AK197)/AK197+(AK197-AJ197)/AJ197+(AJ197-AI197)/AI197+(AI197-AH197)/AH197+(AH197-AG197)/AG197+(AG197-AF197)/AF197+(AF197-AE197)/AE197+(AE197-AD197)/AD197)/8,\"n/a\")","v":-7.2982474503532702E-3}]
["REAA","LOWER KUSKOKWIM","EEK",60.75,68.2,65.650000000000006,57.5,59.05,72.150000000000006,78.45,83.95,76.2,85.25,85.8,81.400000000000006,76,88.05,86.5,84.2,88.7,88.5,88,86,87.45,87.5,103.6,101.3,109.05,101.7,104.5,109.5,105.75,112.8,111.95,101.8,107.4,99.85,97.5,-2.353530295443159E-2,-7.0946733412397805E-3]
["REAA","LOWER KUSKOKWIM","GOODNEWS BAY",49.1,51.95,51.45,61.4,66.7,65.55,82.6,83.45,79.7,70.400000000000006,68.2,70.55,63.5,57.5,66.849999999999994,69,61.5,50.6,63.5,53,57.15,47,52.7,53.75,56.65,51.95,53.1,60.95,63.3,71.650000000000006,67.55,64.150000000000006,78.900000000000006,72.599999999999994,72.150000000000006,-6.1983471074378606E-3,4.4328737560600198E-2]
["REAA","LOWER KUSKOKWIM","KASIGLUK",{"$f":"D194+D193","v":133.25},138.35,144.69999999999999,140.6,143.15,144.80000000000001,162,152.65,166.5,{"$f":"65.8+99.75","v":165.55},{"$f":"69.2+103.6","v":172.8},{"$f":"66+89.65","v":155.65},{"$f":"69.95+96.95","v":166.9},{"$f":"60.5+96","v":156.5},{"$f":"(57+89.8)","v":146.80000000000001},151.94999999999999,{"$f":"69.3+87","v":156.30000000000001},180.8,185.05,182,186.7,190.1,190.9,194.15,192.5,186.25,199.15,212.5,211.45,213.95,194.1,197.05,198.75,193.75,183.75,-5.1612903225806452E-2,-8.9757964157077541E-3]
["REAA","LOWER KUSKOKWIM","KIPNUK",130,136.65,147.19999999999999,154.30000000000001,163.9,177.05,180.8,192.2,188.4,197.1,203.6,214.4,216,228.15,206.35,211.35,201.05,209.15,208.5,188.45,207.7,202.5,192.15,211.5,225.65,214.05,210.45,217.2,213.35,205.05,213.6,211.7,188,203.5,220.1,8.1572481572481551E-2,7.5394687267222784E-3]
["REAA","LOWER KUSKOKWIM","KONGIGANAK",79.5,89.09,89.25,88.6,91.45,105.25,107.9,117.5,115.05,119.25,109.5,115.25,112.55,117.9,122,124.9,125.55,122.55,140.25,143.5,142.55000000000001,133.55000000000001,132.41999999999999,165.05,169.05,174.85,174.1,170.75,156.10000000000002,151.55000000000001,158.85,173.2,160.75,154.55000000000001,167.1,8.1203494014881805E-2,-3.1162450477456756E-3]
["REAA","LOWER KUSKOKWIM","KWETHLUK",165.8,166,159.25,160.4,181.2,185.35,203.6,183.05,200.6,219.4,213.7,216.95,220.5,219.05,236.9,233.95,246.6,252.1,249.75,246.4,243.9,231.05,237.3,254.95,244.1,252.5,264.75,261.60000000000002,265.39999999999998,240,251.45,250.35000000000002,258.95,272.25,252.85,-7.1258034894398553E-2,-4.4109718360414545E-3]
["REAA","LOWER KUSKOKWIM","KWIGILLINGOK",60.9,59.05,70.5,82.25,91,95.25,94.2,95.25,98.2,104.55,108.75,112.45,110.5,102.45,105.5,116.6,117.7,103,114.1,114,109.85,114.05,109.3,114.65,121.05,122.5,118.7,118.5,124.2,121.45,136.35,118.85,111.5,118.45,112.5,-5.0232165470662747E-2,-3.8912853178641326E-3]
["REAA","LOWER KUSKOKWIM","MEKORYUK",54,46.35,45.4,38.85,42.05,51.1,50,52.25,51.6,55.7,56.1,44.75,40,39.299999999999997,46.85,49.35,37.6,34.75,30.6,39,29.95,33.1,31.3,35.950000000000003,36.299999999999997,42.8,46.45,44,44.55,39.9,45.65,36,38.9,43.35,41.35,-4.61361014994233E-2,-7.885924167183176E-3]
["REAA","LOWER KUSKOKWIM","MERTAVIK",null,null,null,null,null,null,null,null,null,null,null,null,null,null,null,null,null,null,null,null,null,null,null,null,null,null,null,null,null,10.1,34.75,34.6,39.15,46.2,73.849999999999994,0.59848484848484829,"n/a"]
["REAA","LOWER KUSKOKWIM","NAPAKIAK",80.25,83.9,92.15,76,88.7,104.75,97.2,107.85,93.5,103.45,96.4,94.25,103.45,110.95,104.75,114.2,119.65,88.3,84.35,91.45,102.75,87.75,74.349999999999994,84.5,95.95,93.05,79.75,85.1,86.35,83.25,100.35,90.95,83.5,87.45,76.5,-0.12521440823327618,-2.7700804514152119E-4]
["REAA","LOWER KUSKOKWIM","NAPASKIAK",96.05,89.3,85.65,92,98.25,103,113,118.75,113.95,121,127.4,133.15,124,127.55,141.6,143.80000000000001,152.9,147.25,161.1,157.15,151.5,147.4,154,151.05000000000001,155.4,157.30000000000001,157.85,153.94999999999999,143.9,156,142,127,126.89999999999999,124.05,131.44999999999999,5.9653365578395741E-2,-2.0608977766479838E-2]
["REAA","LOWER KUSKOKWIM","NEWTOK",72,67.75,84.5,94,85.75,95.9,89,82.15,88,100.65,97.7,99,105.7,111.5,108.6,121.95,122.45,119.45,125.05,120.5,124.2,132.80000000000001,138.69999999999999,140.44999999999999,132.85,130.6,126.9,114.55,107.5,97.55,72.5,60.2,43.65,30.4,"closed","n/a","n/a"]
["REAA","LOWER KUSKOKWIM","NIGHTMUTE",37.85,30,43.3,43.35,46.35,55,60,62.3,65.2,62.2,64.900000000000006,63.85,64.900000000000006,67.650000000000006,68.650000000000006,76.849999999999994,82.45,81.599999999999994,92,90,87.75,82,89.4,77.45,77.55,72.45,71.25,76.599999999999994,72.8,79.2,94.4,91,85.2,77,75.05,-2.5324675324675361E-2,1.0498578046157638E-2]
["REAA","LOWER KUSKOKWIM","NUNAPITCHUK",96.25,105.4,108.45,119.35,122,130.15,131.25,130.4,127,134.80000000000001,152.5,160.05000000000001,159.30000000000001,156.25,171.1,164.95,167.55,163.75,158.25,173.05,177.25,174.05,183.35,185,188.05,202.2,214.85,208,202.45,202.1,190.4,185.15,177.95,175.1,169.1,-3.4266133637921192E-2,-2.9366142765472416E-2]
["REAA","LOWER KUSKOKWIM","OSCARVILLE",13,14,11,10.5,13.75,14.1,8.68,14,18.5,18.7,19.5,18,22,21.5,24,27.6,33,29,29,31,28,28,24.25,19.55,15.95,18,16.2,15.4,18,13,17,19,18,18,20,0.1111111111111111,4.068619671044852E-2]
["REAA","LOWER KUSKOKWIM","PLATINUM",10.25,12.95,13.15,8,8,7.85,6.9,9.6999999999999993,11,11.8,7.7,8,5,5,"closed","closed","closed",10.15,14,12,12.6,15,18.149999999999999,20.95,16.3,12.9,12.75,11.5,13,13,11,7.3,6,9.3000000000000007,"closed","n/a","n/a"]
["REAA","LOWER KUSKOKWIM","QUINHAGAK",132.44999999999999,135.5,123.8,129.5,127.4,134.80000000000001,136.80000000000001,144.5,146.15,144.69999999999999,145.1,149.75,155.37,165.35,178.7,171.8,179.9,193.05,212.25,205.45,218.65,217.85,209.95,201.25,216.25,229,233.6,231.55,221.8,219.85,216,198.9,185.8,193.35,177.9,-7.9906904577191559E-2,-3.2685948422296544E-2]
["REAA","LOWER KUSKOKWIM","TOKSOOK BAY",113,119.65,131.75,132.5,138.69999999999999,133.6,151.44999999999999,161.44999999999999,169.75,170.3,179.95,192.5,193.8,197.65,202.5,215.75,231.8,232.55,215.35,208.2,216.4,210.85,197.6,192.95,201.45,191.6,187.05,192.6,182.3,187.2,172.85,173.14999999999998,169.15,165.05,172.8,4.6955468039987881E-2,-9.0292293276615088E-3]
["REAA","LOWER KUSKOKWIM","TUNTUTULIAK",68.900000000000006,80.25,81.3,87.6,79.599999999999994,77.599999999999994,75.45,70.849999999999994,76.650000000000006,94.7,94,96.8,101.5,104.6,125.45,134.30000000000001,138.19999999999999,137.75,129,141,149.30000000000001,150.35,151.69999999999999,146.85,154.1,141.30000000000001,149.9,152.94999999999999,139.25,143.44999999999999,149.80000000000001,140.75,151.35000000000002,137.1,131,-4.4493070751276398E-2,-1.4818216281987557E-2]
["REAA","LOWER KUSKOKWIM","TUNUNAK",91,95.9,84,87.25,92.95,96.45,82.5,95.45,91.35,100.65,108.6,108.55,109.05,119.85,106.45,109,112.4,108.35,115,119,127.7,122.6,113.05,104.15,110.3,114.9,102.45,108,109.15,108.25,103.6,104.80000000000001,108.3,100,94,-0.06,-9.7549682622154812E-3]
["REAA","LOWER KUSKOKWIM","TOTAL",{"$f":"SUM(D193:D217)","v":2844},{"$f":"SUM(E193:E217)","v":2918.69},3030.5000000000009,3104.3299999999995,3194.2,3419.9499999999994,3533.5299999999993,3594.9,3666.5499999999997,3552.9500000000003,3581.7299999999991,3588.5800000000004,3647.44,3765.6,3832.1299999999992,3874.2999999999997,3961.85,3863.25,3901.7499999999995,3920.35,3943.1,3918.4,3928.02,3997.0499999999997,4000.2000000000007,3997.65,3996.9999999999995,4035.1499999999996,{"$f":"SUM(AF193:AF217)","v":3837.1500000000005},3815.7999999999997,3810.0499999999997,3666.6000000000004,3589.8000000000006,3519.9999999999995,3428.95,-2.5866477272727197E-2,-1.8812723061003803E-2]
["REAA","LOWER YUKON","ALAKANUK",153.05000000000001,151.05000000000001,159.25,160.15,154.4,157.5,174.2,178.9,191.65,196.8,192.5,196.9,217.75,226.45,233,245.8,229,235.6,239.35,215.65,227.4,227.9,221.8,243.1,234.55,208.4,223.65,222.45000000000002,204.05,217.35000000000002,229.5,221.3,220.3,217.5,235.85,8.4367816091953998E-2,8.0511569278278738E-3]
["REAA","LOWER YUKON","EMMONAK",160.65,163.75,192.75,211.1,203,206.75,206.9,264.75,230.4,245.85,236.95,233.05,231.85,235.5,246.15,226.8,248.3,246.95,231.1,224.15,210.85,211.5,209.55,206.2,230.6,210.6,215.3,207.5,222.2,207.5,230.35000000000002,205.65,212.55,213.35,222.75,4.4059057886102676E-2,6.5907025233185668E-3]
["REAA","LOWER YUKON","HOOPER BAY",236.75,239.95,281.5,298.95,329.15,354.45,364.7,392.55,381.85,388.95,396.05,402.3,397.1,395.05,389.35,380.2,298.2,400.95,403.15,392.8,409.4,405.05,394.3,422.7,421.05,431.9,450.75,424.9,441.29999999999995,466.75,425.44,421.07,424,457,416.6,-8.8402625820568875E-2,-7.9340429917296295E-3]
["REAA","LOWER YUKON","KOTLIK",135.19999999999999,158,163.25,159.44999999999999,168.4,188,171.4,186.35,191.65,196.5,199.05,196.05,204.85,196.95,200.55,200.9,204.35,199.1,189,170.85,168.1,193.9,180.06,194.3,186.25,194.5,174.1,175.7,179,168.1,166.1,143.1,156.55000000000001,164,172.85000000000002,5.396341463414648E-2,1.5315076364266027E-3]
["REAA","LOWER YUKON","MARSHALL",86.2,77.05,86.2,89.15,92.9,87.05,99,93.9,105.65,95.9,103.4,101.75,118.75,121.65,126.5,131.55000000000001,129.25,128.85,138.15,133.35,131.25,130,135.18,127.55,132.6,132,141.19999999999999,118.2,119.6,113.75,127.5,115.44999999999999,129.44999999999999,125.2,123.69999999999999,-1.1980830670926632E-2,-1.2142042025967767E-2]
["REAA","LOWER YUKON","MOUNTAIN VILLAGE",202.4,204.9,240.25,232.75,222.7,220.45,219.65,248.85,225.1,234.95,233.55,223.55,263.89999999999998,256.7,244.4,246.25,246.05,251.5,249.7,230.55,239.05,244.2,241.8,220.85,260.39999999999998,232.15,212.6,200.3,226.1,201.60000000000002,210.10000000000002,179.45,165.39999999999998,178.45,171.5,-3.8946483608853957E-2,-2.2433665099680145E-2]
["REAA","LOWER YUKON","PILOT STATION",121.3,122.9,141.44999999999999,151.30000000000001,156.05000000000001,174,174.3,173.05,199.25,206.05,198.85,195.2,212.15,191.45,175.4,188.5,181.15,166.45,156.15,161.35,170.1,176.05,176.3,170.9,176.95,186.75,174.85,189.2,183.1,181.95,200.10000000000002,189.1,175.85,189,180.9,-4.285714285714283E-2,6.2728160058325693E-3]
["REAA","LOWER YUKON","PITKAS POINT",29,26.75,28.7,39,35,34,49,44.15,33,39,35.799999999999997,40.299999999999997,41.95,42.65,33,30,21.95,19.899999999999999,16,20.399999999999999,14.35,9.8000000000000007,"closed","closed","closed","closed","closed","closed","closed","closed","closed","closed","closed","closed","closed","n/a","n/a"]
["REAA","LOWER YUKON","RUSSIAN MISSION",82.9,84.25,85.25,87,94.5,97,97,92.25,99.3,106.7,101.15,106.65,110.7,99.85,104,98.8,101.1,106.2,112.35,98.65,115.4,110.1,116.81,108.35,107,115.9,125.45,123.15,124,120.95,120.95,111.35,112.7,109.25,109.5,2.2883295194508009E-3,-1.6450030370560149E-2]
["REAA","LOWER YUKON","SCAMMON BAY",103.85,106.4,109.05,110.85,119.35,122,122.6,125.8,147.35,164.55,166.95,173.1,178.15,201.25,207.1,224,239.15,223.25,229.35,209.75,211.4,219.65,216.05,208.8,213.45,230.7,216.2,233.35,209.35,205.3,215.05,221.75,208.75,234.15,230.05,-1.7510143070681161E-2,1.0164782115740239E-2]
["REAA","LOWER YUKON","SHELDON POINT",32.6,29.45,33,45.55,45.2,54,57.2,49.65,55.75,60.9,62.45,69,76,64.3,58,63.95,69.8,56.4,66.8,64.849999999999994,66.75,58.5,67.900000000000006,50.8,56.3,56.95,51.25,63.3,60.35,60.2,58.85,52,62.35,61.3,64,4.4045676998368727E-2,3.418172821992603E-2]
["REAA","LOWER YUKON","TOTAL",{"$f":"SUM(D219:D229)","v":1343.9},{"$f":"SUM(E219:E229)","v":1364.45},1520.65,1585.25,1620.6499999999999,1695.2,1735.9499999999998,1850.2,1860.9499999999998,1936.15,1926.7,1937.85,2053.15,2031.8000000000002,2017.45,2036.75,1968.3,2035.15,2031.1,1922.35,1964.05,1986.65,1959.75,1953.5499999999997,2019.1499999999999,1999.8500000000004,1985.35,1958.05,{"$f":"SUM(AF219:AF229)","v":1969.0499999999995},1943.4500000000003,1983.9399999999996,1860.2199999999998,1867.8999999999999,1949.2,1927.7000000000003,-1.1030166222039695E-2,-3.2546956172268306E-3]
["STATE","MT EDGECUMBE","MT EDGECUMBE TOTAL",212.5,212.95,267.7,281.60000000000002,282.3,275.12,293,307.57,"n/a","n/a","n/a","n/a","n/a","n/a","n/a","n/a","n/a","n/a","n/a","n/a","n/a","n/a","n/a","n/a","n/a","n/a","n/a","n/a",433.3,428.84999999999997,372.15,400.3,405.2,398,417.1,4.7989949748743772E-2,"n/a"]
["STATE","MT EDGECUMBE","MT EDGECUMBE",{"$f":"SUM(D231)","v":212.5},{"$f":"SUM(E231)","v":212.95},267.7,281.60000000000002,282.3,275.12,293,307.57,0,0,0,0,0,0,0,0,0,0,0,0,0,0,0,0,0,0,0,0,{"$f":"SUM(AF231)","v":433.3},428.84999999999997,372.15,400.3,405.2,398,417.1,4.7989949748743772E-2,"n/a"]
["C/B","MAT-SU","BERYOZAVA",null,8,11,13.3,13,13,null,null,16,15,19.25,0,18,18,17.100000000000001,12.35,16,16.149999999999999,19,21.2,18.899999999999999,20,22,17,19.149999999999999,22,28,19,28,28,16,30,23.75,31.25,39,0.248,0.11926754385964911]
["C/B","MAT-SU","BIG LAKE",null,{"$f":"558.48+E238","v":1082.6300000000001},{"$f":"555+F238","v":1109},{"$f":"637+G238","v":1222.0999999999999},{"$f":"622.8+H238","v":1190.5},{"$f":"635.5+I238","v":1206.4000000000001},{"$f":"703.6+J238","v":1224.8499999999999},{"$f":"639.55+K238","v":1185.6500000000001},{"$f":"462.75+60.25+L238","v":1088.69},{"$f":"478.1+68.15+551.48","v":1097.73},903.29,1539.06,1638.43,1729.63,{"$f":"946.05+823.69","v":1769.74},null,359.32,"houston","houston","houston","Houston","Houston","Houston","Houston","Houston","Houston","Houston","Houston","Houston","Houston","Houston","Houston","Houston","Houston","Houston","n/a","n/a"]
["C/B","MAT-SU","BUTTE",null,358.72,380,384.2,388.9,398.05,357.8,350.7,319.85000000000002,"palmer","palmer","palmer","palmer","palmer","palmer","palmer","palmer","palmer","palmer","palmer","Palmer","Palmer","Palmer","Palmer","Palmer","Palmer","Palmer","Palmer","Palmer","Palmer","Palmer","Palmer","Palmer","Palmer","Palmer","n/a","n/a"]
["C/B","MAT-SU","COLONY",2451.58,2643.22,2979,3313.2,4025.3,3454.65,3852,{"$f":"1900.28+2054.5","v":3954.7799999999997},{"$f":"1065.45+280.45+578.1+433.55+417.05+513.45","v":3288.05},3187.32,3260.34,2842.55,2856.35,2771.67,{"$f":"1443.53+1491.62","v":2935.1499999999996},3147.28,3208.25,3164.6,3175.05,3008.28,2884.69,2842.27,2813.16,2893.07,2904.7,3085.73,3169.93,3154.8100000000004,3116.1799999999994,3153.64,2675.88,3130.25,3187.7700000000004,3141.06,3071.81,-2.2046697611634289E-2,-6.2627865452330369E-4]
["C/B","MAT-SU","GLACIER VIEW",39.5,42,41,48,54.2,54.25,61.85,69,54,55,48.8,36.85,38.68,50.4,60.5,49.5,49,44,42.7,36.1,42.6,38,43,38.6,28,31,32.25,33,40,53,36.4,34,34.950000000000003,30.25,24,-0.20661157024793389,-1.6489100783934035E-2]
["C/B","MAT-SU","HOUSTON",1120,524.15,554,585.1,567.70000000000005,570.9,521.25,546.1,565.69000000000005,"big lake","big lake","big lake","big lake","big lake","big lake",1696.69,1703.07,1852.2,1893.07,1877.63,1706.71,1768.11,1702.02,1721.65,1757.8,1713.8,1664.69,1655.68,1656.2799999999997,1495.65,1271.0999999999999,1410.5700000000002,1454.9,1428.72,1392.35,-2.5456352539335991E-2,-1.9308457574585301E-2]
["C/B","MAT-SU","SUSITNA VALLEY",{"$f":"227.3+D244+D245+D247","v":227.3},{"$f":"112.25+E244+E245+E247","v":382.48},{"$f":"124+F244+F245+F247","v":451},{"$f":"142.6+G244+G245+G247","v":473},{"$f":"193.1+H244+H245+H247","v":580.29999999999995},{"$f":"200.4+I244+I245+I247","v":611.80000000000007},{"$f":"226.95+J244+J245+J247","v":622.15},{"$f":"241.1+K244+K245+K247","v":629.38},{"$f":"231.88+L244+L245+L247","v":616.61},566.83000000000004,536.59,331.78,329.65,339.9,{"$f":"136.8+181.6","v":318.39999999999998},314.2,313.2,292.89999999999998,297.39999999999998,277.39999999999998,324.2,300.8,275.35000000000002,285.35000000000002,296.60000000000002,315.5,324.89999999999998,308.60000000000002,333.7,319.95000000000005,252.4,310.8,333.55,366.85,358.83,-2.1861796374540107E-2,2.0173079771552922E-2]
["C/B","MAT-SU","PALMER",{"$f":"2592.7+D235+D243","v":2592.6999999999998},{"$f":"2446.35+E235+E243","v":2873.0699999999997},{"$f":"2511+F235+F243","v":2970},{"$f":"2576.2+G235+G243","v":3037.4999999999995},{"$f":"2238+H235+H243","v":2718},{"$f":"2346.48+I235+I243","v":2846.53},{"$f":"2470+J235+J243","v":2931.25},{"$f":"1155.13+1453.9+K235+K243","v":3070.08},{"$f":"408.98+465.1+248.45+525.6+979.55+L235+L243","v":3029.8300000000004},2982.01,3444.1,3044.26,3076.63,3068.68,{"$f":"1573.75+1629.05","v":3202.8},3304.06,3270.7,3216.11,3181.46,3379.12,3380.94,3552.25,3228.3,3258.94,3241.06,3285.42,3292.19,3243.52,3220.94,3619.18,2818.6099999999997,3383.5099999999998,3445.0699999999997,3339.26,3211.4,-3.8289920521313144E-2,3.787815622501532E-3]
["C/B","MAT-SU","PT. MCKENZIE/GOOSE BAY",null,null,344,376.5,457.6,465.75,427.45,433.95,474.85,"wasilla","wasilla","wasilla","wasilla","wasilla","wasilla","wasilla","wasilla","wasilla","wasilla","wasilla","Wasilla","Wasilla","Wasilla","Wasilla","Wasilla","Wasilla","Wasilla","Wasilla","Wasilla","Wasilla","Wasilla","Wasilla","Wasilla","Wasilla","Wasilla","n/a","n/a"]
["C/B","MAT-SU","SKWENTNA",13,11,15,17,18,22,16,22,15,14,0,0,"closed","closed","closed","closed","closed","closed","closed","closed","closed","closed","closed","closed","closed","closed","closed","closed","closed","closed","closed","closed","closed","closed","closed","n/a","n/a"]
["C/B","MAT-SU","SUTTON",null,68,79,77.099999999999994,91.1,102,103.45,110.35,82.3,"palmer","palmer","palmer","palmer","palmer","palmer","palmer","palmer","palmer","palmer","palmer","Palmer","Palmer","Palmer","Palmer","Palmer","Palmer","Palmer","Palmer","Palmer","Palmer","Palmer","Palmer","Palmer","Palmer","Palmer","n/a","n/a"]
["C/B","MAT-SU","TALKEETNA",null,102.25,117,114.4,131.69999999999999,150.19999999999999,129.19999999999999,127.48,116.55,"su-valley","su-valley","su-valley","su-valley","su-valley","su-valley","su-valley","su-valley","su-valley","su-valley","su-valley","Su-Valley","Su-Valley","Su-Valley","Su-Valley","Su-Valley","Su-Valley","Su-Valley","Su-Valley","Su-Valley","Su-Valley","Su-Valley","Su-Valley","Su-Valley","Su-Valley","Su-Valley","n/a","n/a"]
["C/B","MAT-SU","TRAPPER CREEK",null,42.5,55,50.6,57.7,53.8,48.7,44.1,46.33,"su-valley","su-valley","su-valley","su-valley","su-valley","su-valley","su-valley","su-valley","su-valley","su-valley","su-valley","Su-Valley","Su-Valley","Su-Valley","Su-Valley","Su-Valley","Su-Valley","Su-Valley","Su-Valley","Su-Valley","Su-Valley","Su-Valley","Su-Valley","Su-Valley","Su-Valley","Su-Valley","n/a","n/a"]
["C/B","MAT-SU","WASILLA",3015.7,3098.93,{"$f":"2757+F241","v":3101},{"$f":"2836.1+G241","v":3212.6},{"$f":"2837.1+H241","v":3294.7},{"$f":"3362.9+I241","v":3828.65},{"$f":"3216.58+J241","v":3644.0299999999997},{"$f":"1680.6+1731.95+K241","v":3846.5},{"$f":"521.1+415.35+427.23+914.25+1022.5+207.9+L241","v":3983.1800000000003},3979.19,3907.07,4679.09,4774.75,5045.1099999999997,{"$f":"2886.1+2373.84","v":5259.9400000000005},5294.9,5793.25,6045.22,6012.69,6162.87,6277.84,6266.02,6445.91,6475.4,6480.93,6949.14,7006.82,7066.17,7128.26,7133.23,6189.13,6892.77,6891.09,6715.62,6387.19,-4.8905387737841075E-2,-9.4150866637257996E-3]
["C/B","MAT-SU","WILLOW",null,125.48,155,165.4,197.8,207.4,217.3,216.7,221.85,"su-valleZ","su-valleZ","su-valleZ","su-valleZ","su-valleZ","su-valleZ","su-valleZ","Houston","houston","houston","houston","Houston","Houston","Houston","Houston","Houston","Houston","Houston","Houston","Houston","Houston","Houston","Houston","Houston","Houston","Houston","n/a","n/a"]
["C/B","MAT-SU","TOTAL",{"$f":"SUM(D233:D247)","v":9459.7799999999988},{"$f":"SUM(E233:E247)","v":11362.429999999998},12361,13090,13786.500000000004,13985.38,14157.280000000002,14606.770000000002,13918.78,11897.08,12119.44,12473.59,12732.49,13023.39,13563.63,13818.98,14712.79,14631.18,14621.369999999999,14762.599999999999,14635.88,14787.45,14529.740000000002,14690.01,14728.24,15402.59,15518.779999999999,15480.78,{"$f":"SUM(AF233:AF247)","v":15523.359999999999},15802.65,13259.52,15191.9,15371.080000000002,15053.009999999998,{"$f":"SUM(AL233:AL247)","v":14484.579999999998},-3.7761882839378993E-2,-5.4452565203197993E-3]
["C/B","NENANA","NENANA",195.8,191.5,196.85,184.95,162.91,161,173.45,220,144,135,144.75,186.5,203.5,207.1,200.25,224.55,215.05,215.5,202.3,199.75,201.95,196.05,204.8,201.7,176.5,178.08,171.75,181.4,186.2,194.15,115,163.44999999999999,187.1,183.7,190.25,3.5655960805661469E-2,3.7643687408399067E-2]
["C/B","NENANA","TOTAL",{"$f":"SUM(D249)","v":195.8},{"$f":"SUM(E249)","v":191.5},196.85,184.95,162.91,161,173.45,220,144,135,144.75,186.5,203.5,207.1,200.25,224.55,215.05,215.5,202.3,199.75,201.95,196.05,204.8,201.7,176.5,178.08,171.75,181.4,{"$f":"SUM(AF249)","v":186.2},194.15,115,163.44999999999999,187.1,183.7,190.25,3.5655960805661469E-2,3.7643687408399067E-2]
["C/B","NOME","NOME",777.95,776,721.15,711.75,701.75,719.7,776.55,{"$f":"459.5+336.7","v":796.2},{"$f":"476.9+299.35+18.5+21.15","v":815.9},758.2,{"$f":"14.2+23.85+292.5+431.2","v":761.75},732.7,726.1,{"$f":"705.1","v":705.1},767.4,749.85,744.55,701.47,651.21,643.04999999999995,653.75,659.75,680.65,682.15,685.6,702.95,670.5,674.25,678.1,698.09999999999991,624.4,665.6,693.6,670.11,626.48,-6.5108713494799353E-2,-6.9625058896411584E-3]
["C/B","NOME","TOTAL",{"$f":"SUM(D251)","v":777.95},{"$f":"SUM(E251)","v":776},721.15,711.75,701.75,719.7,776.55,796.2,815.9,758.2,761.75,732.7,726.1,705.1,767.4,749.85,744.55,701.47,651.21,643.04999999999995,653.75,659.75,680.65,682.15,685.6,702.95,670.5,674.25,{"$f":"SUM(AF251)","v":678.1},698.09999999999991,624.4,665.6,693.6,670.11,626.48,-6.5108713494799353E-2,-6.9625058896411584E-3]
["C/B","NORTH SLOPE","ANAKTUVUK PASS",70.349999999999994,84,84.15,79.75,84.5,91.5,96,81.25,85.3,73,91.35,90.1,83.95,67.75,75,83,79.099999999999994,71.25,76.599999999999994,76.5,71.7,77.25,83.6,88,80.900000000000006,81.599999999999994,97.1,83.699999999999989,89.3,85,89.3,80.349999999999994,87.05,90.75,98.35,8.3746556473829142E-2,5.0939481492101348E-3]
["C/B","NORTH SLOPE","ATQASUK",46.85,42,46.25,44.75,46.95,53.6,58.38,66,79.400000000000006,72,73.5,74.7,84.75,77.45,82.75,89.95,81.3,87.75,70.55,69.400000000000006,65.75,66.75,61,64.56,67.400000000000006,66.400000000000006,74.3,67.2,72.75,75.45,72.75,65,75.95,77,79,2.5974025974025976E-2,1.126126158482294E-2]
["C/B","NORTH SLOPE","UTQIAGVIK",732.7,798.8,821.5,902.25,979.15,1025.8,1111.75,{"$f":"734.9+419.75","v":1154.6500000000001},{"$f":"603.5+97.1+188.5+264.2","v":1153.3},{"$f":"298+282+565.8","v":1145.8},{"$f":"327+266.6+606.65","v":1200.25},{"$f":"326.5+263.5+552.9","v":1142.9000000000001},{"$f":"315.56+285+520.12","v":1120.6799999999998},{"$f":"270.95+459.85+300.25","v":1031.05},{"$f":"304.7+235.65+405.3","v":945.65000000000009},939.2,{"$f":"257.9+193.75+423.7+46.25","v":921.59999999999991},882.15,903.55,908.37,961.4,930.25,973,1017.89,1019.96,1035.95,1071.1600000000001,1037.31,1092.03,1125.75,1092.03,1031.9000000000001,1022.5,963.5,920.7,-4.4421380384016558E-2,-1.8027451108778528E-2]
["C/B","NORTH SLOPE","KAKTOVIK",35.75,43.5,41,43.2,48,55.95,60,64.75,71.8,77,83.2,82.9,79.05,76.150000000000006,68,65,60.5,56.6,49.1,51,52.7,49.9,52.5,52,55.55,49.65,51.3,57.6,51.05,53.4,51.05,63.3,58.65,51.53,58,0.12555792742091984,2.2722307481466524E-2]
["C/B","NORTH SLOPE","NUIQSUT",91.5,99.5,107,108,112.75,114.4,128.05000000000001,139,151.19999999999999,152.1,155.85,151.08000000000001,137.30000000000001,133.25,120.2,120.15,94.25,89.75,87.3,68.2,75.400000000000006,84.7,78.95,92.45,88.2,102.55,124.55,138.19999999999999,146.15,125.8,146.15,130.25,143.55000000000001,146.94999999999999,135.35,-7.8938414426675707E-2,1.5963720744502689E-2]
["C/B","NORTH SLOPE","POINT HOPE",206.35,199.65,207.15,217.3,217.5,247.75,239,246.6,258.10000000000002,240,244.55,238,243.77,216.4,212.9,221.45,196.3,187.2,191.3,169.45,185.75,184.8,192,203.55,203.75,212.1,228.8,227.5,230.8,228.4,230.8,241.5,241.45000000000002,239.6,213.85,-0.10747078464106845,-7.5058046030445982E-3]
["C/B","NORTH SLOPE","POINT LAY",31.45,36.549999999999997,36.33,48.55,52,54,69.62,67.7,72,79,91.5,89.2,80.900000000000006,67.150000000000006,60,60.8,60.55,67.55,62.75,62.6,69.45,78,72.849999999999994,75.849999999999994,75.75,72.5,86.85,93.3,93.25,98,93.25,89,71.95,79.05,70,-0.11448450347881085,-2.2094410733643637E-2]
["C/B","NORTH SLOPE","WAINWRIGHT",144.44999999999999,158.44999999999999,164.71,179.25,161.25,162.9,174,163,172.8,170,154,151.9,139.85,141.25,126.65,146.6,129.4,129.85,139.55000000000001,132.08000000000001,130.15,127.45,133.5,136.44999999999999,147.05000000000001,155.65,148.65,147.25,156.85,161.10000000000002,156.85,162,159.69999999999999,148.05000000000001,127,-0.14218169537318481,-1.7500327073444767E-2]
["C/B","NORTH SLOPE","TOTAL",{"$f":"SUM(D253:D260)","v":1359.4},{"$f":"SUM(E253:E260)","v":1462.45},1508.0900000000001,1623.05,1702.1,1805.9,1936.8000000000002,1982.95,2043.8999999999999,2008.8999999999999,2094.1999999999998,2020.7800000000002,1970.2499999999998,1810.4500000000003,1691.1500000000003,1726.15,1623,1572.1,1580.6999999999996,1537.6,1612.3000000000002,1599.1000000000001,1647.3999999999999,1730.75,1738.56,1776.4,1882.7099999999998,1852.06,{"$f":"SUM(AF253:AF260)","v":1932.1799999999998},1952.9,1932.1799999999998,1863.3,1860.8000000000002,1796.4299999999998,1702.2499999999998,{"$f":"IFERROR((AL261-AK261)/AK261,\"n/a\")","v":-5.2426200853915861E-2},{"$f":"IFERROR(((AL261-AK261)/AK261+(AK261-AJ261)/AJ261+(AJ261-AI261)/AI261+(AI261-AH261)/AH261+(AH261-AG261)/AG261+(AG261-AF261)/AF261+(AF261-AE261)/AE261+(AE261-AD261)/AD261)/8,\"n/a\")","v":-1.2114427234151145E-2}]
["C/B","NORTHWEST ARCTIC","AMBLER",94.45,99.95,95.2,107.35,101,105.7,112.6,110.45,107.75,93.2,98.25,88.85,88.85,81.150000000000006,80.8,78.599999999999994,80.2,66.2,58.25,58.35,64,62.4,66.400000000000006,70.45,66.349999999999994,77.55,70.150000000000006,64.75,71.25,68.349999999999994,67,59.25,56.6,60.9,53.85,-0.11576354679802951,-2.9654254275343104E-2]
["C/B","NORTHWEST ARCTIC","BUCKLAND",107.25,109.9,114.2,118.5,118,124.3,133.94999999999999,143.75,142.5,150,166.05,166,170,157.6,169.65,166.45,175.3,176,156.69999999999999,151.65,152.44999999999999,152.9,155.80000000000001,153.5,159.75,167.25,169.82,186.1,175.3,165.35,172.35,182.14999999999998,187.7,195,216.25,0.10897435897435898,3.2325517161239617E-2]
["C/B","NORTHWEST ARCTIC","DEERING",49.25,42,49.05,42.4,44.9,41.4,47.05,44.35,44,43,41.15,42,43.6,51.05,49,51.95,43.55,39,29,30.2,24.75,31.75,35,42.73,42.95,38.799999999999997,38.35,40.25,32.799999999999997,48.25,48.75,48.65,51,51.15,50,-2.2482893450635359E-2,4.6570125420917451E-2]
["C/B","NORTHWEST ARCTIC","KIANA",129.65,126.7,127.6,132.9,131.55000000000001,116.05,140.69999999999999,123.3,121.6,137.9,137.30000000000001,130,118.1,109.3,100.25,122.95,104.7,103.4,102.4,106.05,107.7,113.05,105.55,114.05,120.75,119.3,114.5,126.38,119.9,117.75,116,104.2,98.85,102.95,85.05,-0.17387081107333663,-3.3221702049141336E-2]
["C/B","NORTHWEST ARCTIC","KIVALINA",95.5,102.9,110,111.65,104.35,110.25,108,121.95,116.6,122.5,118.75,135.85,126.45,110.45,116.35,121.75,108.1,107,107.15,114,114,124.3,119,131.25,128.75,135.75,129.75,143.75,143.65,158.44999999999999,158.24,164.38,154.69999999999999,155.4,147.30000000000001,-5.2123552123552082E-2,1.7652777706558771E-2]
["C/B","NORTHWEST ARCTIC","KOBUK",26,18.5,20.75,18.149999999999999,21,22,26.35,27.4,27.25,35,33,35.5,42,38.450000000000003,41,34,42.9,33,35,39.200000000000003,37.4,36.700000000000003,41.5,45.2,44.5,41.35,45.9,39.799999999999997,43.6,49.11,48,30.85,34,29.1,39,0.34020618556701027,9.0718124571167319E-4]
["C/B","NORTHWEST ARCTIC","KOTZEBUE",619.95000000000005,647.6,693.7,717,723.65,746.8,782.55,{"$f":"557.95+272.65","v":830.6},{"$f":"589.65+233.95","v":823.59999999999991},{"$f":"453.75+369.1","v":822.85},{"$f":"482+367.8","v":849.8},{"$f":"390.35+441.05","v":831.40000000000009},{"$f":"402.3+421.35","v":823.65000000000009},{"$f":"351.9+441.85","v":793.75},767.65,743.75,{"$f":"338.2+387.65","v":725.84999999999991},723.6,708.15,689.6,636.08000000000004,636,653.25,634.65,655.9,693.24,684.35,672.3,684,647.65,642.90000000000009,578.35,581.29999999999995,601.04999999999995,557.1,-7.3122036436236479E-2,-2.4391581443436523E-2]
["C/B","NORTHWEST ARCTIC","NOATAK",90,92.3,97,108.75,118.7,116.05,126.6,131.85,133.55000000000001,132.30000000000001,{"$f":"153.25","v":153.25},158.05000000000001,161.35,154.69999999999999,170.3,156.9,161.80000000000001,156.55000000000001,147.4,142,145.5,158.15,171.1,174.35,170.95,176.15,176.75,179.5,161.1,155.1,144.69999999999999,145.94999999999999,157.15,152.6,156.44999999999999,2.5229357798165101E-2,-1.3699053340797343E-2]
["C/B","NORTHWEST ARCTIC","NOORVIK",158.85,152.6,175,177.1,209.75,213.35,214.75,216.2,234.6,242.1,231.25,217.6,228,198.35,193.2,205.7,208.3,204.2,192.95,188.25,194.1,174.05,172.9,169.43,180.25,182.06,181.77,185.14,190.11,200.75,196.99,198.57,199.14999999999998,196.7,197.45,3.8129130655821051E-3,1.0634315232025425E-2]
["C/B","NORTHWEST ARCTIC","SELAWIK",162.44999999999999,177,194.3,204.95,224.9,215.15,232.55,236.7,248.05,269.3,265.89999999999998,268,264.85000000000002,256.8,241.1,263.55,254.65,255.8,246.55,242.45,239.15,238.4,243.6,264.7,273.92,270.3,248.9,245.25,244.98,248.7,264.26,224.2,239.85000000000002,256.95,238.3,-7.2582214438606643E-2,-2.6365281474847527E-3]
["C/B","NORTHWEST ARCTIC","SHUNGNAK",48.75,60,60,65.5,75,81,75,79,78.75,93.45,93.45,77.150000000000006,75.05,69.150000000000006,69.5,73.25,70.8,79.5,73.75,69,60.95,75.650000000000006,75.8,84.25,85.75,87.05,82.85,67.650000000000006,56.75,64.599999999999994,70.400000000000006,75.25,81.900000000000006,67.2,67,-2.9761904761905185E-3,-1.7709684963819174E-2]
["C/B","NORTHWEST ARCTIC","TOTAL",{"$f":"SUM(D262:D272)","v":1582.1000000000001},{"$f":"SUM(E262:E272)","v":1629.45},1736.8,1804.2499999999998,1872.8,1892.05,2000.0999999999997,2065.5500000000002,2078.25,2141.6,2188.1499999999996,2150.4,2141.9,2020.75,1998.7999999999997,2018.8500000000001,1976.1499999999999,1944.25,1857.3000000000002,1830.75,1776.0800000000002,1803.3500000000001,1839.8999999999999,1884.56,1929.82,1988.8000000000002,1943.09,1950.87,{"$f":"SUM(AF262:AF272)","v":1923.44},1924.0599999999997,1929.5900000000004,1811.8,1842.1999999999998,1869,1807.7500000000002,-3.2771535580524223E-2,-8.6686082748511448E-3]
["C/B","PELICAN","PELICAN",48.2,45.9,46.5,45,44.85,38.25,31.75,33,29.8,33.65,23,18.649999999999999,18,15,11.2,13.6,14.95,16,14.55,12.9,12,18,14.75,11.2,11.35,12.55,10,8.65,12,16,11,16,12,15,12,-0.2,6.5957753109125938E-2]
["C/B","PELICAN","TOTAL",{"$f":"SUM(D274)","v":48.2},{"$f":"SUM(E274)","v":45.9},46.5,45,44.85,38.25,31.75,33,29.8,33.65,23,18.649999999999999,18,15,11.2,13.6,14.95,16,14.55,12.9,12,18,14.75,11.2,11.35,12.55,10,8.65,{"$f":"SUM(AF274)","v":12},16,11,16,12,15,12,-0.2,6.5957753109125938E-2]
["C/B","PETERSBURG","PETERSBURG",681.2,702.35,706.4,711.1,758.75,753.55,763.05,{"$f":"423+345.6","v":768.6},{"$f":"338.05+232+182","v":752.05},699.1,678.3,652.83000000000004,625.85,657.45,629.6,591.45000000000005,588.54999999999995,559.6,517.16999999999996,510.6,485.83,426.65,451.22,430.25,431.85,460.51,472.36,465.4,460.93,467.55,425.99,426.1,429.35,468.6,456.8,-2.5181391378574499E-2,-3.0930475200291324E-3]
["C/B","PETERSBURG","TOTAL",{"$f":"SUM(D276)","v":681.2},{"$f":"SUM(E276)","v":702.35},706.4,711.1,758.75,753.55,763.05,768.6,752.05,699.1,678.3,652.83000000000004,625.85,657.45,629.6,591.45000000000005,588.54999999999995,559.6,517.16999999999996,510.6,485.83,426.65,451.22,430.25,431.85,460.51,472.36,465.4,{"$f":"SUM(AF276)","v":460.93},467.55,425.99,426.1,429.35,468.6,456.8,-2.5181391378574499E-2,-3.0930475200291324E-3]
["REAA","PRIBILOF","ST. GEORGE",30,34,42.5,43,42,46.3,57.25,47,33.25,39,30.5,27.45,23.7,18.75,23.3,23,23,19.600000000000001,16.899999999999999,17,11,10.25,10,10.050000000000001,10,10,6,"closed","closed","closed","closed","closed","closed","closed","closed","n/a","n/a"]
["REAA","PRIBILOF","ST. PAUL",113.1,118.9,116,117.8,126.65,151.05000000000001,139.94999999999999,140,124.15,119.25,113,109.2,111.8,105.5,103.95,91.75,100,92,92.75,80.599999999999994,75.849999999999994,71.25,79,71.25,72.099999999999994,61.1,53,52,59.2,58.15,52,48.95,43.65,48.35,55.6,0.14994829369183041,1.0848943528645615E-2]
["REAA","PRIBILOF","TOTAL",{"$f":"SUM(D278:D279)","v":143.1},{"$f":"SUM(E278:E279)","v":152.9},158.5,160.80000000000001,168.65,197.35000000000002,197.2,187,157.4,158.25,143.5,136.65,135.5,124.25,127.25,114.75,123,111.6,109.65,97.6,86.85,81.5,89,81.3,82.1,71.099999999999994,59,52,{"$f":"SUM(AF278:AF279)","v":59.2},58.15,52,48.95,43.65,48.35,55.6,0.14994829369183041,-1.6230743798929213E-3]
["C/B","SITKA","CORNER BAY",null,null,13,11.2,13.6,14,"closed","closed","closed","closed","closed","closed","closed","closed","closed","closed","closed","closed","closed","closed","closed","closed","closed","closed","closed","closed","closed","closed","closed","closed","closed","closed","closed","closed","closed","n/a","n/a"]
["C/B","SITKA","FALSE PASS",null,null,14,25.1,10.7,"closed","closed","closed","closed","closed","closed","closed","closed","closed","closed","closed","closed","closed","closed","closed","closed","closed","closed","closed","closed","closed","closed","closed","closed","closed","closed","closed","closed","closed","closed","n/a","n/a"]
["C/B","SITKA","SITKA",1723.59,1786.77,1831.38,1837.08,1814.38,1790.87,1769.6,{"$f":"922.81+822.47","v":1745.28},{"$f":"242.8+479.05+141.25+257.05+466.49+55","v":1641.64},1677.61,1540.43,1528.36,1508.8,1443.48,1442.67,1449.98,1417.77,1343.15,1278.31,1287.0999999999999,1262.78,1280.6199999999999,1276.29,1303.44,1277.27,1281.1500000000001,1244.1099999999999,1238.22,1189.42,1183.6300000000001,1065.8800000000001,1082.0999999999999,1076.1500000000001,1053.45,979.98,-6.974227538089138E-2,-2.8701603187666309E-2]
["C/B","SITKA","TOTAL",{"$f":"SUM(D281:D283)","v":1723.59},{"$f":"SUM(E281:E283)","v":1786.77},1858.38,1873.3799999999999,1838.68,1804.87,1769.6,1745.28,1641.64,1677.61,1540.43,1528.36,1508.8,1443.48,1442.67,1449.98,1417.77,1343.15,1278.31,1287.0999999999999,1262.78,1280.6199999999999,1276.29,1303.44,1277.27,1281.1500000000001,1244.1099999999999,1238.22,{"$f":"SUM(AF281:AF283)","v":1189.42},1183.6300000000001,1065.8800000000001,1082.0999999999999,1076.1500000000001,1053.45,979.98,-6.974227538089138E-2,-2.8701603187666309E-2]
["C/B","SKAGWAY","SKAGWAY",144.75,145,153,143,127.2,131.30000000000001,136.66,131.6,124.6,128.80000000000001,135.75,120.2,109.67,105.83,108.75,109.25,99.5,105.9,94.55,89.85,78.400000000000006,58.71,64.05,84.3,84,100.85,113.05,114.35,121.55,119.45,131,125.35,147.69999999999999,137.44999999999999,133,-3.2375409239723457E-2,2.3409800710365278E-2]
["C/B","SKAGWAY","TOTAL",{"$f":"SUM(D285)","v":144.75},{"$f":"SUM(E285)","v":145},153,143,127.2,131.30000000000001,136.66,131.6,124.6,128.80000000000001,135.75,120.2,109.67,105.83,108.75,109.25,99.5,105.9,94.55,89.85,78.400000000000006,58.71,64.05,84.3,84,100.85,113.05,114.35,{"$f":"SUM(AF285)","v":121.55},119.45,131,125.35,147.69999999999999,137.44999999999999,133,-3.2375409239723457E-2,2.3409800710365278E-2]
["REAA","SOUTHEAST ISLAND","BRUCE HILL",7,8,6,7,"closed","closed","closed","closed","closed","closed","closed","closed","closed","closed","closed","closed","closed","closed","closed","closed","closed","closed","closed","closed","closed","closed","closed","closed","closed","closed","closed","closed","closed","closed","closed","n/a","n/a"]
["REAA","SOUTHEAST ISLAND","CRAIK",16,13,14,17,15.1,9,4,4,7,"closed","closed","closed","closed","closed","closed","closed","closed","closed","closed","closed","closed","closed","closed","closed","closed","closed","closed","closed","closed","closed","closed","closed","closed","closed","closed","n/a","n/a"]
["REAA","SOUTHEAST ISLAND","EDNA BAY",17.5,17,18,14,18.7,17.899999999999999,12.5,7.15,10.08,7,"closed","closed","closed","closed","closed","closed","closed","closed",10,"closed",10,10,11,8.4,"closed","closed","closed","closed","closed","closed","closed","closed","closed","closed","closed","n/a","n/a"]
["REAA","SOUTHEAST ISLAND","FIRE COVE","closed","closed","closed","closed","closed","closed","closed","closed","closed","closed","closed","closed","closed","closed","closed","closed","closed","closed","closed","closed","closed","closed","closed","closed","closed","closed","closed","closed","closed","closed","closed","closed","closed","closed","closed","n/a","n/a"]
["REAA","SOUTHEAST ISLAND","HOBART BAY",38,null,null,null,null,"closed","closed","closed","closed","closed","closed","closed","closed","closed","closed","closed","closed","closed","closed","closed","closed","closed","closed","closed","closed","closed","closed","closed","closed","closed","closed","closed","closed","closed","closed","n/a","n/a"]
["REAA","SOUTHEAST ISLAND","HOLLIS",13.25,16,22,21.2,22.65,22,33,27,21,28.8,14,19.75,10,16.25,14.35,10,13,12.55,10,13,11.4,10,10,13.25,16.149999999999999,20,23.5,21.5,21.52,20,16.600000000000001,17,18,13.45,12,-0.10780669144981408,-7.530908436930818E-2]
["REAA","SOUTHEAST ISLAND","HYDER",null,null,null,null,null,null,null,null,null,null,12,18,10,10.050000000000001,13.25,23.5,18,12.25,10,"closed","closed","closed","closed","closed",10,10.6,12,11,13,11.5,"closed","closed","closed","closed","closed","n/a","n/a"]
["REAA","SOUTHEAST ISLAND","COFFMAN COVE",44,46.25,40.75,42.7,44.3,37.75,42,30.3,34,33.85,30.15,25,31,31.99,21,21,18.399999999999999,10.4,10.95,15,11.25,12.2,14,24.5,24.85,13,17.399999999999999,13.25,13.5,15.35,10.7,10.45,14,15,19.399999999999999,0.29333333333333322,3.6947244473572532E-2]
["REAA","SOUTHEAST ISLAND","JOHN GREEN","closed","closed","closed","closed","closed","closed","closed","closed","closed","closed","closed","closed","closed","closed","closed","closed","closed","closed","closed","closed","closed","closed","closed","closed","closed","closed","closed","closed","closed","closed","closed","closed","closed","closed","closed","n/a","n/a"]
["REAA","SOUTHEAST ISLAND","JR GILDERSLEEVE",24,17,19,14.45,15,14.3,10.5,14,11,11,"closed","closed","closed","closed","closed","closed","closed","closed","closed","closed","closed","closed","closed","closed","closed","closed","closed","closed","closed","closed","closed","closed","closed","closed","closed","n/a","n/a"]
["REAA","SOUTHEAST ISLAND","KASAAN",9,14,6.45,3,null,null,8,8,7,13,11,14,12,11,10,11,10,11.65,10,10.25,14,11,10,10,12,11.25,12,12,10.75,12,17.100000000000001,13,11.72,20.25,17.600000000000001,-0.13086419753086412,8.6979535611966349E-2]
["REAA","SOUTHEAST ISLAND","LABOUCHERE BAY",33,28,22,17,"closed","closed","closed","closed","closed","closed","closed","closed","closed","closed","closed","closed","closed","closed","closed","closed","closed","closed","closed","closed","closed","closed","closed","closed","closed","closed","closed","closed","closed","closed","closed","n/a","n/a"]
["REAA","SOUTHEAST ISLAND","LONG ISLAND",24,"closed","closed","closed","closed","closed","closed","closed","closed","closed","closed","closed","closed","closed","closed","closed","closed","closed","closed","closed","closed","closed","closed","closed","closed","closed","closed","closed","closed","closed","closed","closed","closed","closed","closed","n/a","n/a"]
["REAA","SOUTHEAST ISLAND","MEZERS CHUCK",4,7,5,8,5,5,null,0,"closed","closed","closed","closed","closed","closed","closed","closed","closed","closed","closed","closed","closed","closed","closed","closed","closed","closed","closed","closed","closed","closed","closed","closed","closed","closed","closed","n/a","n/a"]
["REAA","SOUTHEAST ISLAND","NAUKATI",20,20.399999999999999,32.4,35.15,41.3,38,42.2,38,36.299999999999997,38.5,35.75,34.85,28,17,22,20,21,19.45,10.050000000000001,15,20,14.2,18.5,23.6,19.3,16,21.5,15.9,18.75,15.899999999999999,11.85,13.5,16,20,14,-0.3,-2.668889035974728E-2]
["REAA","SOUTHEAST ISLAND","POLK INLET",9.6,8,10,11,11.3,15,12.3,9,7,"closed","closed","closed","closed","closed","closed","closed","closed","closed","closed","closed","closed","closed","closed","closed","closed","closed","closed","closed","closed","closed","closed","closed","closed","closed","closed","n/a","n/a"]
["REAA","SOUTHEAST ISLAND","PORT ALEXANDER",23.5,28.1,22.8,22.65,27.6,23.6,20.95,11,20,21,17.899999999999999,12,12,12.61,20,13,12,12,11,10,10,10,13,10.45,10.199999999999999,11,11,10,17,13.6,9,10.35,12,19.8,11,-0.44444444444444448,7.322893254798625E-2]
["REAA","SOUTHEAST ISLAND","PORT PROTECTION",9,9,12,13.25,17.399999999999999,12.85,20.05,18,25,22,26.3,23,24,15.08,14,12,10,10,10,10,10,11,10,11,11,12.75,"closed","closed","closed","closed","closed","closed","closed","closed","closed","n/a","n/a"]
["REAA","SOUTHEAST ISLAND","ROWEN BAY",16.3,14.9,8.3000000000000007,12,"closed","closed","closed","closed","closed","closed","closed","closed","closed","closed","closed","closed","closed","closed","closed","closed","closed","closed","closed","closed","closed","closed","closed","closed","closed","closed","closed","closed","closed","closed","closed","n/a","n/a"]
["REAA","SOUTHEAST ISLAND","SMITH COVE",14,10,7.65,5,"closed","closed","closed","closed","closed","closed","closed","closed","closed","closed","closed","closed","closed","closed","closed","closed","closed","closed","closed","closed","closed","closed","closed","closed","closed","closed","closed","closed","closed","closed","closed","n/a","n/a"]
["REAA","SOUTHEAST ISLAND","THORNE BAY",183.85,144.15,153.65,151.35,150.6,145.44999999999999,110.05,101.55,110.4,104.4,92.95,78,76.5,85.25,82.3,90.4,82.5,61.5,80.5,62.6,71.2,75.2,93.38,86.25,74.930000000000007,71.12,68.75,76.55,75.5,59.58,61.5,58.8,50.5,53.5,66.400000000000006,0.24112149532710292,4.5714008150470609E-3]
["REAA","SOUTHEAST ISLAND","WHALE PASS",15.6,15,18,19,13,9,10,9,0,"closed","closed","closed",0,11,10.4,"closed","closed","closed",9.9499999999999993,"closed","closed",10,10,11.2,11.45,10,16,18,17.600000000000001,17,18.5,16,16,11,9,-0.18181818181818182,-5.906639426860015E-2]
["REAA","SOUTHEAST ISLAND","TOTAL",{"$f":"SUM(D287:D308)","v":521.6},{"$f":"SUM(E287:E308)","v":415.79999999999995},418,413.75,381.95000000000005,349.84999999999997,325.55,277,288.77999999999997,279.55,240.05,224.6,203.5,210.23,207.29999999999998,200.9,184.9,149.80000000000001,172.45,135.85,157.85000000000002,163.60000000000002,189.88,198.64999999999998,189.88,175.72,182.15,178.2,{"$f":"SUM(AF287:AF308)","v":187.61999999999998},164.93,145.25,139.1,138.22,153,149.4,-2.3529411764705844E-2,-2.1793545334493375E-2]
["REAA","SOUTHWEST REGION","ALEKNAGIK",33,39.450000000000003,33,38.5,25.45,26.95,49.85,42.8,44.95,37.200000000000003,43.2,36.1,32.450000000000003,35,35,38,38,39,33.4,33,30.35,33,27.7,24,26.05,27,25.3,24,23.1,30.1,28.5,25,28.8,21.9,25.1,0.14611872146118735,1.2089891028176147E-2]
["REAA","SOUTHWEST REGION","CLARKS POINT",10,14.4,8.25,12.75,15,13,12,14,15,18.75,17,17,17,13.9,19,14,11,12,11,12.3,13,10,"closed","closed","closed","closed","closed",14,15,13,15,15.45,10.25,11,12,9.0909090909090912E-2,"n/a"]
["REAA","SOUTHWEST REGION","EKWOK",12,19.45,21.2,23.85,28,28,38,32,35,37.65,37.159999999999997,30.8,26.45,21.6,31,25,22.3,24.55,22.35,12.6,14.95,10,12,11,14.6,15.75,16.25,14.25,16.119999999999997,15,12.75,11.95,11,14.15,15,6.0070671378091849E-2,-8.9205741716854442E-4]
["REAA","SOUTHWEST REGION","KOLIGANEK",43.65,35,37,55.75,58,83.85,78,80,83,72.5,75.95,74.45,79,63.05,61.95,39.25,56.35,57,50.9,56.5,56,56.45,57.6,58.7,58.6,50.95,49.55,56.45,53.45,45.25,53.15,46.3,50.45,55.1,49.65,-9.8911070780399318E-2,7.6614788655418355E-3]
["REAA","SOUTHWEST REGION","LEVELOK","Moved to Lake and Peninsula School District",null,null,null,"closed","closed","closed","closed","closed","closed","closed","closed","closed","closed","closed","closed","closed","closed","closed","closed","closed","closed","closed","closed","closed","closed","closed","closed","closed","closed","closed","closed","closed","closed","closed","n/a","n/a"]
["REAA","SOUTHWEST REGION","MANOKOTAK",96.2,109,121,124.3,123.65,124.65,129.30000000000001,137.05000000000001,139.25,134,135.69999999999999,143.25,142,129.75,139.30000000000001,130.65,131.30000000000001,122,121.25,127.85,117.35,125.95,122.95,137.15,125.35,124.18,122.25,124.41,125.15,110,113.2,117.9,130.19999999999999,133.5,122.95,-7.9026217228464396E-2,2.9771875759998919E-3]
["REAA","SOUTHWEST REGION","NEW STUYAHOK",88,93,99,114.5,115.55,134.5,153.30000000000001,161.65,169.25,163.80000000000001,160,181.15,165.05,171.75,169,176.5,173.9,158.35,146.25,155.9,152,156.30000000000001,128.25,132.65,133.65,135.25,125.55,134.94999999999999,131.6,135.1,140.75,127.95,131.35,129.75,128.25,-1.1560693641618497E-2,3.794098048084173E-3]
["REAA","SOUTHWEST REGION","PORTAGE CREEK",null,null,null,null,null,null,9,8,10,10,11,14,14.4,10,7,"closed","closed","closed","closed","closed","closed","closed","closed","closed","closed","closed","closed","closed","closed","closed","closed","closed","closed","closed","closed","n/a","n/a"]
["REAA","SOUTHWEST REGION","TOGIAK",147.44999999999999,149.19999999999999,143.4,168.5,185.65,193.05,220.35,253.5,266.05,268.45,272.89999999999998,249.85,228.9,217.9,230.7,233.3,228.8,228.8,234.35,227.7,227.8,222.4,221.6,220.2,212.3,205.83,214.5,200.60000000000002,211.15,211.97,216.4,208.75,201,190.45,181.05,-4.9356786558151629E-2,-2.0218532651049566E-2]
["REAA","SOUTHWEST REGION","TWIN HILLS",7,11,16,16.100000000000001,17,12,11,14.1,12.2,15.9,15,12,16,14,13,12,12,16,14,14,16,19,16,18,18.2,21,25.05,23.95,17.600000000000001,23.950000000000003,25.5,20,17.7,22,26.95,0.22499999999999998,3.1714665119980716E-2]
["REAA","SOUTHWEST REGION","TOTAL",{"$f":"SUM(D310:D319)","v":437.3},{"$f":"SUM(E310:E319)","v":470.5},478.85,554.25,568.30000000000007,616,700.8,743.1,774.7,758.25,767.91,758.6,721.25,676.95,705.95,668.7,673.65000000000009,657.7,633.5,639.84999999999991,627.45000000000005,633.1,586.1,601.70000000000005,588.75,579.96,578.44999999999993,592.61000000000013,{"$f":"SUM(AF310:AF319)","v":593.16999999999996},584.37,605.25,573.29999999999995,580.75,577.84999999999991,560.95000000000005,-2.9246344206973897E-2,-3.4642029061689983E-3]
["C/B","ST. MARY'S","ST. MARY'S",115.6,105.5,97.73,90.1,108.5,129.1,130,131.80000000000001,129.9,144.15,137.69999999999999,152.85,167.16,147.5,154.69999999999999,164.8,185.35,186.3,176.8,164.15,176.5,180.9,182.5,202.85,197.6,193.2,200.55,180.8,184.35,182.75,192.85,200.05,189.1,178.3,160.94999999999999,-9.7307908020190806E-2,-2.5509844777669658E-2]
["C/B","ST. MARY'S","TOTAL",{"$f":"SUM(D321)","v":115.6},{"$f":"SUM(E321)","v":105.5},97.73,90.1,108.5,129.1,130,131.80000000000001,129.9,144.15,137.69999999999999,152.85,167.16,147.5,154.69999999999999,164.8,185.35,186.3,176.8,164.15,176.5,180.9,182.5,202.85,197.6,193.2,200.55,180.8,{"$f":"SUM(AF321)","v":184.35},182.75,192.85,200.05,189.1,178.3,160.94999999999999,-9.7307908020190806E-2,-2.5509844777669658E-2]
["C/B","TANANA","TANNANA",109,100,98,101,102.25,93,102,113,101,89.75,76,54.48,61.8,62.5,61.8,57.55,53.95,57.4,39.15,43.25,41.45,34,48.5,40.6,38.5,39,36,45.5,51.15,33,29.55,26.05,30.5,29.3,"YKSD","n/a","n/a"]
["C/B","TANANA","TOTAL",{"$f":"SUM(D323)","v":109},{"$f":"SUM(E323)","v":100},98,101,102.25,93,102,113,101,89.75,76,54.48,61.8,62.5,61.8,57.55,53.95,57.4,39.15,43.25,41.45,34,48.5,40.6,38.5,39,36,45.5,{"$f":"SUM(AF323)","v":51.15},33,29.55,26.05,30.5,29.3,0,-1,-0.13228521174669849]
["C/B","UNALASKA","UNALASKA",258.05,304.45,330.2,358.6,356.1,352.8,374.6,380.1,{"$f":"198.38+154.65","v":353.03},351.91,351.34,368.9,392.95,398.55,398.7,397.5,385.75,387.75,402.35,402.7,406.75,413.6,414.55,407.25,395.6,374.6,388.7,400.75,421,412.25,386.9,354.5,346.15,351.55,332.35,{"$f":"IFERROR((AL325-AK325)/AK325,\"n/a\")","v":-5.4615275209785201E-2},{"$f":"IFERROR(((AL325-AK325)/AK325+(AK325-AJ325)/AJ325+(AJ325-AI325)/AI325+(AI325-AH325)/AH325+(AH325-AG325)/AG325+(AG325-AF325)/AF325+(AF325-AE325)/AE325+(AE325-AD325)/AD325)/8,\"n/a\")","v":-1.8382075809332495E-2}]
["C/B","UNALASKA","TOTAL",{"$f":"SUM(D325)","v":258.05},{"$f":"SUM(E325)","v":304.45},330.2,358.6,356.1,352.8,374.6,380.1,353.03,351.91,351.34,368.9,392.95,398.55,398.7,397.5,385.75,387.75,402.35,402.7,406.75,413.6,414.55,407.25,395.6,374.6,388.7,400.75,{"$f":"SUM(AF325)","v":421},412.25,386.9,354.5,346.15,351.55,332.35,-5.4615275209785201E-2,-1.8382075809332495E-2]
["C/B","VALDEZ","VALDEZ",781.5,853.75,906.9,896.9,902.75,895.75,877,{"$f":"497.55+390.2","v":887.75},{"$f":"481.45+140.95+232.65","v":855.05},865.2,864.75,883.6,866.7,864.25,827.6,797.13,748.35,724.5,691.6,671.4,675.9,675.5,635.65,609.36,595.01,616.9,603.4,618.38,630.25,658.64999999999986,541.5,614.80999999999995,572.99,560.74,564.15,6.0812497770802295E-3,-4.5895847007847617E-3]
["C/B","VALDEZ","TOTAL",{"$f":"SUM(D327)","v":781.5},{"$f":"SUM(E327)","v":853.75},906.9,896.9,902.75,895.75,877,887.75,855.05,865.2,864.75,883.6,866.7,864.25,827.6,797.13,748.35,724.5,691.6,671.4,675.9,675.5,635.65,609.36,595.01,616.9,603.4,618.38,{"$f":"SUM(AF327)","v":630.25},658.64999999999986,541.5,614.80999999999995,572.99,560.74,564.15,6.0812497770802295E-3,-4.5895847007847617E-3]
["C/B","WRANGELL","WRANGELL",508.9,534,519.20000000000005,541.20000000000005,566.85,555,528,{"$f":"288.25+232.9","v":521.15},{"$f":"225.35+161.8+47.15+92.33","v":526.63},505.05,488.35,465.95,435.45,391.78,375.3,369.85,354.74,346.45,319.73,312.25,311.64999999999998,311.8,303.39999999999998,269.35000000000002,271.75,269.85000000000002,272.64999999999998,291.48,302.5,306.39999999999998,178.8,257.5,262.05,258.8,259.35000000000002,2.1251931993818058E-3,1.8857864122577894E-2]
["C/B","WRANGELL","TOTAL",{"$f":"SUM(D329)","v":508.9},{"$f":"SUM(E329)","v":534},519.20000000000005,541.20000000000005,566.85,555,528,521.15,526.63,505.05,488.35,465.95,435.45,391.78,375.3,369.85,354.74,346.45,319.73,312.25,311.64999999999998,311.8,303.39999999999998,269.35000000000002,271.75,269.85000000000002,272.64999999999998,291.48,{"$f":"SUM(AF329)","v":302.5},306.39999999999998,178.8,257.5,262.05,258.8,259.35000000000002,2.1251931993818058E-3,1.8857864122577894E-2]
["REAA","YAKUTAT","YAKUTAT",150,139,136,150,167,175,160,161,166,159.75,151.25,161,144.25,125,133.15,132.5,117.75,121.85,121.25,110.3,119.25,104.9,88.25,90.05,89.05,68.489999999999995,60.76,61.9,66.099999999999994,80.75,71.400000000000006,75.099999999999994,72.75,75.150000000000006,67.3,-0.1044577511643381,1.76898984821789E-2]
["REAA","YAKUTAT","ICY BAY",null,null,null,null,null,null,null,8,6,null,15,11,"closed","closed","closed","closed","closed","closed","closed","closed","closed","closed","closed","closed","closed","closed","closed","closed","closed","closed","closed","closed","closed","closed","closed","n/a","n/a"]
["REAA","YAKUTAT","TOTAL",{"$f":"SUM(D331:D332)","v":150},{"$f":"SUM(E331:E332)","v":139},136,150,167,175,160,169,172,159.75,166.25,172,144.25,125,133.15,132.5,117.75,121.85,121.25,110.3,119.25,104.9,88.25,90.05,89.05,68.489999999999995,60.76,61.9,{"$f":"SUM(AF331:AF332)","v":66.099999999999994},80.75,71.400000000000006,75.099999999999994,72.75,75.150000000000006,67.3,-0.1044577511643381,1.76898984821789E-2]
["REAA","YUKON FLATS","ARCTIC VILLAGE",32,25.35,33,39.700000000000003,38.5,43.85,47.95,44.25,47.25,49.9,39.1,45,49,37,38,32.5,39,41.14,32,32.4,23.4,29.5,27.65,28.3,33.25,31.65,39,33.950000000000003,37.1,35.099999999999994,37.1,31.65,30,24.5,23.15,-5.5102040816326588E-2,-5.8887539782608925E-2]
["REAA","YUKON FLATS","BEAVER",17,17.77,28,24.1,18,23.75,23,29,28,25.1,19,17.45,19.45,16,15,15,11.25,10,10.75,13,10,13,10.8,10.65,10,8.5,14,13,10,11.65,10,11,10,7,14.3,1.0428571428571429,5.9139918557837012E-2]
["REAA","YUKON FLATS","BIRCH CREEK",16,14.15,14,11,10.25,7.15,9.1999999999999993,8.4,7.9,"closed","closed","closed","closed","closed","closed","closed","closed","closed","closed","closed","closed","closed","closed","closed","closed","closed","closed","closed","closed","closed","closed","closed","closed","closed","closed","n/a","n/a"]
["REAA","YUKON FLATS","CENTRAL",12.65,7.15,null,null,15,13.9,11,21,16.7,17,19.899999999999999,14,12.5,11,11,10.4,13,11,12,10,"closed","closed","closed","closed","closed","closed","closed","closed","closed","closed","closed","closed","closed","closed","closed","n/a","n/a"]
["REAA","YUKON FLATS","CHALKYITSIK",25,28,26,25.8,21,16.75,20.7,18,22.75,17.899999999999999,15,21.8,20.5,24,17.600000000000001,21,18.7,20,20,19.899999999999999,11,17.75,12,15.05,10.8,10.65,17,11.75,12,10.25,12,14,15.3,12,32,1.6666666666666667,0.18098195524966604]
["REAA","YUKON FLATS","CIRCLE",21.5,24.85,23,22,28,22.5,22,28,27.4,33.1,24.6,27.95,22.7,23,22.25,20.079999999999998,22.3,21.68,22.75,19,21,15,21.75,16.5,21.25,16.05,23,15.75,14.2,13.100000000000001,14.2,18.5,16,20.5,16,-0.21951219512195122,-2.2213230206152665E-2]
["REAA","YUKON FLATS","FORT YUKON",143,146.9,143.55000000000001,154.19999999999999,138.69999999999999,146.94999999999999,167.95,178.5,133.19999999999999,138.9,126.25,110.15,115.05,123,121.4,117.3,118.03,120.9,114.5,110.4,114.45,112.4,115.1,120.75,108.3,110.05,97.15,106.8,95.7,93.7,95.7,86,68.5,76.95,77.55,7.7972709551656178E-3,-2.2230928216728982E-2]
["REAA","YUKON FLATS","NORTHERN LIGHTS",null,null,null,22.2,25,25.3,27.5,24,7,"closed","closed","closed","closed","closed","closed","closed","closed","closed","closed","closed","closed","closed","closed","closed","closed","closed","closed","closed","closed","closed","closed","closed","closed","closed","closed","n/a","n/a"]
["REAA","YUKON FLATS","RAMMPART",21,18,18,16,18.8,20.75,12.3,10,5,"closed","closed","closed","closed","closed","closed","closed","closed","closed","closed","closed","closed","closed","closed","closed","closed",10,"YKSD","YKSD","YKSD","YKSD","YKSD","YKSD","YKSD","YKSD","YKSD","n/a","n/a"]
["REAA","YUKON FLATS","STEVENS VILLAGE",20,18,25,29,27,34.299999999999997,28,30.05,25.35,17,21.1,19.55,18.75,16,12.65,10,8.1,10,11.5,15,11.8,11,12.65,1.7,"closed","closed","closed","closed","closed","closed","closed","closed","closed","closed","closed","n/a","n/a"]
["REAA","YUKON FLATS","VENETIE",66.599999999999994,77.7,77.3,54.9,64.900000000000006,54.5,74.400000000000006,57.05,44.2,42.2,42.05,38.049999999999997,43.3,50,38,44.05,35.5,46.02,47.3,52,55,57.1,56.6,50.85,56.4,50.65,58.65,58.15,51.15,50,51.15,43.2,42.75,43.25,11.45,-0.73526011560693638,-0.12722405879040094]
["REAA","YUKON FLATS","TOTAL",{"$f":"SUM(D334:D344)","v":374.75},{"$f":"SUM(E334:E344)","v":377.87},387.85,398.9,405.15,409.70000000000005,444,448.25,364.75,341.09999999999997,307,293.95000000000005,301.25,300,275.89999999999998,270.33,265.88,280.74,270.8,271.7,246.65000000000003,255.75,256.55,243.79999999999998,240,237.54999999999998,248.8,239.4,{"$f":"SUM(AF334:AF344)","v":220.15},213.8,220.15,204.35000000000002,182.55,184.2,{"$f":"SUM(AL334:AL344)","v":174.45},-5.2931596091205214E-2,-4.2459495419787933E-2]
["REAA","YUKON-KOYUKUK","ALLAKAKET",42.2,44,44.85,52,35.799999999999997,52.65,52.25,54.05,53.65,48.75,47,44,52,44,54,51.8,46,42,40,38.9,40.75,35.5,40.5,36,31.95,30.55,26.75,25,23,32,22.55,29,24,32,27,-0.15625,3.0158983679613942E-2]
["REAA","YUKON-KOYUKUK","BETTLES",12.25,9.25,8,9,15.15,8.6999999999999993,9,7,14,16,17,10.6,0,"closed","closed","closed","closed","closed","closed","closed","closed","closed","closed","closed","closed","closed","closed","closed","closed","closed","closed","closed","closed","closed","closed","n/a","n/a"]
["REAA","YUKON-KOYUKUK","COLDFOOT",null,null,null,null,null,null,null,null,null,null,null,14.05,9.0500000000000007,"closed","closed","closed","closed","closed","closed","closed","closed","closed","closed","closed","closed","closed","closed","closed","closed","closed","closed","closed","closed","closed","closed","n/a","n/a"]
["REAA","YUKON-KOYUKUK","HUGHES",13.9,13,17,16.3,12,15,12,12.15,14.7,16,11,14,17,15,17,12.4,13,15,10.3,12,14.65,15,11.25,12,11,12.75,13.25,16,18.75,18,18,13,24.4,25,28,0.12,0.13539470411138077]
["REAA","YUKON-KOYUKUK","HUSLIA",50.5,66.5,69.7,75,81.25,84.6,69.3,75.55,80,83.95,67.05,80.3,68,69.75,72,75,77.95,79,78.099999999999994,72,78,79.599999999999994,83.25,84.2,73.7,94.9,82.7,74.650000000000006,74,82.55,94.25,94.6,84,87.88,88.95,1.2175694128356935E-2,1.2656837391885346E-2]
["REAA","YUKON-KOYUKUK","KALTAG",68.75,70,78,70,67,72.05,78,77.3,82,68.25,56.65,53.8,56.25,43,39.4,44.05,37,25.5,24.6,27.15,28.45,29,26,23.5,20.75,18.100000000000001,14,22,22.25,22.6,21.9,17.850000000000001,23.95,23.6,23.85,1.059322033898305E-2,9.004171537566602E-2]
["REAA","YUKON-KOYUKUK","KOYUKUK",25,24,30.55,36.700000000000003,36.6,35.799999999999997,35.25,29.1,19.5,16.45,15.7,22.8,22.2,21,16,15,17,11,12,10.7,14,11,11,15,15,17,14,11,13,14,14.8,11,12,11.85,9.9499999999999993,-0.16033755274261607,-2.9635852123985038E-2]
["REAA","YUKON-KOYUKUK","MANLEY HOT SPRINGS",16.8,23.5,22,20.2,24,26.3,14,17,13.3,15.95,15,12,15.75,14.5,10,11,10,11.1,10.8,13,12,11.25,14,13,17,14,15,13,11.85,"closed","closed","closed","closed","closed","closed","n/a","n/a"]
["REAA","YUKON-KOYUKUK","MINTO",58.85,63.5,72.849999999999994,76.400000000000006,88.45,100.5,85.5,75.8,81.400000000000006,83.85,78.900000000000006,74.25,59.75,74.25,59,47,39,53.4,43.5,54.4,38.5,33.9,41.8,43,48.6,49.55,53.5,48.9,41,43.75,43.35,42.85,60.45,56.1,53,-5.5258467023172927E-2,1.0297143163029793E-2]
["REAA","YUKON-KOYUKUK","NULATO",169.35,180.15,181.7,181.2,160.85,164,129.30000000000001,125.2,127.45,118.65,116.1,117.05,101.85,103.4,80.849999999999994,73.5,67,48,44.8,36,33.450000000000003,36.700000000000003,41,43.4,36,40.049999999999997,49.15,46,44.3,40.849999999999994,42,40.6,49.9,58,43.95,-0.24224137931034478,-4.3697995748544216E-3]
["REAA","YUKON-KOYUKUK","RAMPART",null,null,null,null,null,null,null,null,null,null,null,null,null,null,null,"closed","closed","closed","closed","closed","closed","closed","closed","closed","closed",10,12,12.3,13,15,14,14,15.05,14,10.08,-0.27999999999999997,-1.3209673196910852E-2]
["REAA","YUKON-KOYUKUK","RUBY",54.8,55.6,60,62,69,65.5,71,72.7,62.9,57,46.7,53.9,43,49.15,45.35,41,39.25,35,32.35,33.75,32.1,30.25,26.55,37,33,27.65,28.25,27.75,30,23,31,24.45,22.71,20.9,22.18,6.1244019138756038E-2,-1.5379725048587155E-2]
["REAA","YUKON-KOYUKUK","TANANA",null,null,null,null,null,null,null,null,null,null,null,null,null,null,null,null,null,null,null,null,"closed","closed","closed","closed","closed","closed","closed","closed","closed","closed","closed","closed","closed","closed",24.7,"n/a","n/a"]
["REAA","YUKON/KOYUKUK","TOTAL",{"$f":"SUM(D346:D357)","v":512.4},{"$f":"SUM(E346:E357)","v":549.5},584.65000000000009,598.79999999999995,590.09999999999991,625.1,555.6,545.85,548.90000000000009,524.84999999999991,471.09999999999997,496.75,444.85,434.04999999999995,393.6,370.75,346.2,320,296.45,297.89999999999998,291.90000000000003,282.2,295.35000000000002,307.09999999999997,287,314.54999999999995,308.59999999999997,296.60000000000002,{"$f":"SUM(AF346:AF357)","v":291.14999999999998},291.75,301.85000000000002,287.34999999999997,316.45999999999998,329.32999999999993,{"$f":"SUM(AL346:AL358)","v":331.65999999999997},7.0749703944373169E-3,1.005385139515442E-2]
["REAA","YUPIIT","AKIACHAK",138,150,154,148,140,155,170,170,161.4,155,175,197.75,182.9,187.15,190.9,198.85,207.75,209.55,206.75,198.5,194.85,180.65,178.1,189.45,205.75,208.5,197.8,197.8,199.6,210.7,211.45,201.55,220.2,240.05,258.14999999999998,7.5400958133721996E-2,3.4941307330503935E-2]
["REAA","YUPIIT","AKIAK",75,101,98,112,123,114,121,114,111.65,107,102,103.4,100.6,97.85,101.5,101.55,103.35,96.75,101,112.5,113.15,106.65,102.55,106.1,108.15,115.55,129.5,108.9,121.05000000000001,133.70000000000002,147.19999999999999,134.69999999999999,140.65,136.15,139.35,2.3503488799118535E-2,1.3591802470451917E-2]
["REAA","YUPIIT","TULUKSAK",107,109,115,106,104,112,110,113,128.9,136,143,144.44999999999999,140.5,149.25,152.75,145.75,147.15,153.75,137,137.9,142.4,160.5,150.44999999999999,142.94999999999999,139.75,132.4,143.44999999999999,125.6,120.35000000000001,114.2,140.25,108.95,103.1,121.5,133,9.4650205761316872E-2,8.781393219866318E-4]
["REAA","YUPIIT","TOTAL",{"$f":"SUM(D360:D362)","v":320},{"$f":"SUM(E360:E362)","v":360},367,366,367,381,401,397,401.95000000000005,398,420,445.59999999999997,424,434.25,445.15,446.15,458.25,460.05,444.75,448.9,450.4,447.8,431.09999999999997,438.49999999999994,453.65,456.45000000000005,470.75,432.30000000000007,{"$f":"SUM(AF360:AF362)","v":441},458.59999999999997,498.9,445.2,463.95000000000005,497.70000000000005,530.5,6.5903154510749351E-2,1.7419918292172532E-2]
["ALL","ALL DISTRICTS","TOTAL ATTENDANCE AREAS",{"$f":"SUMIF($C3:$C363,\"total\",D3:D363)","v":116083.18499999998},123499.91999999998,128096.37999999999,130252.46000000004,131750.01999999999,133978.20000000001,137230.44999999998,139374.91,133730.02000000002,129360.95000000001,128712.35999999997,128911.87999999999,128550.76999999999,120557.14000000003,122462.03000000001,120238.63,121357.36000000002,117925.76999999999,116996.59999999999,117700.87000000002,114914.30999999997,114523.57,114309.97099999999,113224.93000000001,112970.37000000002,113844.34000000001,113632.1,{"$f":"SUMIF($C3:$C363,\"total\",AE3:AE363)","v":112205.22999999998},110385.34999999995,109621.27999999998,94628.909999999974,101858.60000000006,102739.35,101513.38000000002,98210.160000000033,-3.2539749932471815E-2,-1.6486057738888008E-2]
["end workbook"]
[]
[]
[null,null,null,null,null,null,null,null,null,null,null,null,{"$f":"M364-M366","v":129360.95000000001},128712.35999999997,128911.87999999999,128550.76999999999,120557.14000000003,122462.03000000001,120238.63,{"$f":"T364-T366","v":121357.36000000002}]